BEGIN:VCALENDAR
VERSION:2.0
PRODID:-//Coparmex - ECPv5.16.3//NONSGML v1.0//EN
CALSCALE:GREGORIAN
METHOD:PUBLISH
X-ORIGINAL-URL:https://coparmexnl.org.mx
X-WR-CALDESC:Eventos para Coparmex
REFRESH-INTERVAL;VALUE=DURATION:PT1H
X-Robots-Tag:noindex
X-PUBLISHED-TTL:PT1H
BEGIN:VTIMEZONE
TZID:America/Chicago
BEGIN:DAYLIGHT
TZOFFSETFROM:-0600
TZOFFSETTO:-0500
TZNAME:CDT
DTSTART:20260308T080000
END:DAYLIGHT
BEGIN:STANDARD
TZOFFSETFROM:-0500
TZOFFSETTO:-0600
TZNAME:CST
DTSTART:20261101T070000
END:STANDARD
TZID:UTC
BEGIN:STANDARD
TZOFFSETFROM:+0000
TZOFFSETTO:+0000
TZNAME:UTC
DTSTART:20260101T000000
END:STANDARD
END:VTIMEZONE
BEGIN:VEVENT
DTSTART;TZID=America/Chicago:20260303T080000
DTEND;TZID=America/Chicago:20260303T113000
DTSTAMP:20260424T043132
CREATED:20260203T180701Z
LAST-MODIFIED:20260209T224549Z
UID:53825-1772524800-1772537400@coparmexnl.org.mx
SUMMARY:Asamblea 2026
DESCRIPTION:
URL:https://coparmexnl.org.mx/?post_type=thegem_news&#038;p=53824&#038;preview=true
CATEGORIES:Desayunos Empresariales
ATTACH;FMTTYPE=image/png:https://coparmexnl.org.mx/wp-content/uploads/2025/11/CPNL-LOGO-2019.png
END:VEVENT
BEGIN:VEVENT
DTSTART;TZID=America/Chicago:20260310T090000
DTEND;TZID=America/Chicago:20260310T180000
DTSTAMP:20260424T043132
CREATED:20251218T190527Z
LAST-MODIFIED:20260116T155939Z
UID:53148-1773133200-1773165600@coparmexnl.org.mx
SUMMARY:FORMACIÓN DE LÍDERES EN INNOVACIÓN
DESCRIPTION:
URL:https://coparmexnl.org.mx/news/formacion-de-lideres-en-innovacion/
CATEGORIES:Capacitación
ATTACH;FMTTYPE=image/jpeg:https://coparmexnl.org.mx/wp-content/uploads/2025/12/Líderes-en-Innovación-.jpg
END:VEVENT
BEGIN:VEVENT
DTSTART;TZID=UTC:20260311T090000
DTEND;TZID=UTC:20260311T130000
DTSTAMP:20260424T043132
CREATED:20251126T172734Z
LAST-MODIFIED:20260107T161150Z
UID:52885-1773219600-1773234000@coparmexnl.org.mx
SUMMARY:Retroalimentación 360°
DESCRIPTION:
URL:https://coparmexnl.org.mx/news/retroalimentacion-360-3/
CATEGORIES:Capacitación
END:VEVENT
BEGIN:VEVENT
DTSTART;TZID=America/Chicago:20260317T090000
DTEND;TZID=America/Chicago:20260317T130000
DTSTAMP:20260424T043132
CREATED:20251126T173006Z
LAST-MODIFIED:20260107T161238Z
UID:52887-1773738000-1773752400@coparmexnl.org.mx
SUMMARY:Conversaciones de Calidad
DESCRIPTION:
URL:https://coparmexnl.org.mx/news/conversaciones-de-calidad-4/
CATEGORIES:Capacitación
END:VEVENT
BEGIN:VEVENT
DTSTART;TZID=America/Chicago:20260317T090000
DTEND;TZID=America/Chicago:20260317T130000
DTSTAMP:20260424T043132
CREATED:20260114T180436Z
LAST-MODIFIED:20260114T180436Z
UID:53636-1773738000-1773752400@coparmexnl.org.mx
SUMMARY:Transformación Digital para PYMES
DESCRIPTION:
URL:https://coparmexnl.org.mx/news/transformacion-digital-para-pymes/
CATEGORIES:Capacitación
END:VEVENT
BEGIN:VEVENT
DTSTART;TZID=UTC:20260318T090000
DTEND;TZID=UTC:20260318T130000
DTSTAMP:20260424T043132
CREATED:20251126T173523Z
LAST-MODIFIED:20260107T161411Z
UID:52891-1773824400-1773838800@coparmexnl.org.mx
SUMMARY:Negociación
DESCRIPTION:
URL:https://coparmexnl.org.mx/news/negociacion-3/
CATEGORIES:Capacitación
END:VEVENT
BEGIN:VEVENT
DTSTART;TZID=America/Chicago:20260318T120000
DTEND;TZID=America/Chicago:20260318T130000
DTSTAMP:20260424T043132
CREATED:20260226T164019Z
LAST-MODIFIED:20260226T215306Z
UID:53979-1773835200-1773838800@coparmexnl.org.mx
SUMMARY:Webinar: Psicología del Dinero
DESCRIPTION:
URL:https://coparmexnl.org.mx/news/webinar-psicologia-del-dinero/
CATEGORIES:Webinar
ATTACH;FMTTYPE=image/png:https://coparmexnl.org.mx/wp-content/uploads/2026/02/P.-DINERO-2026.png
END:VEVENT
BEGIN:VEVENT
DTSTART;TZID=America/Chicago:20260319T083000
DTEND;TZID=America/Chicago:20260319T103000
DTSTAMP:20260424T043132
CREATED:20260220T174254Z
LAST-MODIFIED:20260223T204544Z
UID:53963-1773909000-1773916200@coparmexnl.org.mx
SUMMARY:Diálogo: Mujer y liderazgo: Los principales desafíos y cómo abordarlos desde la experiencia
DESCRIPTION:
URL:https://coparmexnl.org.mx/news/dialogo-mujer-y-liderazgo-los-principales-desafios-y-como-abordarlos-desde-la-experiencia/
CATEGORIES:Desayunos Empresariales
ATTACH;FMTTYPE=image/jpeg:https://coparmexnl.org.mx/wp-content/uploads/2026/02/WhatsApp-Image-2026-02-23-at-12.18.34-PM.jpeg
END:VEVENT
BEGIN:VEVENT
DTSTART;TZID=UTC:20260323T090000
DTEND;TZID=UTC:20260323T130000
DTSTAMP:20260424T043132
CREATED:20260226T162527Z
LAST-MODIFIED:20260226T162741Z
UID:53986-1774256400-1774270800@coparmexnl.org.mx
SUMMARY:Orientación a Resultados: Lo Hacemos y Vamos por Ello
DESCRIPTION:
URL:https://coparmexnl.org.mx/news/orientacion-a-resultados-lo-hacemos-y-vamos-por-ello/
CATEGORIES:Capacitación
END:VEVENT
BEGIN:VEVENT
DTSTART;TZID=UTC:20260324T090000
DTEND;TZID=UTC:20260324T130000
DTSTAMP:20260424T043132
CREATED:20251126T172521Z
LAST-MODIFIED:20251126T172521Z
UID:52883-1774342800-1774357200@coparmexnl.org.mx
SUMMARY:Excel Avanzado y Macros
DESCRIPTION:
URL:https://coparmexnl.org.mx/news/curso-taller-excel-avanzado-y-macros-4/
LOCATION:On -Line
CATEGORIES:Capacitación
END:VEVENT
BEGIN:VEVENT
DTSTART;TZID=America/Chicago:20260325T120000
DTEND;TZID=America/Chicago:20260325T130000
DTSTAMP:20260424T043132
CREATED:20260304T213108Z
LAST-MODIFIED:20260305T181220Z
UID:54011-1774440000-1774443600@coparmexnl.org.mx
SUMMARY:“De los nervios al mensaje: cómo presentar ideas sin trabarte y sin relleno”
DESCRIPTION:
URL:https://coparmexnl.org.mx/news/de-los-nervios-al-mensaje-como-presentar-ideas-sin-trabarte-y-sin-relleno/
CATEGORIES:Webinar
ATTACH;FMTTYPE=image/jpeg:https://coparmexnl.org.mx/wp-content/uploads/2026/03/Flayer-De-los-nervios-al-mensaje.jpeg
END:VEVENT
END:VCALENDAR