BEGIN:VCALENDAR
VERSION:2.0
PRODID:-//Coparmex - ECPv5.16.3//NONSGML v1.0//EN
CALSCALE:GREGORIAN
METHOD:PUBLISH
X-WR-CALNAME:Coparmex
X-ORIGINAL-URL:https://coparmexnl.org.mx
X-WR-CALDESC:Eventos para Coparmex
REFRESH-INTERVAL;VALUE=DURATION:PT1H
X-Robots-Tag:noindex
X-PUBLISHED-TTL:PT1H
BEGIN:VTIMEZONE
TZID:America/Chicago
BEGIN:DAYLIGHT
TZOFFSETFROM:-0600
TZOFFSETTO:-0500
TZNAME:CDT
DTSTART:20240310T080000
END:DAYLIGHT
BEGIN:STANDARD
TZOFFSETFROM:-0500
TZOFFSETTO:-0600
TZNAME:CST
DTSTART:20241103T070000
END:STANDARD
END:VTIMEZONE
BEGIN:VEVENT
DTSTART;TZID=America/Chicago:20240124T083000
DTEND;TZID=America/Chicago:20240124T100000
DTSTAMP:20260421T040453
CREATED:20240103T230917Z
LAST-MODIFIED:20240105T195602Z
UID:47665-1706085000-1706090400@coparmexnl.org.mx
SUMMARY:Panorama económico y laboral 2024
DESCRIPTION:
URL:https://coparmexnl.org.mx/news/panorama-economico-y-laboral-2024/
CATEGORIES:Desayunos Empresariales
ATTACH;FMTTYPE=image/jpeg:https://coparmexnl.org.mx/wp-content/uploads/2024/01/panorama-ene-24.jpg
END:VEVENT
BEGIN:VEVENT
DTSTART;TZID=America/Chicago:20240125T160000
DTEND;TZID=America/Chicago:20240125T173000
DTSTAMP:20260421T040453
CREATED:20240105T173301Z
LAST-MODIFIED:20240105T215306Z
UID:47679-1706198400-1706203800@coparmexnl.org.mx
SUMMARY:Tendencias en recursos humanos para éste 2024
DESCRIPTION:
URL:https://coparmexnl.org.mx/news/tendencias-en-recursos-humanos-para-este-2024/
CATEGORIES:Webinar
ATTACH;FMTTYPE=image/jpeg:https://coparmexnl.org.mx/wp-content/uploads/2024/01/tendencia-ene-24.jpg
END:VEVENT
END:VCALENDAR