BEGIN:VCALENDAR
VERSION:2.0
PRODID:-//Coparmex - ECPv5.16.3//NONSGML v1.0//EN
CALSCALE:GREGORIAN
METHOD:PUBLISH
X-ORIGINAL-URL:https://coparmexnl.org.mx
X-WR-CALDESC:Eventos para Coparmex
REFRESH-INTERVAL;VALUE=DURATION:PT1H
X-Robots-Tag:noindex
X-PUBLISHED-TTL:PT1H
BEGIN:VTIMEZONE
TZID:America/Chicago
BEGIN:DAYLIGHT
TZOFFSETFROM:-0600
TZOFFSETTO:-0500
TZNAME:CDT
DTSTART:20230312T080000
END:DAYLIGHT
BEGIN:STANDARD
TZOFFSETFROM:-0500
TZOFFSETTO:-0600
TZNAME:CST
DTSTART:20231105T070000
END:STANDARD
END:VTIMEZONE
BEGIN:VEVENT
DTSTART;TZID=America/Chicago:20230907T083000
DTEND;TZID=America/Chicago:20230907T103000
DTSTAMP:20260421T034812
CREATED:20230816T151423Z
LAST-MODIFIED:20230817T170029Z
UID:46810-1694075400-1694082600@coparmexnl.org.mx
SUMMARY:ERRADICANDO LA VIOLENCIA Y EL ACOSO EN EL TRABAJO
DESCRIPTION:
URL:https://coparmexnl.org.mx/news/erradicando-la-violencia-y-el-acoso-en-el-trabajo/
CATEGORIES:Desayunos Empresariales
ATTACH;FMTTYPE=image/jpeg:https://coparmexnl.org.mx/wp-content/uploads/2023/08/FLYER.jpeg
END:VEVENT
BEGIN:VEVENT
DTSTART;TZID=America/Chicago:20230919T120000
DTEND;TZID=America/Chicago:20230919T133000
DTSTAMP:20260421T034812
CREATED:20230802T175058Z
LAST-MODIFIED:20230823T224106Z
UID:46712-1695124800-1695130200@coparmexnl.org.mx
SUMMARY:RSE ES COMPETITIVIDAD
DESCRIPTION:
URL:https://coparmexnl.org.mx/news/rse-es-competitividad/
CATEGORIES:Webinar
ATTACH;FMTTYPE=image/jpeg:https://coparmexnl.org.mx/wp-content/uploads/2023/08/RSE-FINAL-FLYER-1-scaled.jpg
END:VEVENT
BEGIN:VEVENT
DTSTART;TZID=America/Chicago:20230928T083000
DTEND;TZID=America/Chicago:20230928T103000
DTSTAMP:20260421T034812
CREATED:20230814T224037Z
LAST-MODIFIED:20230817T182238Z
UID:46783-1695889800-1695897000@coparmexnl.org.mx
SUMMARY:Asamblea Ordinaria Informativa
DESCRIPTION:
URL:https://coparmexnl.org.mx/news/segunda-asamblea-ordinaria/
CATEGORIES:Webinar
ATTACH;FMTTYPE=image/jpeg:https://coparmexnl.org.mx/wp-content/uploads/2023/08/ASAMBLEA-ORDINARIA-INFORMATIVA-2023.jpeg
END:VEVENT
END:VCALENDAR