BEGIN:VCALENDAR
VERSION:2.0
PRODID:-//Coparmex - ECPv5.16.3//NONSGML v1.0//EN
CALSCALE:GREGORIAN
METHOD:PUBLISH
X-WR-CALNAME:Coparmex
X-ORIGINAL-URL:https://coparmexnl.org.mx
X-WR-CALDESC:Eventos para Coparmex
REFRESH-INTERVAL;VALUE=DURATION:PT1H
X-Robots-Tag:noindex
X-PUBLISHED-TTL:PT1H
BEGIN:VTIMEZONE
TZID:America/Chicago
BEGIN:DAYLIGHT
TZOFFSETFROM:-0600
TZOFFSETTO:-0500
TZNAME:CDT
DTSTART:20230312T080000
END:DAYLIGHT
BEGIN:STANDARD
TZOFFSETFROM:-0500
TZOFFSETTO:-0600
TZNAME:CST
DTSTART:20231105T070000
END:STANDARD
END:VTIMEZONE
BEGIN:VEVENT
DTSTART;TZID=America/Chicago:20230802T120000
DTEND;TZID=America/Chicago:20230802T130000
DTSTAMP:20260421T053531
CREATED:20230710T223323Z
LAST-MODIFIED:20230718T223903Z
UID:46533-1690977600-1690981200@coparmexnl.org.mx
SUMMARY:EL RETO DEL TRABAJO EN EL FUTURO
DESCRIPTION:
URL:https://coparmexnl.org.mx/news/el-reto-del-trabajo-en-el-futuro/
CATEGORIES:Webinar
ATTACH;FMTTYPE=image/jpeg:https://coparmexnl.org.mx/wp-content/uploads/2023/07/reto-futuro-scaled.jpg
END:VEVENT
BEGIN:VEVENT
DTSTART;TZID=America/Chicago:20230810T083000
DTEND;TZID=America/Chicago:20230810T103000
DTSTAMP:20260421T053531
CREATED:20230719T165022Z
LAST-MODIFIED:20230719T165022Z
UID:46608-1691656200-1691663400@coparmexnl.org.mx
SUMMARY:LA RENTABILIDAD DE LOS VALORES EN TU ORGANIZACIÓN: UN CASO PRACTICO Y DE EXITO- MERCO
DESCRIPTION:
URL:https://coparmexnl.org.mx/news/la-rentabilidad-de-los-valores-en-tu-organizacion-un-caso-practico-y-de-exito-merco/
CATEGORIES:Desayunos Empresariales
END:VEVENT
BEGIN:VEVENT
DTSTART;TZID=America/Chicago:20230824T160000
DTEND;TZID=America/Chicago:20230824T170000
DTSTAMP:20260421T053531
CREATED:20230816T215826Z
LAST-MODIFIED:20230816T215826Z
UID:46852-1692892800-1692896400@coparmexnl.org.mx
SUMMARY:Ortografía y redacción en acción: ideas para mejorar tu escritura en el mundo digital
DESCRIPTION:
URL:https://coparmexnl.org.mx/news/ortografia-y-redaccion-en-accion-ideas-para-mejorar-tu-escritura-en-el-mundo-digital/
CATEGORIES:Webinar
ATTACH;FMTTYPE=image/jpeg:https://coparmexnl.org.mx/wp-content/uploads/2023/08/ORTOGRAFIA-Y-REDACCION-EN-ACCION-FLYER-3.jpeg
END:VEVENT
BEGIN:VEVENT
DTSTART;TZID=America/Chicago:20230828T163000
DTEND;TZID=America/Chicago:20230828T180000
DTSTAMP:20260421T053531
CREATED:20230815T152642Z
LAST-MODIFIED:20230817T185708Z
UID:46786-1693240200-1693245600@coparmexnl.org.mx
SUMMARY:Inauguración del centro de orientación fiscal y plática sobre 5 claves para solventar una auditoría fiscal
DESCRIPTION:
URL:https://coparmexnl.org.mx/news/inauguracion-del-centro-de-orientacion-fiscal-y-platica-sobre-5-claves-para-solventar-una-auditoria-fiscal/
CATEGORIES:Desayunos Empresariales
ATTACH;FMTTYPE=image/jpeg:https://coparmexnl.org.mx/wp-content/uploads/2023/08/FLYER-1.jpeg
END:VEVENT
END:VCALENDAR