BEGIN:VCALENDAR
VERSION:2.0
PRODID:-//Coparmex - ECPv5.16.3//NONSGML v1.0//EN
CALSCALE:GREGORIAN
METHOD:PUBLISH
X-ORIGINAL-URL:https://coparmexnl.org.mx
X-WR-CALDESC:Eventos para Coparmex
REFRESH-INTERVAL;VALUE=DURATION:PT1H
X-Robots-Tag:noindex
X-PUBLISHED-TTL:PT1H
BEGIN:VTIMEZONE
TZID:America/Chicago
BEGIN:DAYLIGHT
TZOFFSETFROM:-0600
TZOFFSETTO:-0500
TZNAME:CDT
DTSTART:20230312T080000
END:DAYLIGHT
BEGIN:STANDARD
TZOFFSETFROM:-0500
TZOFFSETTO:-0600
TZNAME:CST
DTSTART:20231105T070000
END:STANDARD
END:VTIMEZONE
BEGIN:VEVENT
DTSTART;TZID=America/Chicago:20230622T120000
DTEND;TZID=America/Chicago:20230622T133000
DTSTAMP:20260421T084408
CREATED:20230615T224206Z
LAST-MODIFIED:20230615T224206Z
UID:46384-1687435200-1687440600@coparmexnl.org.mx
SUMMARY:TELETRABAJO -NOM-037-STPS-2023 -CONDICIONES DE SEGURIDAD Y SALUD EN EL TRABAJO
DESCRIPTION:
URL:https://coparmexnl.org.mx/news/teletrabajo-nom-037-stps-2023-condiciones-de-seguridad-y-salud-en-el-trabajo/
CATEGORIES:Webinar
END:VEVENT
BEGIN:VEVENT
DTSTART;TZID=America/Chicago:20230630T080000
DTEND;TZID=America/Chicago:20230630T110000
DTSTAMP:20260421T084408
CREATED:20230622T182652Z
LAST-MODIFIED:20230622T182652Z
UID:46414-1688112000-1688122800@coparmexnl.org.mx
SUMMARY:FORO BUENAS PRÁCTICAS EN INTEGRIDAD EMPRESARIAL\, PREVENCIÓN Y COMBATE A LA CORRUPCIÓN
DESCRIPTION:
URL:https://coparmexnl.org.mx/news/foro-buenas-practicas-en-integridad-empresarial-prevencion-y-combate-a-la-corrupcion/
CATEGORIES:Desayunos Empresariales
END:VEVENT
END:VCALENDAR