BEGIN:VCALENDAR
VERSION:2.0
PRODID:-//Coparmex - ECPv5.16.3//NONSGML v1.0//EN
CALSCALE:GREGORIAN
METHOD:PUBLISH
X-ORIGINAL-URL:https://coparmexnl.org.mx
X-WR-CALDESC:Eventos para Coparmex
REFRESH-INTERVAL;VALUE=DURATION:PT1H
X-Robots-Tag:noindex
X-PUBLISHED-TTL:PT1H
BEGIN:VTIMEZONE
TZID:UTC
BEGIN:STANDARD
TZOFFSETFROM:+0000
TZOFFSETTO:+0000
TZNAME:UTC
DTSTART:20220101T000000
END:STANDARD
END:VTIMEZONE
BEGIN:VEVENT
DTSTART;TZID=UTC:20221010T160000
DTEND;TZID=UTC:20221010T190000
DTSTAMP:20260422T011407
CREATED:20220804T165946Z
LAST-MODIFIED:20220913T201218Z
UID:43886-1665417600-1665428400@coparmexnl.org.mx
SUMMARY:Diplomado Reforma Constitucional y Laboral para Nuevo León
DESCRIPTION:
URL:https://coparmexnl.org.mx/news/diplomado-reforma-constitucional-y-laboral-para-nuevo-leon/
CATEGORIES:Capacitación
END:VEVENT
BEGIN:VEVENT
DTSTART;TZID=UTC:20221018T160000
DTEND;TZID=UTC:20221018T183000
DTSTAMP:20260422T011407
CREATED:20220719T181629Z
LAST-MODIFIED:20221007T183138Z
UID:43699-1666108800-1666117800@coparmexnl.org.mx
SUMMARY:Seguridad Informatica para Empresas
DESCRIPTION:
URL:https://coparmexnl.org.mx/news/seguridad-informatica-para-empresas/
CATEGORIES:Capacitación
END:VEVENT
END:VCALENDAR