BEGIN:VCALENDAR
VERSION:2.0
PRODID:-//Coparmex - ECPv5.16.3//NONSGML v1.0//EN
CALSCALE:GREGORIAN
METHOD:PUBLISH
X-WR-CALNAME:Coparmex
X-ORIGINAL-URL:https://coparmexnl.org.mx
X-WR-CALDESC:Eventos para Coparmex
REFRESH-INTERVAL;VALUE=DURATION:PT1H
X-Robots-Tag:noindex
X-PUBLISHED-TTL:PT1H
BEGIN:VTIMEZONE
TZID:UTC
BEGIN:STANDARD
TZOFFSETFROM:+0000
TZOFFSETTO:+0000
TZNAME:UTC
DTSTART:20220101T000000
END:STANDARD
END:VTIMEZONE
BEGIN:VEVENT
DTSTART;TZID=UTC:20220405T140000
DTEND;TZID=UTC:20220405T180000
DTSTAMP:20260421T134259
CREATED:20220209T181044Z
LAST-MODIFIED:20220310T215647Z
UID:41685-1649167200-1649181600@coparmexnl.org.mx
SUMMARY:El Otorgamiento de Crédito y la Cobranza Efectiva
DESCRIPTION:
URL:https://coparmexnl.org.mx/news/credito-y-cobranza/
LOCATION:On -Line
CATEGORIES:Capacitación
END:VEVENT
END:VCALENDAR