BEGIN:VCALENDAR
VERSION:2.0
PRODID:-//Coparmex - ECPv5.16.3//NONSGML v1.0//EN
CALSCALE:GREGORIAN
METHOD:PUBLISH
X-ORIGINAL-URL:https://coparmexnl.org.mx
X-WR-CALDESC:Eventos para Coparmex
REFRESH-INTERVAL;VALUE=DURATION:PT1H
X-Robots-Tag:noindex
X-PUBLISHED-TTL:PT1H
BEGIN:VTIMEZONE
TZID:UTC
BEGIN:STANDARD
TZOFFSETFROM:+0000
TZOFFSETTO:+0000
TZNAME:UTC
DTSTART:20220101T000000
END:STANDARD
END:VTIMEZONE
BEGIN:VEVENT
DTSTART;TZID=UTC:20220222T080000
DTEND;TZID=UTC:20220222T130000
DTSTAMP:20260421T103836
CREATED:20210903T224013Z
LAST-MODIFIED:20220103T225959Z
UID:39658-1645516800-1645534800@coparmexnl.org.mx
SUMMARY:Curso/Taller: Excel Avanzado y Macros
DESCRIPTION:
URL:https://coparmexnl.org.mx/news/curso-taller-excel-avanzado-y-macros/
CATEGORIES:Capacitación
END:VEVENT
END:VCALENDAR