BEGIN:VCALENDAR
VERSION:2.0
PRODID:-//Coparmex - ECPv5.16.3//NONSGML v1.0//EN
CALSCALE:GREGORIAN
METHOD:PUBLISH
X-WR-CALNAME:Coparmex
X-ORIGINAL-URL:https://coparmexnl.org.mx
X-WR-CALDESC:Eventos para Coparmex
REFRESH-INTERVAL;VALUE=DURATION:PT1H
X-Robots-Tag:noindex
X-PUBLISHED-TTL:PT1H
BEGIN:VTIMEZONE
TZID:UTC
BEGIN:STANDARD
TZOFFSETFROM:+0000
TZOFFSETTO:+0000
TZNAME:UTC
DTSTART:20210101T000000
END:STANDARD
TZID:America/Chicago
BEGIN:DAYLIGHT
TZOFFSETFROM:-0600
TZOFFSETTO:-0500
TZNAME:CDT
DTSTART:20210314T080000
END:DAYLIGHT
BEGIN:STANDARD
TZOFFSETFROM:-0500
TZOFFSETTO:-0600
TZNAME:CST
DTSTART:20211107T070000
END:STANDARD
END:VTIMEZONE
BEGIN:VEVENT
DTSTART;TZID=UTC:20211101T090000
DTEND;TZID=UTC:20211101T120000
DTSTAMP:20260421T071344
CREATED:20211020T215745Z
LAST-MODIFIED:20211020T215745Z
UID:40196-1635757200-1635768000@coparmexnl.org.mx
SUMMARY:Todo Sobre VENTAS
DESCRIPTION:
URL:https://coparmexnl.org.mx/news/todo-sobre-ventas
CATEGORIES:Capacitación
ATTACH;FMTTYPE=image/png:https://coparmexnl.org.mx/wp-content/uploads/2021/10/twitter_post_ventas_wtc.png
END:VEVENT
BEGIN:VEVENT
DTSTART;TZID=UTC:20211109T080000
DTEND;TZID=UTC:20211109T120000
DTSTAMP:20260421T071344
CREATED:20211018T193245Z
LAST-MODIFIED:20211018T193245Z
UID:40176-1636444800-1636459200@coparmexnl.org.mx
SUMMARY:Negociación: Estrategia y Herramientas del Harvard Negotiation Project
DESCRIPTION:
URL:https://coparmexnl.org.mx/news/taller-de-negociacion-estrategia-y-herramientas-del-harvard-negotiation-project/
CATEGORIES:Capacitación
END:VEVENT
BEGIN:VEVENT
DTSTART;TZID=America/Chicago:20211117T090000
DTEND;TZID=America/Chicago:20211117T120000
DTSTAMP:20260421T071344
CREATED:20210712T161924Z
LAST-MODIFIED:20211001T164117Z
UID:38655-1637139600-1637150400@coparmexnl.org.mx
SUMMARY:TALLER: INTEGRAL DE NÓMINAS\, IMSS E INFONAVIT
DESCRIPTION:
URL:https://coparmexnl.org.mx/news/curso-taller-taller-integral-de-nominas-imss-e-infonavit/
CATEGORIES:Capacitación
END:VEVENT
BEGIN:VEVENT
DTSTART;TZID=UTC:20211123T090000
DTEND;TZID=UTC:20211123T110000
DTSTAMP:20260421T071344
CREATED:20211020T220500Z
LAST-MODIFIED:20211020T220500Z
UID:40202-1637658000-1637665200@coparmexnl.org.mx
SUMMARY:Detección de Peligros y Análisis de Riesgos Mediante Técnica Japonesa KYT Kiken Yoshi Training
DESCRIPTION:
URL:https://coparmexnl.org.mx/news/deteccion-de-peligros-y-analisis-de-riesgos-mediante-tecnica-japonesa-kyt-kiken-yoshi-training
CATEGORIES:Capacitación
ATTACH;FMTTYPE=image/jpeg:https://coparmexnl.org.mx/wp-content/uploads/2021/10/insta_post_kyt_wtc.jpg
END:VEVENT
BEGIN:VEVENT
DTSTART;TZID=UTC:20211125T090000
DTEND;TZID=UTC:20211125T130000
DTSTAMP:20260421T071344
CREATED:20210915T175912Z
LAST-MODIFIED:20210915T175912Z
UID:39737-1637830800-1637845200@coparmexnl.org.mx
SUMMARY:EL OTORGAMIENTO DE CRÉDITO Y LA COBRANZA EFECTIVA
DESCRIPTION:
URL:https://coparmexnl.org.mx/news/curso-taller-el-otorgamiento-de-credito-y-la-cobranza-efectiva-2/
CATEGORIES:Capacitación
END:VEVENT
END:VCALENDAR