BEGIN:VCALENDAR
VERSION:2.0
PRODID:-//Coparmex - ECPv5.16.3//NONSGML v1.0//EN
CALSCALE:GREGORIAN
METHOD:PUBLISH
X-WR-CALNAME:Coparmex
X-ORIGINAL-URL:https://coparmexnl.org.mx
X-WR-CALDESC:Eventos para Coparmex
REFRESH-INTERVAL;VALUE=DURATION:PT1H
X-Robots-Tag:noindex
X-PUBLISHED-TTL:PT1H
BEGIN:VTIMEZONE
TZID:UTC
BEGIN:STANDARD
TZOFFSETFROM:+0000
TZOFFSETTO:+0000
TZNAME:UTC
DTSTART:20210101T000000
END:STANDARD
TZID:America/Chicago
BEGIN:DAYLIGHT
TZOFFSETFROM:-0600
TZOFFSETTO:-0500
TZNAME:CDT
DTSTART:20210314T080000
END:DAYLIGHT
BEGIN:STANDARD
TZOFFSETFROM:-0500
TZOFFSETTO:-0600
TZNAME:CST
DTSTART:20211107T070000
END:STANDARD
END:VTIMEZONE
BEGIN:VEVENT
DTSTART;TZID=UTC:20211008T090000
DTEND;TZID=UTC:20211008T100000
DTSTAMP:20260421T053533
CREATED:20210921T055825Z
LAST-MODIFIED:20210921T055825Z
UID:39777-1633683600-1633687200@coparmexnl.org.mx
SUMMARY:WEBINAR: Mejora tu Rendimiento con EXCEL y POWER BI
DESCRIPTION:
URL:https://coparmexnl.org.mx/news/webinar-mejora-tu-rendimiento-con-excel-y-power-bi/
LOCATION:On -Line
CATEGORIES:Capacitación
ATTACH;FMTTYPE=image/png:https://coparmexnl.org.mx/wp-content/uploads/2021/07/powerbo-logo.png
END:VEVENT
BEGIN:VEVENT
DTSTART;TZID=UTC:20211026T080000
DTEND;TZID=UTC:20211026T120000
DTSTAMP:20260421T053533
CREATED:20210811T181241Z
LAST-MODIFIED:20210920T211529Z
UID:39235-1635235200-1635249600@coparmexnl.org.mx
SUMMARY:CERTIFICACIÓN: Liderar Equipos Híbridos/Remotos
DESCRIPTION:
URL:https://coparmexnl.org.mx/news/certificacion-liderar-equipos-hibridos-remotos/
CATEGORIES:Capacitación
END:VEVENT
BEGIN:VEVENT
DTSTART;TZID=America/Chicago:20211027T160000
DTEND;TZID=America/Chicago:20211027T200000
DTSTAMP:20260421T053533
CREATED:20210309T232407Z
LAST-MODIFIED:20211020T220821Z
UID:36704-1635350400-1635364800@coparmexnl.org.mx
SUMMARY:Seminario de Seguridad y Salud en el Trabajo
DESCRIPTION:
URL:https://coparmexnl.org.mx/news/programa-seminario-de-seguridad-y-salud-en-el-trabajo-2/
CATEGORIES:Capacitación
END:VEVENT
END:VCALENDAR