BEGIN:VCALENDAR
VERSION:2.0
PRODID:-//Coparmex - ECPv5.16.3//NONSGML v1.0//EN
CALSCALE:GREGORIAN
METHOD:PUBLISH
X-ORIGINAL-URL:https://coparmexnl.org.mx
X-WR-CALDESC:Eventos para Coparmex
REFRESH-INTERVAL;VALUE=DURATION:PT1H
X-Robots-Tag:noindex
X-PUBLISHED-TTL:PT1H
BEGIN:VTIMEZONE
TZID:UTC
BEGIN:STANDARD
TZOFFSETFROM:+0000
TZOFFSETTO:+0000
TZNAME:UTC
DTSTART:20210101T000000
END:STANDARD
END:VTIMEZONE
BEGIN:VEVENT
DTSTART;TZID=UTC:20210806T090000
DTEND;TZID=UTC:20210806T100000
DTSTAMP:20260421T021203
CREATED:20210720T194434Z
LAST-MODIFIED:20210720T202935Z
UID:38798-1628240400-1628244000@coparmexnl.org.mx
SUMMARY:WEBINAR: Business Intelligence con Microsoft Power BI
DESCRIPTION:
URL:https://coparmexnl.org.mx/news/business-intelligence-con-microsoft-power-bi
LOCATION:On -Line
CATEGORIES:Capacitación
ATTACH;FMTTYPE=image/png:https://coparmexnl.org.mx/wp-content/uploads/2021/07/powerbo-logo.png
END:VEVENT
BEGIN:VEVENT
DTSTART;TZID=UTC:20210814T090000
DTEND;TZID=UTC:20210814T130000
DTSTAMP:20260421T021203
CREATED:20180116T223855Z
LAST-MODIFIED:20210615T211535Z
UID:26857-1628931600-1628946000@coparmexnl.org.mx
SUMMARY:Curso: Finanzas para no Financieros
DESCRIPTION:
URL:https://coparmexnl.org.mx/news/curso-finanzas-para-no-financieros/
CATEGORIES:Capacitación
END:VEVENT
END:VCALENDAR