BEGIN:VCALENDAR
VERSION:2.0
PRODID:-//Coparmex - ECPv5.16.3//NONSGML v1.0//EN
CALSCALE:GREGORIAN
METHOD:PUBLISH
X-WR-CALNAME:Coparmex
X-ORIGINAL-URL:https://coparmexnl.org.mx
X-WR-CALDESC:Eventos para Coparmex
REFRESH-INTERVAL;VALUE=DURATION:PT1H
X-Robots-Tag:noindex
X-PUBLISHED-TTL:PT1H
BEGIN:VTIMEZONE
TZID:America/Chicago
BEGIN:DAYLIGHT
TZOFFSETFROM:-0600
TZOFFSETTO:-0500
TZNAME:CDT
DTSTART:20210314T080000
END:DAYLIGHT
BEGIN:STANDARD
TZOFFSETFROM:-0500
TZOFFSETTO:-0600
TZNAME:CST
DTSTART:20211107T070000
END:STANDARD
TZID:UTC
BEGIN:STANDARD
TZOFFSETFROM:+0000
TZOFFSETTO:+0000
TZNAME:UTC
DTSTART:20210101T000000
END:STANDARD
END:VTIMEZONE
BEGIN:VEVENT
DTSTART;TZID=America/Chicago:20210701T080000
DTEND;TZID=America/Chicago:20210701T120000
DTSTAMP:20260421T003118
CREATED:20210506T185746Z
LAST-MODIFIED:20210526T205540Z
UID:37364-1625126400-1625140800@coparmexnl.org.mx
SUMMARY:Seminario Intensivo Gestión de la Calidad
DESCRIPTION:
URL:https://coparmexnl.org.mx/news/seminario-intensivo-gestion-de-la-calidad/
CATEGORIES:Capacitación
END:VEVENT
BEGIN:VEVENT
DTSTART;TZID=America/Chicago:20210714T160000
DTEND;TZID=America/Chicago:20210714T190000
DTSTAMP:20260421T003118
CREATED:20210308T224129Z
LAST-MODIFIED:20210623T150403Z
UID:36676-1626278400-1626289200@coparmexnl.org.mx
SUMMARY:Programa Desarrollo de Habilidades Comerciales
DESCRIPTION:
URL:https://coparmexnl.org.mx/news/programa-de-desarrollo-de-habilidades-comerciales/
CATEGORIES:Capacitación
END:VEVENT
BEGIN:VEVENT
DTSTART;TZID=America/Chicago:20210720T080000
DTEND;TZID=America/Chicago:20210720T120000
DTSTAMP:20260421T003118
CREATED:20210524T155620Z
LAST-MODIFIED:20210526T210659Z
UID:37713-1626768000-1626782400@coparmexnl.org.mx
SUMMARY:TALLER DE NEGOCIACIÓN: Estrategia y Herramientas del Harvard Negotiation Project
DESCRIPTION:
URL:https://coparmexnl.org.mx/news/taller-de-negociacion-estrategia-y-herramientas-del-harvard-negotiation-project
CATEGORIES:Capacitación
END:VEVENT
BEGIN:VEVENT
DTSTART;TZID=America/Chicago:20210727T160000
DTEND;TZID=America/Chicago:20210727T200000
DTSTAMP:20260421T003118
CREATED:20210511T151258Z
LAST-MODIFIED:20210524T165533Z
UID:37403-1627401600-1627416000@coparmexnl.org.mx
SUMMARY:Amazon MasterClass-De la A a la Z
DESCRIPTION:
URL:https://coparmexnl.org.mx/news/amazon-masterclass-de-la-a-a-la-z
CATEGORIES:Capacitación
END:VEVENT
BEGIN:VEVENT
DTSTART;TZID=UTC:20210728T173000
DTEND;TZID=UTC:20210728T183000
DTSTAMP:20260421T003118
CREATED:20210727T163125Z
LAST-MODIFIED:20210727T163212Z
UID:38901-1627493400-1627497000@coparmexnl.org.mx
SUMMARY:ASPECTOS RELEVANTES DE LAS REFORMAS LABORALES
DESCRIPTION:
URL:https://coparmexnl.org.mx/news/aspectos-relevantes-de-las-reformas-laborales
LOCATION:On -Line
CATEGORIES:Capacitación
ATTACH;FMTTYPE=image/jpeg:https://coparmexnl.org.mx/wp-content/uploads/2021/07/Relevantes-de-las-Reformas-Laborales-01.jpg
END:VEVENT
END:VCALENDAR