BEGIN:VCALENDAR
VERSION:2.0
PRODID:-//Coparmex - ECPv5.16.3//NONSGML v1.0//EN
CALSCALE:GREGORIAN
METHOD:PUBLISH
X-WR-CALNAME:Coparmex
X-ORIGINAL-URL:https://coparmexnl.org.mx
X-WR-CALDESC:Eventos para Coparmex
REFRESH-INTERVAL;VALUE=DURATION:PT1H
X-Robots-Tag:noindex
X-PUBLISHED-TTL:PT1H
BEGIN:VTIMEZONE
TZID:UTC
BEGIN:STANDARD
TZOFFSETFROM:+0000
TZOFFSETTO:+0000
TZNAME:UTC
DTSTART:20210101T000000
END:STANDARD
TZID:America/Chicago
BEGIN:DAYLIGHT
TZOFFSETFROM:-0600
TZOFFSETTO:-0500
TZNAME:CDT
DTSTART:20210314T080000
END:DAYLIGHT
BEGIN:STANDARD
TZOFFSETFROM:-0500
TZOFFSETTO:-0600
TZNAME:CST
DTSTART:20211107T070000
END:STANDARD
END:VTIMEZONE
BEGIN:VEVENT
DTSTART;TZID=UTC:20210617T170000
DTEND;TZID=UTC:20210617T183000
DTSTAMP:20260420T224957
CREATED:20210505T150530Z
LAST-MODIFIED:20210614T190907Z
UID:37327-1623949200-1623954600@coparmexnl.org.mx
SUMMARY:Mejores Prácticas del Área Comercial en la Organización
DESCRIPTION:
URL:https://coparmexnl.org.mx/news/mejores-practicas-del-area-comercial-en-la-organizacion-2/
CATEGORIES:Desayunos Empresariales
END:VEVENT
BEGIN:VEVENT
DTSTART;TZID=America/Chicago:20210621T090000
DTEND;TZID=America/Chicago:20210621T113000
DTSTAMP:20260420T224957
CREATED:20181017T194541Z
LAST-MODIFIED:20210524T211112Z
UID:29896-1624266000-1624275000@coparmexnl.org.mx
SUMMARY:Curso/Taller: Excel Avanzado y Macros
DESCRIPTION:
URL:https://coparmexnl.org.mx/news/curso-taller-excel-avanzado-y-macros/
CATEGORIES:Capacitación
END:VEVENT
END:VCALENDAR