BEGIN:VCALENDAR
VERSION:2.0
PRODID:-//Coparmex - ECPv5.16.3//NONSGML v1.0//EN
CALSCALE:GREGORIAN
METHOD:PUBLISH
X-WR-CALNAME:Coparmex
X-ORIGINAL-URL:https://coparmexnl.org.mx
X-WR-CALDESC:Eventos para Coparmex
REFRESH-INTERVAL;VALUE=DURATION:PT1H
X-Robots-Tag:noindex
X-PUBLISHED-TTL:PT1H
BEGIN:VTIMEZONE
TZID:UTC
BEGIN:STANDARD
TZOFFSETFROM:+0000
TZOFFSETTO:+0000
TZNAME:UTC
DTSTART:20210101T000000
END:STANDARD
TZID:America/Chicago
BEGIN:DAYLIGHT
TZOFFSETFROM:-0600
TZOFFSETTO:-0500
TZNAME:CDT
DTSTART:20210314T080000
END:DAYLIGHT
BEGIN:STANDARD
TZOFFSETFROM:-0500
TZOFFSETTO:-0600
TZNAME:CST
DTSTART:20211107T070000
END:STANDARD
END:VTIMEZONE
BEGIN:VEVENT
DTSTART;TZID=UTC:20210413T083000
DTEND;TZID=UTC:20210413T093000
DTSTAMP:20260420T210915
CREATED:20210408T233534Z
LAST-MODIFIED:20210409T002641Z
UID:37032-1618302600-1618306200@coparmexnl.org.mx
SUMMARY:Interpretación de la Iniciativa de Reformas a la Subcontratación
DESCRIPTION:
URL:https://coparmexnl.org.mx/news/interpretacion-de-la-iniciativa-de-reformas-a-la-subcontratacion
CATEGORIES:Desayunos Empresariales
ATTACH;FMTTYPE=image/jpeg:https://coparmexnl.org.mx/wp-content/uploads/2021/04/13abril-01.jpg
END:VEVENT
BEGIN:VEVENT
DTSTART;TZID=America/Chicago:20210415T090000
DTEND;TZID=America/Chicago:20210415T120000
DTSTAMP:20260420T210915
CREATED:20210410T170609Z
LAST-MODIFIED:20210410T171050Z
UID:37063-1618477200-1618488000@coparmexnl.org.mx
SUMMARY:Taller Práctico: Implementación del Teletrabajo
DESCRIPTION:
URL:https://coparmexnl.org.mx/news/taller-teletrabajo
CATEGORIES:Capacitación
END:VEVENT
BEGIN:VEVENT
DTSTART;TZID=UTC:20210416T083000
DTEND;TZID=UTC:20210416T120000
DTSTAMP:20260420T210915
CREATED:20210406T152054Z
LAST-MODIFIED:20210406T152054Z
UID:36992-1618561800-1618574400@coparmexnl.org.mx
SUMMARY:Ruta para el Regreso a Clases
DESCRIPTION:
URL:https://coparmexnl.org.mx/news/ruta-para-el-regreso-a-clases
CATEGORIES:Desayunos Empresariales
ATTACH;FMTTYPE=image/jpeg:https://coparmexnl.org.mx/wp-content/uploads/2021/04/Foros-Nuevo-León.jpg
END:VEVENT
BEGIN:VEVENT
DTSTART;TZID=UTC:20210422T170000
DTEND;TZID=UTC:20210422T173000
DTSTAMP:20260420T210915
CREATED:20210329T172005Z
LAST-MODIFIED:20210329T172005Z
UID:36933-1619110800-1619112600@coparmexnl.org.mx
SUMMARY:Nuevos Aspectos a Considerar de la Ley Antilavado y el Bloqueo de Cuentas Bancarias
DESCRIPTION:
URL:https://coparmexnl.org.mx/news/nuevos-aspectos-a-considerar-de-la-ley-antilavado-y-el-bloqueo-de-cuentas-bancarias/
CATEGORIES:Desayunos Empresariales
ATTACH;FMTTYPE=image/jpeg:https://coparmexnl.org.mx/wp-content/uploads/2021/03/22-de-abril.jpeg
END:VEVENT
BEGIN:VEVENT
DTSTART;TZID=America/Chicago:20210427T160000
DTEND;TZID=America/Chicago:20210427T200000
DTSTAMP:20260420T210915
CREATED:20190730T141417Z
LAST-MODIFIED:20210309T214034Z
UID:31131-1619539200-1619553600@coparmexnl.org.mx
SUMMARY:Negociación: Arte y Ciencia - Estrategias y Herramientas para Negociar en un Mundo Cambiante
DESCRIPTION:El modelo de CMI Interser recoge los desarrollos del Proyecto de Negociación de la Universidad de Harvard y la experiencia de reconocidos negociadores de los más diversos ámbitos en todo el mundo.
URL:https://coparmexnl.org.mx/news/negociacion-arte-y-ciencia-estrategias-y-herramientas-para-negociar-en-un-mundo-cambiante/
CATEGORIES:Capacitación
END:VEVENT
BEGIN:VEVENT
DTSTART;TZID=UTC:20210428T170000
DTEND;TZID=UTC:20210428T180000
DTSTAMP:20260420T210915
CREATED:20210304T212520Z
LAST-MODIFIED:20210329T165625Z
UID:36658-1619629200-1619632800@coparmexnl.org.mx
SUMMARY:Evento Exclusivo: Diálogo con Enrique de la Madrid
DESCRIPTION:
URL:https://coparmexnl.org.mx/news/evento-exclusivo-dialogo-con-enrique-de-la-madrid/
CATEGORIES:Desayunos Empresariales
ATTACH;FMTTYPE=image/jpeg:https://coparmexnl.org.mx/wp-content/uploads/2021/03/Enrique-de-la-Madrid-28-de-abril.jpg
END:VEVENT
END:VCALENDAR