BEGIN:VCALENDAR
VERSION:2.0
PRODID:-//Coparmex - ECPv5.16.3//NONSGML v1.0//EN
CALSCALE:GREGORIAN
METHOD:PUBLISH
X-ORIGINAL-URL:https://coparmexnl.org.mx
X-WR-CALDESC:Eventos para Coparmex
REFRESH-INTERVAL;VALUE=DURATION:PT1H
X-Robots-Tag:noindex
X-PUBLISHED-TTL:PT1H
BEGIN:VTIMEZONE
TZID:UTC
BEGIN:STANDARD
TZOFFSETFROM:+0000
TZOFFSETTO:+0000
TZNAME:UTC
DTSTART:20210101T000000
END:STANDARD
TZID:America/Chicago
BEGIN:DAYLIGHT
TZOFFSETFROM:-0600
TZOFFSETTO:-0500
TZNAME:CDT
DTSTART:20210314T080000
END:DAYLIGHT
BEGIN:STANDARD
TZOFFSETFROM:-0500
TZOFFSETTO:-0600
TZNAME:CST
DTSTART:20211107T070000
END:STANDARD
END:VTIMEZONE
BEGIN:VEVENT
DTSTART;TZID=UTC:20210303T100000
DTEND;TZID=UTC:20210303T120000
DTSTAMP:20260420T192616
CREATED:20210122T230154Z
LAST-MODIFIED:20210324T173740Z
UID:36324-1614765600-1614772800@coparmexnl.org.mx
SUMMARY:XCII ASAMBLEA COPARMEX NUEVO LEÓN
DESCRIPTION:
URL:https://coparmexnl.org.mx/news/xcii-asamblea-coparmex-nuevo-leon
CATEGORIES:Desayunos Empresariales
ATTACH;FMTTYPE=image/jpeg:https://coparmexnl.org.mx/wp-content/uploads/2021/01/savethedate21-01.jpg
END:VEVENT
BEGIN:VEVENT
DTSTART;TZID=America/Chicago:20210324T160000
DTEND;TZID=America/Chicago:20210324T200000
DTSTAMP:20260420T192616
CREATED:20190122T175344Z
LAST-MODIFIED:20210225T165313Z
UID:30173-1616601600-1616616000@coparmexnl.org.mx
SUMMARY:Programa Seminario de Seguridad y Salud en el Trabajo
DESCRIPTION:
URL:https://coparmexnl.org.mx/news/programa-seminario-de-seguridad-y-salud-en-el-trabajo/
CATEGORIES:Capacitación
END:VEVENT
BEGIN:VEVENT
DTSTART;TZID=America/Chicago:20210325T100000
DTEND;TZID=America/Chicago:20210325T110000
DTSTAMP:20260420T192616
CREATED:20210323T163724Z
LAST-MODIFIED:20210324T173251Z
UID:36884-1616666400-1616670000@coparmexnl.org.mx
SUMMARY:Reunión de Socios: La Nueva Narrativa Alternativa
DESCRIPTION:
URL:https://coparmexnl.org.mx/news/reunion-de-socios-la-nueva-narrativa-alternativa/
CATEGORIES:Desayunos Empresariales
ATTACH;FMTTYPE=image/jpeg:https://coparmexnl.org.mx/wp-content/uploads/2021/03/cpxVfinal.jpg
END:VEVENT
END:VCALENDAR