BEGIN:VCALENDAR
VERSION:2.0
PRODID:-//Coparmex - ECPv5.16.3//NONSGML v1.0//EN
CALSCALE:GREGORIAN
METHOD:PUBLISH
X-WR-CALNAME:Coparmex
X-ORIGINAL-URL:https://coparmexnl.org.mx
X-WR-CALDESC:Eventos para Coparmex
REFRESH-INTERVAL;VALUE=DURATION:PT1H
X-Robots-Tag:noindex
X-PUBLISHED-TTL:PT1H
BEGIN:VTIMEZONE
TZID:America/Chicago
BEGIN:DAYLIGHT
TZOFFSETFROM:-0600
TZOFFSETTO:-0500
TZNAME:CDT
DTSTART:20200308T080000
END:DAYLIGHT
BEGIN:STANDARD
TZOFFSETFROM:-0500
TZOFFSETTO:-0600
TZNAME:CST
DTSTART:20201101T070000
END:STANDARD
TZID:UTC
BEGIN:STANDARD
TZOFFSETFROM:+0000
TZOFFSETTO:+0000
TZNAME:UTC
DTSTART:20200101T000000
END:STANDARD
END:VTIMEZONE
BEGIN:VEVENT
DTSTART;TZID=America/Chicago:20201007T150000
DTEND;TZID=America/Chicago:20201007T180000
DTSTAMP:20260420T160604
CREATED:20200902T184820Z
LAST-MODIFIED:20200902T184820Z
UID:35246-1602082800-1602093600@coparmexnl.org.mx
SUMMARY:Introducción al Storytelling
DESCRIPTION:
URL:https://coparmexnl.org.mx/news/introduccion-al-storytelling/
CATEGORIES:Capacitación
END:VEVENT
BEGIN:VEVENT
DTSTART;TZID=UTC:20201008T120000
DTEND;TZID=UTC:20201008T130000
DTSTAMP:20260420T160604
CREATED:20200928T172620Z
LAST-MODIFIED:20200928T174711Z
UID:35467-1602158400-1602162000@coparmexnl.org.mx
SUMMARY:WEBINAR: Covid-19:  Salud digital en tu Empresa
DESCRIPTION:
URL:https://coparmexnl.org.mx/news/covid-19-salud-digital-en-tu-empresa/
CATEGORIES:Capacitación
END:VEVENT
BEGIN:VEVENT
DTSTART;TZID=America/Chicago:20201013T093000
DTEND;TZID=America/Chicago:20201013T113000
DTSTAMP:20260420T160604
CREATED:20200924T171906Z
LAST-MODIFIED:20200924T171906Z
UID:35438-1602581400-1602588600@coparmexnl.org.mx
SUMMARY:Gestión Efectiva de tus Almacenes\, Inventarios\, SCM\,  y  Sist. de Logística
DESCRIPTION:
URL:https://coparmexnl.org.mx/news/administracion-de-almacenes-e-inventarios-2/
CATEGORIES:Capacitación
ATTACH;FMTTYPE=image/jpeg:https://coparmexnl.org.mx/wp-content/uploads/2020/10/Almacenes.jpg
END:VEVENT
BEGIN:VEVENT
DTSTART;TZID=America/Chicago:20201013T123000
DTEND;TZID=America/Chicago:20201013T133000
DTSTAMP:20260420T160604
CREATED:20200915T204231Z
LAST-MODIFIED:20200917T131558Z
UID:35370-1602592200-1602595800@coparmexnl.org.mx
SUMMARY:WEBINAR: Tendencias Tecnológicas en la Banca
DESCRIPTION:
URL:https://coparmexnl.org.mx/news/tendencias-tecnologicas-en-la-banca
CATEGORIES:Capacitación
END:VEVENT
BEGIN:VEVENT
DTSTART;TZID=UTC:20201013T180000
DTEND;TZID=UTC:20201013T190000
DTSTAMP:20260420T160604
CREATED:20201008T003005Z
LAST-MODIFIED:20201008T003005Z
UID:35526-1602612000-1602615600@coparmexnl.org.mx
SUMMARY:Comisión de Empresarios Jóvenes - Toma de Compromiso de la Mesa Directiva
DESCRIPTION:
URL:https://coparmexnl.org.mx/news/comision-de-empresarios-jovenes-toma-de-compromiso-de-la-mesa-directiva/
CATEGORIES:Capacitación
END:VEVENT
BEGIN:VEVENT
DTSTART;TZID=UTC:20201027T090000
DTEND;TZID=UTC:20201027T130000
DTSTAMP:20260420T160604
CREATED:20180116T232511Z
LAST-MODIFIED:20200925T172516Z
UID:26873-1603789200-1603803600@coparmexnl.org.mx
SUMMARY:Curso Servicio al Cliente / Basado en la metodología Customer Centricity
DESCRIPTION:
URL:https://coparmexnl.org.mx/news/curso-servicio-al-cliente-basado-en-la-metodologia-customer-centricity/
CATEGORIES:Capacitación
END:VEVENT
END:VCALENDAR