BEGIN:VCALENDAR
VERSION:2.0
PRODID:-//Coparmex - ECPv5.16.3//NONSGML v1.0//EN
CALSCALE:GREGORIAN
METHOD:PUBLISH
X-WR-CALNAME:Coparmex
X-ORIGINAL-URL:https://coparmexnl.org.mx
X-WR-CALDESC:Eventos para Coparmex
REFRESH-INTERVAL;VALUE=DURATION:PT1H
X-Robots-Tag:noindex
X-PUBLISHED-TTL:PT1H
BEGIN:VTIMEZONE
TZID:America/Chicago
BEGIN:DAYLIGHT
TZOFFSETFROM:-0600
TZOFFSETTO:-0500
TZNAME:CDT
DTSTART:20200308T080000
END:DAYLIGHT
BEGIN:STANDARD
TZOFFSETFROM:-0500
TZOFFSETTO:-0600
TZNAME:CST
DTSTART:20201101T070000
END:STANDARD
TZID:UTC
BEGIN:STANDARD
TZOFFSETFROM:+0000
TZOFFSETTO:+0000
TZNAME:UTC
DTSTART:20200101T000000
END:STANDARD
END:VTIMEZONE
BEGIN:VEVENT
DTSTART;TZID=America/Chicago:20200902T093000
DTEND;TZID=America/Chicago:20200902T113000
DTSTAMP:20260420T174856
CREATED:20200729T170533Z
LAST-MODIFIED:20200827T183811Z
UID:34796-1599039000-1599046200@coparmexnl.org.mx
SUMMARY:Motivación y Reconocimiento en el Trabajo
DESCRIPTION:
URL:https://coparmexnl.org.mx/news/motivacion-y-reconocimiento-en-el-trabajo-2/
CATEGORIES:Capacitación
ATTACH;FMTTYPE=image/png:https://coparmexnl.org.mx/wp-content/uploads/2020/07/motivación.png
END:VEVENT
BEGIN:VEVENT
DTSTART;TZID=UTC:20200908T100000
DTEND;TZID=UTC:20200908T130000
DTSTAMP:20260420T174856
CREATED:20200821T231756Z
LAST-MODIFIED:20200907T234949Z
UID:35081-1599559200-1599570000@coparmexnl.org.mx
SUMMARY:¿Ya conoces todo sobre la  NOM 035?
DESCRIPTION:
URL:https://coparmexnl.org.mx/news/introduccion-a-la-nom-035/
CATEGORIES:Capacitación
ATTACH;FMTTYPE=image/jpeg:https://coparmexnl.org.mx/wp-content/uploads/2020/08/NOM-035-STPS-2018.jpg
END:VEVENT
BEGIN:VEVENT
DTSTART;TZID=America/Chicago:20200909T123000
DTEND;TZID=America/Chicago:20200909T133000
DTSTAMP:20260420T174856
CREATED:20200901T185333Z
LAST-MODIFIED:20200901T185333Z
UID:35212-1599654600-1599658200@coparmexnl.org.mx
SUMMARY:WEBINAR: Perspectivas Económicas y sus Efectos Rumbo al Cierre del 2020
DESCRIPTION:
URL:https://coparmexnl.org.mx/news/perspectivas-economicas-y-sus-efectos-rumbo-al-cierre-del-2020
CATEGORIES:Capacitación
END:VEVENT
BEGIN:VEVENT
DTSTART;TZID=America/Chicago:20200910T110000
DTEND;TZID=America/Chicago:20200910T120000
DTSTAMP:20260420T174856
CREATED:20200901T192149Z
LAST-MODIFIED:20200901T192149Z
UID:35216-1599735600-1599739200@coparmexnl.org.mx
SUMMARY:WEBINAR: Cómo reducir tu facturación mensual de energía eléctrica
DESCRIPTION:
URL:https://coparmexnl.org.mx/news/como-reducir-tu-facturacion-mensual-de-energia-electrica
CATEGORIES:Capacitación
END:VEVENT
BEGIN:VEVENT
DTSTART;TZID=America/Chicago:20200910T160000
DTEND;TZID=America/Chicago:20200910T170000
DTSTAMP:20260420T174856
CREATED:20200901T221827Z
LAST-MODIFIED:20200901T222708Z
UID:35230-1599753600-1599757200@coparmexnl.org.mx
SUMMARY:WEBINAR: Las CLAVES para escoger a un buen socio
DESCRIPTION:
URL:https://coparmexnl.org.mx/news/las-claves-para-escoger-a-un-buen-socio
CATEGORIES:Capacitación
END:VEVENT
BEGIN:VEVENT
DTSTART;TZID=America/Chicago:20200918T110000
DTEND;TZID=America/Chicago:20200918T120000
DTSTAMP:20260420T174856
CREATED:20200911T151341Z
LAST-MODIFIED:20200911T203221Z
UID:35332-1600426800-1600430400@coparmexnl.org.mx
SUMMARY:WEBINAR: De Dueño a Empresario
DESCRIPTION:
URL:https://coparmexnl.org.mx/news/de-dueno-a-empresario
CATEGORIES:Capacitación
END:VEVENT
BEGIN:VEVENT
DTSTART;TZID=UTC:20200923T090000
DTEND;TZID=UTC:20200923T120000
DTSTAMP:20260420T174856
CREATED:20200907T235117Z
LAST-MODIFIED:20200907T235117Z
UID:35303-1600851600-1600862400@coparmexnl.org.mx
SUMMARY:¿Ya conoces todo sobre la  NOM 035?
DESCRIPTION:
URL:https://coparmexnl.org.mx/news/introduccion-a-la-nom-035/
CATEGORIES:Capacitación
ATTACH;FMTTYPE=image/jpeg:https://coparmexnl.org.mx/wp-content/uploads/2020/08/NOM-035-STPS-2018.jpg
END:VEVENT
BEGIN:VEVENT
DTSTART;TZID=America/Chicago:20200923T100000
DTEND;TZID=America/Chicago:20200923T110000
DTSTAMP:20260420T174856
CREATED:20200914T132340Z
LAST-MODIFIED:20200914T132340Z
UID:35344-1600855200-1600858800@coparmexnl.org.mx
SUMMARY:Webinar: ¿Cómo lograr que tus colaboradores sean comprometidos\, enfocados y productivos sin morir en el intento?
DESCRIPTION:
URL:https://coparmexnl.org.mx/news/como-lograr-que-tus-colaboradores-sean-comprometidos-enfocados-y-productivos-sin-morir-en-el-intento
CATEGORIES:Capacitación
END:VEVENT
BEGIN:VEVENT
DTSTART;TZID=America/Chicago:20200924T120000
DTEND;TZID=America/Chicago:20200924T130000
DTSTAMP:20260420T174856
CREATED:20200911T220218Z
LAST-MODIFIED:20200911T220416Z
UID:35340-1600948800-1600952400@coparmexnl.org.mx
SUMMARY:WEBINAR: NOM-035 -STPS- 2018 Impactos a la luz de la Pandemia del COVID 19
DESCRIPTION:
URL:https://coparmexnl.org.mx/news/nom-035-stps-2018-impactos-a-la-luz-de-la-pandemia-del-covid-19
CATEGORIES:Capacitación
END:VEVENT
BEGIN:VEVENT
DTSTART;TZID=America/Chicago:20200924T180000
DTEND;TZID=America/Chicago:20200924T190000
DTSTAMP:20260420T174856
CREATED:20200915T203817Z
LAST-MODIFIED:20200915T203817Z
UID:35368-1600970400-1600974000@coparmexnl.org.mx
SUMMARY:Conferencia y Networking - Potencializadora de Negocios
DESCRIPTION:
URL:https://coparmexnl.org.mx/news/conferencia-y-networking-potencializadora-de-negocios
CATEGORIES:Capacitación
END:VEVENT
BEGIN:VEVENT
DTSTART;TZID=America/Chicago:20200929T093000
DTEND;TZID=America/Chicago:20200929T113000
DTSTAMP:20260420T174856
CREATED:20200828T215812Z
LAST-MODIFIED:20200828T215812Z
UID:35179-1601371800-1601379000@coparmexnl.org.mx
SUMMARY:INDICADORES: La Importancia de la Medición y Control en Época de Cambio
DESCRIPTION:
URL:https://coparmexnl.org.mx/news/indicadores-epoca-de-cambio/
CATEGORIES:Capacitación
END:VEVENT
BEGIN:VEVENT
DTSTART;TZID=America/Chicago:20200929T110000
DTEND;TZID=America/Chicago:20200929T120000
DTSTAMP:20260420T174856
CREATED:20200901T192944Z
LAST-MODIFIED:20200901T192944Z
UID:35220-1601377200-1601380800@coparmexnl.org.mx
SUMMARY:WEBINAR: Impacto de la Contingencia COVID-19 en las Empresas Familiares
DESCRIPTION:
URL:https://coparmexnl.org.mx/news/impacto-de-la-contingencia-covid-19-en-las-empresas-familiares
CATEGORIES:Capacitación
END:VEVENT
BEGIN:VEVENT
DTSTART;TZID=America/Chicago:20200930T150000
DTEND;TZID=America/Chicago:20200930T180000
DTSTAMP:20260420T174856
CREATED:20200903T182410Z
LAST-MODIFIED:20200903T182410Z
UID:35258-1601478000-1601488800@coparmexnl.org.mx
SUMMARY:Administración del Tiempo
DESCRIPTION:
URL:https://coparmexnl.org.mx/news/administracion-del-tiempo/
CATEGORIES:Capacitación
END:VEVENT
END:VCALENDAR