BEGIN:VCALENDAR
VERSION:2.0
PRODID:-//Coparmex - ECPv5.16.3//NONSGML v1.0//EN
CALSCALE:GREGORIAN
METHOD:PUBLISH
X-WR-CALNAME:Coparmex
X-ORIGINAL-URL:https://coparmexnl.org.mx
X-WR-CALDESC:Eventos para Coparmex
REFRESH-INTERVAL;VALUE=DURATION:PT1H
X-Robots-Tag:noindex
X-PUBLISHED-TTL:PT1H
BEGIN:VTIMEZONE
TZID:America/Chicago
BEGIN:DAYLIGHT
TZOFFSETFROM:-0600
TZOFFSETTO:-0500
TZNAME:CDT
DTSTART:20200308T080000
END:DAYLIGHT
BEGIN:STANDARD
TZOFFSETFROM:-0500
TZOFFSETTO:-0600
TZNAME:CST
DTSTART:20201101T070000
END:STANDARD
TZID:UTC
BEGIN:STANDARD
TZOFFSETFROM:+0000
TZOFFSETTO:+0000
TZNAME:UTC
DTSTART:20200101T000000
END:STANDARD
END:VTIMEZONE
BEGIN:VEVENT
DTSTART;TZID=America/Chicago:20200803T180000
DTEND;TZID=America/Chicago:20200803T200000
DTSTAMP:20260420T210836
CREATED:20200708T002452Z
LAST-MODIFIED:20200709T230139Z
UID:34469-1596477600-1596484800@coparmexnl.org.mx
SUMMARY:Taller de Desarrollo de Contenidos Digitales
DESCRIPTION:
URL:https://coparmexnl.org.mx/news/taller-de-desarrollo-de-contenidos-digitales/
CATEGORIES:Capacitación
ATTACH;FMTTYPE=image/jpeg:https://coparmexnl.org.mx/wp-content/uploads/2020/07/Taller-de-Desarrollo-de-Contenidos-Digitales-2.jpg
END:VEVENT
BEGIN:VEVENT
DTSTART;TZID=America/Chicago:20200805T160000
DTEND;TZID=America/Chicago:20200805T170000
DTSTAMP:20260420T210836
CREATED:20200728T202320Z
LAST-MODIFIED:20200731T181315Z
UID:34785-1596643200-1596646800@coparmexnl.org.mx
SUMMARY:WEBINAR- Selección de personal con la metodología Top Grading
DESCRIPTION:¿Cómo sería tu empresa y tu vida si el 80% de tus colaboradores fuera como el mejor colaborador que has tenido?
URL:https://coparmexnl.org.mx/news/como-seria-tu-empresa-y-tu-vida-si-el-80-de-tus-colaboradores-fuera-como-el-mejor-colaborador-que-has-tenido
CATEGORIES:Capacitación
END:VEVENT
BEGIN:VEVENT
DTSTART;TZID=UTC:20200811T090000
DTEND;TZID=UTC:20200811T120000
DTSTAMP:20260420T210836
CREATED:20180115T232155Z
LAST-MODIFIED:20200723T152015Z
UID:26761-1597136400-1597147200@coparmexnl.org.mx
SUMMARY:Curso: Ventas y Negociación
DESCRIPTION:
URL:https://coparmexnl.org.mx/event/curso-ventas-y-negociacion/
CATEGORIES:Capacitación
END:VEVENT
BEGIN:VEVENT
DTSTART;TZID=America/Chicago:20200811T090000
DTEND;TZID=America/Chicago:20200811T130000
DTSTAMP:20260420T210836
CREATED:20190225T224104Z
LAST-MODIFIED:20200706T220214Z
UID:30329-1597136400-1597150800@coparmexnl.org.mx
SUMMARY:Curso: Administración de Proyectos
DESCRIPTION:
URL:https://coparmexnl.org.mx/news/curso-administracion-de-proyectos/
CATEGORIES:Capacitación
END:VEVENT
BEGIN:VEVENT
DTSTART;TZID=America/Chicago:20200811T123000
DTEND;TZID=America/Chicago:20200811T133000
DTSTAMP:20260420T210836
CREATED:20200728T144726Z
LAST-MODIFIED:20200728T144726Z
UID:34765-1597149000-1597152600@coparmexnl.org.mx
SUMMARY:WEBINAR: Ventas online
DESCRIPTION:
URL:https://coparmexnl.org.mx/news/ventas-online
CATEGORIES:Capacitación
END:VEVENT
BEGIN:VEVENT
DTSTART;TZID=America/Chicago:20200814T110000
DTEND;TZID=America/Chicago:20200814T120000
DTSTAMP:20260420T210836
CREATED:20200811T170237Z
LAST-MODIFIED:20200811T170237Z
UID:34951-1597402800-1597406400@coparmexnl.org.mx
SUMMARY:WEBINAR: Cuida tus costos con una Gestión efectiva de tus almacenes e Inventarios
DESCRIPTION:
URL:https://coparmexnl.org.mx/news/cuida-tus-costos-con-una-gestion-efectiva-de-tus-almacenes-e-inventarios
CATEGORIES:Capacitación
END:VEVENT
BEGIN:VEVENT
DTSTART;TZID=America/Chicago:20200818T110000
DTEND;TZID=America/Chicago:20200818T120000
DTSTAMP:20260420T210836
CREATED:20200804T201501Z
LAST-MODIFIED:20200804T201501Z
UID:34856-1597748400-1597752000@coparmexnl.org.mx
SUMMARY:WEBINAR: Facebook y Google para tu negocio\, cómo sacarle provecho
DESCRIPTION:
URL:https://coparmexnl.org.mx/news/facebook-y-google-para-tu-negocio-como-sacarle-provecho
CATEGORIES:Capacitación
END:VEVENT
BEGIN:VEVENT
DTSTART;TZID=America/Chicago:20200818T170000
DTEND;TZID=America/Chicago:20200818T190000
DTSTAMP:20260420T210836
CREATED:20200806T213638Z
LAST-MODIFIED:20200806T213638Z
UID:34904-1597770000-1597777200@coparmexnl.org.mx
SUMMARY:WEBINAR - ¿Qué es un ERP y cómo beneficia a mi empresa?
DESCRIPTION:
URL:https://coparmexnl.org.mx/news/que-es-un-erp-y-como-beneficia-a-mi-empresa
CATEGORIES:Capacitación
END:VEVENT
BEGIN:VEVENT
DTSTART;TZID=America/Chicago:20200819T090000
DTEND;TZID=America/Chicago:20200819T130000
DTSTAMP:20260420T210836
CREATED:20180607T133108Z
LAST-MODIFIED:20200706T221741Z
UID:29156-1597827600-1597842000@coparmexnl.org.mx
SUMMARY:Curso: Finanzas Corporativas
DESCRIPTION:
URL:https://coparmexnl.org.mx/news/curso-finanzas-corporativas/
CATEGORIES:Capacitación
END:VEVENT
BEGIN:VEVENT
DTSTART;TZID=America/Chicago:20200819T100000
DTEND;TZID=America/Chicago:20200819T120000
DTSTAMP:20260420T210836
CREATED:20200713T155835Z
LAST-MODIFIED:20200812T225011Z
UID:34561-1597831200-1597838400@coparmexnl.org.mx
SUMMARY:Trabajo en Equipo: el poder de colaborar
DESCRIPTION:
URL:https://coparmexnl.org.mx/news/trabajo-en-equipo-el-poder-de-colaborar/
CATEGORIES:Capacitación
END:VEVENT
BEGIN:VEVENT
DTSTART;TZID=America/Chicago:20200819T160000
DTEND;TZID=America/Chicago:20200819T170000
DTSTAMP:20260420T210836
CREATED:20200708T185145Z
LAST-MODIFIED:20200728T202131Z
UID:34495-1597852800-1597856400@coparmexnl.org.mx
SUMMARY:WEBINAR- Cómo definir los indicadores principales de tu empresa y cómo medirlos de forma efectiva y práctica
DESCRIPTION:
URL:https://coparmexnl.org.mx/news/como-definir-los-indicadores-principales-de-tu-empresa-y-como-medirlos-de-forma-efectiva-y-practica/
CATEGORIES:Capacitación
END:VEVENT
BEGIN:VEVENT
DTSTART;TZID=UTC:20200820T110000
DTEND;TZID=UTC:20200820T120000
DTSTAMP:20260420T210836
CREATED:20200731T141147Z
LAST-MODIFIED:20200804T140723Z
UID:34810-1597921200-1597924800@coparmexnl.org.mx
SUMMARY:PANEL – Aspectos Laborales del T-MEC y Mecanismos de Respuesta Rápida
DESCRIPTION:
URL:https://coparmexnl.org.mx/news/panel-aspectos-laborales-del-t-mec-y-mecanismos-de-respuesta-rapida
CATEGORIES:Capacitación
ATTACH;FMTTYPE=image/jpeg:https://coparmexnl.org.mx/wp-content/uploads/2020/07/PANEL.jpg
END:VEVENT
BEGIN:VEVENT
DTSTART;TZID=America/Chicago:20200825T163000
DTEND;TZID=America/Chicago:20200825T183000
DTSTAMP:20260420T210836
CREATED:20200708T182524Z
LAST-MODIFIED:20200812T210939Z
UID:34491-1598373000-1598380200@coparmexnl.org.mx
SUMMARY:Negociación y Manejo de Conflictos
DESCRIPTION:
URL:https://coparmexnl.org.mx/news/negociacion-y-manejo-de-conflictos/
CATEGORIES:Capacitación
END:VEVENT
BEGIN:VEVENT
DTSTART;TZID=America/Chicago:20200826T113000
DTEND;TZID=America/Chicago:20200826T123000
DTSTAMP:20260420T210836
CREATED:20200723T193832Z
LAST-MODIFIED:20200815T024330Z
UID:34728-1598441400-1598445000@coparmexnl.org.mx
SUMMARY:WEBINAR - Primero Mido\, Luego Triunfo… Rumbo a la Eficiencia de mi Negocio
DESCRIPTION:
URL:https://coparmexnl.org.mx/news/primero-mido-luego-triunfo-rumbo-a-la-eficiencia-de-mi-negocio
CATEGORIES:Capacitación
END:VEVENT
BEGIN:VEVENT
DTSTART;TZID=America/Chicago:20200827T113000
DTEND;TZID=America/Chicago:20200827T123000
DTSTAMP:20260420T210836
CREATED:20200812T000704Z
LAST-MODIFIED:20200812T000748Z
UID:34964-1598527800-1598531400@coparmexnl.org.mx
SUMMARY:WEBINAR: Ampliación de Medidas de Protección  ante la Emergencia Sanitaria por Covid-19
DESCRIPTION:
URL:https://coparmexnl.org.mx/news/ampliacion-de-medidas-de-proteccion-ante-la-emergencia-sanitaria-por-covid-19
CATEGORIES:Capacitación
END:VEVENT
BEGIN:VEVENT
DTSTART;TZID=America/Chicago:20200827T160000
DTEND;TZID=America/Chicago:20200827T180000
DTSTAMP:20260420T210836
CREATED:20200810T180437Z
LAST-MODIFIED:20200810T180455Z
UID:34943-1598544000-1598551200@coparmexnl.org.mx
SUMMARY:WEBINAR: Transformación Digital - Generando Valor en Toda la Cadena
DESCRIPTION:
URL:https://coparmexnl.org.mx/news/transformacion-digital-generando-valor-en-toda-la-cadena
CATEGORIES:Capacitación
END:VEVENT
BEGIN:VEVENT
DTSTART;TZID=America/Chicago:20200828T110000
DTEND;TZID=America/Chicago:20200828T120000
DTSTAMP:20260420T210836
CREATED:20200821T154810Z
LAST-MODIFIED:20200821T212350Z
UID:35065-1598612400-1598616000@coparmexnl.org.mx
SUMMARY:WEBINAR: Comercio Exterior para el Desarrollo Económico de México
DESCRIPTION:
URL:https://coparmexnl.org.mx/news/comercio-exterior-para-el-desarrollo-economico-de-mexico
CATEGORIES:Capacitación
END:VEVENT
END:VCALENDAR