BEGIN:VCALENDAR
VERSION:2.0
PRODID:-//Coparmex - ECPv5.16.3//NONSGML v1.0//EN
CALSCALE:GREGORIAN
METHOD:PUBLISH
X-WR-CALNAME:Coparmex
X-ORIGINAL-URL:https://coparmexnl.org.mx
X-WR-CALDESC:Eventos para Coparmex
REFRESH-INTERVAL;VALUE=DURATION:PT1H
X-Robots-Tag:noindex
X-PUBLISHED-TTL:PT1H
BEGIN:VTIMEZONE
TZID:UTC
BEGIN:STANDARD
TZOFFSETFROM:+0000
TZOFFSETTO:+0000
TZNAME:UTC
DTSTART:20200101T000000
END:STANDARD
TZID:America/Chicago
BEGIN:DAYLIGHT
TZOFFSETFROM:-0600
TZOFFSETTO:-0500
TZNAME:CDT
DTSTART:20200308T080000
END:DAYLIGHT
BEGIN:STANDARD
TZOFFSETFROM:-0500
TZOFFSETTO:-0600
TZNAME:CST
DTSTART:20201101T070000
END:STANDARD
END:VTIMEZONE
BEGIN:VEVENT
DTSTART;TZID=UTC:20200602T110000
DTEND;TZID=UTC:20200602T120000
DTSTAMP:20260420T224948
CREATED:20200522T005651Z
LAST-MODIFIED:20200527T011827Z
UID:33814-1591095600-1591099200@coparmexnl.org.mx
SUMMARY:WEBINAR: Generando Experiencias Extraordinarias\, Experiencias ¡WOW!
DESCRIPTION:
URL:https://coparmexnl.org.mx/news/generando-experiencias-extraordinarias-experiencias-wow
CATEGORIES:Capacitación
ATTACH;FMTTYPE=image/jpeg:https://coparmexnl.org.mx/wp-content/uploads/2018/01/actitud-servicio-al-cliente-min.jpg
END:VEVENT
BEGIN:VEVENT
DTSTART;TZID=UTC:20200604T170000
DTEND;TZID=UTC:20200604T180000
DTSTAMP:20260420T224948
CREATED:20200601T171514Z
LAST-MODIFIED:20200601T222740Z
UID:33913-1591290000-1591293600@coparmexnl.org.mx
SUMMARY:WEBINAR: ¿Quieres Ayudar a tu Cadena de Valor?
DESCRIPTION:
URL:https://coparmexnl.org.mx/news/quieres-ayudar-a-tu-cadena-de-valor
CATEGORIES:Capacitación
ATTACH;FMTTYPE=image/jpeg:https://coparmexnl.org.mx/wp-content/uploads/2020/06/webinarunirydar-01.jpg
END:VEVENT
BEGIN:VEVENT
DTSTART;TZID=UTC:20200605T090000
DTEND;TZID=UTC:20200605T100000
DTSTAMP:20260420T224948
CREATED:20200529T172826Z
LAST-MODIFIED:20200529T172826Z
UID:33890-1591347600-1591351200@coparmexnl.org.mx
SUMMARY:WEBINAR: Inteligencia Emocional en la educación
DESCRIPTION:
URL:https://coparmexnl.org.mx/news/inteligencia-emocional-en-la-educacion
CATEGORIES:Capacitación
ATTACH;FMTTYPE=image/jpeg:https://coparmexnl.org.mx/wp-content/uploads/2017/10/1837.jpg
END:VEVENT
BEGIN:VEVENT
DTSTART;TZID=UTC:20200605T110000
DTEND;TZID=UTC:20200605T120000
DTSTAMP:20260420T224948
CREATED:20200529T222003Z
LAST-MODIFIED:20200529T222503Z
UID:33901-1591354800-1591358400@coparmexnl.org.mx
SUMMARY:WEBINAR: Seguimiento a Clientes en el Siglo XXI
DESCRIPTION:
URL:https://coparmexnl.org.mx/news/seguimiento-a-clientes-en-el-siglo-xxi
CATEGORIES:Capacitación
ATTACH;FMTTYPE=image/jpeg:https://coparmexnl.org.mx/wp-content/uploads/2017/10/O6JTUC0.jpg
END:VEVENT
BEGIN:VEVENT
DTSTART;TZID=UTC:20200605T160000
DTEND;TZID=UTC:20200605T170000
DTSTAMP:20260420T224948
CREATED:20200602T190221Z
LAST-MODIFIED:20200605T223825Z
UID:33950-1591372800-1591376400@coparmexnl.org.mx
SUMMARY:WEBINAR - ¿Estas listo para la reactivación? Cómo preparar a tu empresa
DESCRIPTION:
URL:https://coparmexnl.org.mx/news/estas-listo-para-la-reactivacion-como-preparara-a-tu-empresa
CATEGORIES:Capacitación
END:VEVENT
BEGIN:VEVENT
DTSTART;TZID=UTC:20200611T113000
DTEND;TZID=UTC:20200611T123000
DTSTAMP:20260420T224948
CREATED:20200605T213925Z
LAST-MODIFIED:20200605T213925Z
UID:33993-1591875000-1591878600@coparmexnl.org.mx
SUMMARY:WEBINAR: Herramientas para detectar nuevas oportunidades de negocios
DESCRIPTION:
URL:https://coparmexnl.org.mx/news/herramientas-para-detectar-nuevas-oportunidades-de-negocios
CATEGORIES:Capacitación
END:VEVENT
BEGIN:VEVENT
DTSTART;TZID=UTC:20200611T160000
DTEND;TZID=UTC:20200611T170000
DTSTAMP:20260420T224948
CREATED:20200605T214447Z
LAST-MODIFIED:20200605T214447Z
UID:33999-1591891200-1591894800@coparmexnl.org.mx
SUMMARY:WEBINAR: Cómo utilizar herramientas digitales para captar contactos cualificados
DESCRIPTION:
URL:https://coparmexnl.org.mx/news/como-utilizar-herramientas-digitales-para-captar-contactos-cualificados
CATEGORIES:Capacitación
END:VEVENT
BEGIN:VEVENT
DTSTART;TZID=UTC:20200612T110000
DTEND;TZID=UTC:20200612T120000
DTSTAMP:20260420T224948
CREATED:20200605T215152Z
LAST-MODIFIED:20200605T215152Z
UID:33998-1591959600-1591963200@coparmexnl.org.mx
SUMMARY:WEBINAR: Ciberataques\, el lado oscuro de la transformación digital
DESCRIPTION:
URL:https://coparmexnl.org.mx/news/ciberataques-el-lado-oscuro-de-la-transformacion-digital
CATEGORIES:Capacitación
END:VEVENT
BEGIN:VEVENT
DTSTART;TZID=UTC:20200615T090000
DTEND;TZID=UTC:20200615T130000
DTSTAMP:20260420T224948
CREATED:20200513T223204Z
LAST-MODIFIED:20200609T222055Z
UID:33705-1592211600-1592226000@coparmexnl.org.mx
SUMMARY:CURSO: Desarrollo de Competencias: Prospección Comercial
DESCRIPTION:
URL:https://coparmexnl.org.mx/news/desarrollo-de-competencias-prospeccion-comercial/
CATEGORIES:Capacitación
END:VEVENT
BEGIN:VEVENT
DTSTART;TZID=UTC:20200616T090000
DTEND;TZID=UTC:20200616T130000
DTSTAMP:20260420T224948
CREATED:20200608T231553Z
LAST-MODIFIED:20200609T221925Z
UID:34025-1592298000-1592312400@coparmexnl.org.mx
SUMMARY:CURSO: Seguimiento a clientes en el siglo XXI
DESCRIPTION:
URL:https://coparmexnl.org.mx/news/curso-seguimiento-al-clientes-en-el-siglo-xxi/
CATEGORIES:Capacitación
END:VEVENT
BEGIN:VEVENT
DTSTART;TZID=UTC:20200616T100000
DTEND;TZID=UTC:20200616T110000
DTSTAMP:20260420T224948
CREATED:20200601T213946Z
LAST-MODIFIED:20200601T213946Z
UID:33921-1592301600-1592305200@coparmexnl.org.mx
SUMMARY:WEBINAR: Marketing enfocado\, la herramienta que la mayoría de las PYMES no sigue y que limita su crecimiento y rentabilidad
DESCRIPTION:
URL:https://coparmexnl.org.mx/news/marketing-enfocado-la-herramienta-que-la-mayoria-de-las-pymes-no-sigue-y-que-limita-su-crecimiento-y-rentabilidad
CATEGORIES:Capacitación
ATTACH;FMTTYPE=image/jpeg:https://coparmexnl.org.mx/wp-content/uploads/2018/01/plan-de-ventas.jpeg
END:VEVENT
BEGIN:VEVENT
DTSTART;TZID=UTC:20200617T160000
DTEND;TZID=UTC:20200617T180000
DTSTAMP:20260420T224948
CREATED:20200615T170254Z
LAST-MODIFIED:20200615T170254Z
UID:34114-1592409600-1592416800@coparmexnl.org.mx
SUMMARY:WEBINAR - Regreso Seguro al Trabajo
DESCRIPTION:
URL:https://coparmexnl.org.mx/news/regreso-seguro-al-trabajo
CATEGORIES:Capacitación
END:VEVENT
BEGIN:VEVENT
DTSTART;TZID=America/Chicago:20200619T100000
DTEND;TZID=America/Chicago:20200619T113000
DTSTAMP:20260420T224948
CREATED:20200615T151541Z
LAST-MODIFIED:20200615T152056Z
UID:34108-1592560800-1592566200@coparmexnl.org.mx
SUMMARY:XCI ASAMBLEA COPARMEX NUEVO LEÓN
DESCRIPTION:
URL:https://coparmexnl.org.mx/event/xci-asamblea/
CATEGORIES:Institucionales
ATTACH;FMTTYPE=image/jpeg:https://coparmexnl.org.mx/wp-content/uploads/2020/06/invitación-2020VF2020fin-02.jpg
END:VEVENT
BEGIN:VEVENT
DTSTART;TZID=UTC:20200623T110000
DTEND;TZID=UTC:20200623T120000
DTSTAMP:20260420T224948
CREATED:20200610T193130Z
LAST-MODIFIED:20200616T173439Z
UID:33996-1592910000-1592913600@coparmexnl.org.mx
SUMMARY:WEBINAR: Productividad Laboral en la Nueva Normalidad
DESCRIPTION:
URL:https://coparmexnl.org.mx/news/productividad-laboral-en-la-nueva-normalidad
CATEGORIES:Capacitación
ATTACH;FMTTYPE=image/jpeg:https://coparmexnl.org.mx/wp-content/uploads/2018/01/invitacion.jpg
END:VEVENT
BEGIN:VEVENT
DTSTART;TZID=UTC:20200625T113000
DTEND;TZID=UTC:20200625T123000
DTSTAMP:20260420T224948
CREATED:20200616T210833Z
LAST-MODIFIED:20200616T210955Z
UID:34168-1593084600-1593088200@coparmexnl.org.mx
SUMMARY:WEBINAR - México en Terapia Intensiva
DESCRIPTION:
URL:https://coparmexnl.org.mx/news/mexico-en-terapia-intensiva
CATEGORIES:Capacitación
END:VEVENT
BEGIN:VEVENT
DTSTART;TZID=UTC:20200630T090000
DTEND;TZID=UTC:20200630T110000
DTSTAMP:20260420T224948
CREATED:20200615T211743Z
LAST-MODIFIED:20200615T214632Z
UID:34119-1593507600-1593514800@coparmexnl.org.mx
SUMMARY:PROGRAMA - MANEJO DE EMOCIONES EN TIEMPOS DIFICILES
DESCRIPTION:
URL:https://coparmexnl.org.mx/news/manejo-de-emociones-en-tiempos-dificiles/
CATEGORIES:Capacitación
END:VEVENT
BEGIN:VEVENT
DTSTART;TZID=UTC:20200630T090000
DTEND;TZID=UTC:20200630T110000
DTSTAMP:20260420T224948
CREATED:20200615T213113Z
LAST-MODIFIED:20200615T214826Z
UID:34122-1593507600-1593514800@coparmexnl.org.mx
SUMMARY:Mod. 1.- Causas Comunes de Estrés en el Lugar de Trabajo
DESCRIPTION:
URL:https://coparmexnl.org.mx/news/causas-comunes-de-estres-en-el-lugar-de-trabajo/
CATEGORIES:Capacitación
ATTACH;FMTTYPE=image/jpeg:https://coparmexnl.org.mx/wp-content/uploads/2020/06/Manejo-de-Emociones-en-tiempos-difíciles.jpg
END:VEVENT
BEGIN:VEVENT
DTSTART;TZID=UTC:20200630T100000
DTEND;TZID=UTC:20200630T110000
DTSTAMP:20260420T224948
CREATED:20200601T214717Z
LAST-MODIFIED:20200601T214717Z
UID:33924-1593511200-1593514800@coparmexnl.org.mx
SUMMARY:WEBINAR - Entendiendo de manera práctica y sencilla las finanzas de tu PYME
DESCRIPTION:
URL:https://coparmexnl.org.mx/news/entendiendo-de-manera-practica-y-sencilla-las-finanzas-de-tu-pyme
CATEGORIES:Capacitación
ATTACH;FMTTYPE=image/jpeg:https://coparmexnl.org.mx/wp-content/uploads/2018/01/excel-avanzado-y-macros-min.jpg
END:VEVENT
BEGIN:VEVENT
DTSTART;TZID=UTC:20200630T150000
DTEND;TZID=UTC:20200630T180000
DTSTAMP:20260420T224948
CREATED:20200616T204305Z
LAST-MODIFIED:20200616T204425Z
UID:34163-1593529200-1593540000@coparmexnl.org.mx
SUMMARY:CURSO: Creación de nuevos negocios:Idear\, prototipar\, validar y monetizar
DESCRIPTION:
URL:https://coparmexnl.org.mx/news/creacion-de-nuevos-negocios-idear-prototipar-validar-y-monetizar/
CATEGORIES:Capacitación
END:VEVENT
BEGIN:VEVENT
DTSTART;TZID=UTC:20200630T160000
DTEND;TZID=UTC:20200630T170000
DTSTAMP:20260420T224948
CREATED:20200622T155648Z
LAST-MODIFIED:20200622T210531Z
UID:34224-1593532800-1593536400@coparmexnl.org.mx
SUMMARY:WEBINAR - Cómo aplicar las 5'S en la Nueva Normalidad
DESCRIPTION:
URL:https://coparmexnl.org.mx/news/como-aplicar-las-5s-en-la-nueva-normalidad
CATEGORIES:Capacitación
ATTACH;FMTTYPE=image/jpeg:https://coparmexnl.org.mx/wp-content/uploads/2018/01/el-poder-de-los-habitos-min.jpg
END:VEVENT
END:VCALENDAR