BEGIN:VCALENDAR
VERSION:2.0
PRODID:-//Coparmex - ECPv5.16.3//NONSGML v1.0//EN
CALSCALE:GREGORIAN
METHOD:PUBLISH
X-ORIGINAL-URL:https://coparmexnl.org.mx
X-WR-CALDESC:Eventos para Coparmex
REFRESH-INTERVAL;VALUE=DURATION:PT1H
X-Robots-Tag:noindex
X-PUBLISHED-TTL:PT1H
BEGIN:VTIMEZONE
TZID:UTC
BEGIN:STANDARD
TZOFFSETFROM:+0000
TZOFFSETTO:+0000
TZNAME:UTC
DTSTART:20200101T000000
END:STANDARD
TZID:America/Chicago
BEGIN:DAYLIGHT
TZOFFSETFROM:-0600
TZOFFSETTO:-0500
TZNAME:CDT
DTSTART:20200308T080000
END:DAYLIGHT
BEGIN:STANDARD
TZOFFSETFROM:-0500
TZOFFSETTO:-0600
TZNAME:CST
DTSTART:20201101T070000
END:STANDARD
END:VTIMEZONE
BEGIN:VEVENT
DTSTART;TZID=UTC:20200326T110000
DTEND;TZID=UTC:20200326T120000
DTSTAMP:20260421T071352
CREATED:20200324T233525Z
LAST-MODIFIED:20200324T233540Z
UID:32819-1585220400-1585224000@coparmexnl.org.mx
SUMMARY:WEBINAR GENERALIDADES Y PANORAMA EPIDEMIOLÓGICO DEL COVID-19
DESCRIPTION:Informar de forma eficiente a la población con datos reales sobre el COVID-19\, cómo cuidarnos y entender la situación de la Pandemia Actual.
URL:https://coparmexnl.org.mx/news/generalidades-y-panorama-epidemiologico-del-covid-19/
CATEGORIES:Capacitación
ATTACH;FMTTYPE=image/jpeg:https://coparmexnl.org.mx/wp-content/uploads/2020/03/webinar-01.jpeg
END:VEVENT
BEGIN:VEVENT
DTSTART;TZID=America/Chicago:20200326T160000
DTEND;TZID=America/Chicago:20200326T170000
DTSTAMP:20260421T071352
CREATED:20200325T210100Z
LAST-MODIFIED:20200325T212438Z
UID:32860-1585238400-1585242000@coparmexnl.org.mx
SUMMARY:WEBINAR: ASPECTOS LABORALES ANTE CONTINGENCIA POR COVID-19
DESCRIPTION:
URL:https://coparmexnl.org.mx/news/aspectos-laborales-ante-contingencia-por-covid-19/aspectos-laborales-ante-contingencia-por-covid-19/
CATEGORIES:Capacitación
ATTACH;FMTTYPE=image/jpeg:https://coparmexnl.org.mx/wp-content/uploads/2020/03/flyeronline-01.jpg
END:VEVENT
BEGIN:VEVENT
DTSTART;TZID=UTC:20200327T100000
DTEND;TZID=UTC:20200327T110000
DTSTAMP:20260421T071352
CREATED:20200324T223208Z
LAST-MODIFIED:20200324T233305Z
UID:32808-1585303200-1585306800@coparmexnl.org.mx
SUMMARY:WEBINAR SALVA A TU EMPRESA DE ESTA CRISIS: PLAN INMEDIATO
DESCRIPTION:Uno de los principales impactos económicos  que  se tendrán a partir del COVID19 será en las micro y pequeñas empresas\, es por eso que el Lic.  Mauricio Leal Goldstein nos hablará sobre una herramienta que ha creado la cual permite diseñar un plan de contingencia para superar la crisis.
URL:https://coparmexnl.org.mx/news/salva-a-tu-empresa-de-esta-crisis-plan-inmediato
CATEGORIES:Capacitación
ATTACH;FMTTYPE=image/png:https://coparmexnl.org.mx/wp-content/uploads/2020/03/invitaciónwebinarcoparmex-112.png
END:VEVENT
BEGIN:VEVENT
DTSTART;TZID=UTC:20200330T170000
DTEND;TZID=UTC:20200330T180000
DTSTAMP:20260421T071352
CREATED:20200325T172344Z
LAST-MODIFIED:20200325T172454Z
UID:32839-1585587600-1585591200@coparmexnl.org.mx
SUMMARY:WEBINAR: EFECTIVIDAD EN EL TRABAJO A DISTANCIA
DESCRIPTION:Conozca rutinas de gestión efectivas de manera  individual y grupal para el tele trabajo.
URL:https://coparmexnl.org.mx/news/efectividad-en-el-trabajo-a-distancia
CATEGORIES:Capacitación
ATTACH;FMTTYPE=image/jpeg:https://coparmexnl.org.mx/wp-content/uploads/2020/03/Efectividad-en-el-Trabajo-a-Distancia.jpg
END:VEVENT
BEGIN:VEVENT
DTSTART;TZID=UTC:20200331T160000
DTEND;TZID=UTC:20200331T170000
DTSTAMP:20260421T071352
CREATED:20200326T161012Z
LAST-MODIFIED:20200401T225600Z
UID:32872-1585670400-1585674000@coparmexnl.org.mx
SUMMARY:WEBINAR- Redes Sociales: Más que Likes y Fans\, se trata de resultados tangibles
DESCRIPTION:Descubre las capacidades actuales de las campañas en redes sociales. Con las campañas de conversión\, una empresa puede controlar su inversión digital en resultados tangibles\, adquiriendo prospectos\, ventas o posicionamiento de marca a un precio conocido.
URL:https://coparmexnl.org.mx/news/redes-sociales-mas-que-likes-y-fans-se-trata-de-resultados-tangibles
CATEGORIES:Capacitación
ATTACH;FMTTYPE=image/jpeg:https://coparmexnl.org.mx/wp-content/uploads/2020/03/webinarabril-02.jpg
END:VEVENT
END:VCALENDAR