BEGIN:VCALENDAR
VERSION:2.0
PRODID:-//Coparmex - ECPv5.16.3//NONSGML v1.0//EN
CALSCALE:GREGORIAN
METHOD:PUBLISH
X-WR-CALNAME:Coparmex
X-ORIGINAL-URL:https://coparmexnl.org.mx
X-WR-CALDESC:Eventos para Coparmex
REFRESH-INTERVAL;VALUE=DURATION:PT1H
X-Robots-Tag:noindex
X-PUBLISHED-TTL:PT1H
BEGIN:VTIMEZONE
TZID:America/Chicago
BEGIN:DAYLIGHT
TZOFFSETFROM:-0600
TZOFFSETTO:-0500
TZNAME:CDT
DTSTART:20190310T080000
END:DAYLIGHT
BEGIN:STANDARD
TZOFFSETFROM:-0500
TZOFFSETTO:-0600
TZNAME:CST
DTSTART:20191103T070000
END:STANDARD
TZID:UTC
BEGIN:STANDARD
TZOFFSETFROM:+0000
TZOFFSETTO:+0000
TZNAME:UTC
DTSTART:20190101T000000
END:STANDARD
END:VTIMEZONE
BEGIN:VEVENT
DTSTART;TZID=America/Chicago:20190902T160000
DTEND;TZID=America/Chicago:20190903T130000
DTSTAMP:20260421T170223
CREATED:20190726T205124Z
LAST-MODIFIED:20190726T205124Z
UID:31059-1567440000-1567515600@coparmexnl.org.mx
SUMMARY:TRANSFORMACIONES DE LAS ORGANIZACIONES Y DE LAS RELACIONES LABORALES
DESCRIPTION:
URL:https://coparmexnl.org.mx/news/transformaciones-de-las-organizaciones-y-de-las-relaciones-laborales
CATEGORIES:Capacitación
END:VEVENT
BEGIN:VEVENT
DTSTART;TZID=UTC:20190903T083000
DTEND;TZID=UTC:20190903T173000
DTSTAMP:20260421T170223
CREATED:20180115T213037Z
LAST-MODIFIED:20190621T152047Z
UID:26741-1567499400-1567531800@coparmexnl.org.mx
SUMMARY:MANEJO DE CONFLICTOS Y TOMA DE DECISIONES ASERTIVAS
DESCRIPTION:Seminario tipo taller altamente interactivo donde los participantes conocerán y pondrán en práctica herramientas que aplicadas en su trabajo y vida personal\, podrán resolver conflictos entre clientes internos y/o externos\, apoyadas con estrategias para toma de decisiones asertivas buscando el ganar – ganar.
URL:https://coparmexnl.org.mx/news/manejo-conflictos-toma-decisiones-asertivas
CATEGORIES:Capacitación
END:VEVENT
BEGIN:VEVENT
DTSTART;TZID=America/Chicago:20190906T013000
DTEND;TZID=America/Chicago:20190906T173000
DTSTAMP:20260421T170223
CREATED:20190624T210727Z
LAST-MODIFIED:20190624T210727Z
UID:30872-1567733400-1567791000@coparmexnl.org.mx
SUMMARY:GESTIÓN DEL DESEMPEÑO
DESCRIPTION:
URL:https://coparmexnl.org.mx/news/gestion-del-desempeno-2
CATEGORIES:Capacitación
END:VEVENT
BEGIN:VEVENT
DTSTART;TZID=America/Chicago:20190906T083000
DTEND;TZID=America/Chicago:20190906T123000
DTSTAMP:20260421T170223
CREATED:20180720T191354Z
LAST-MODIFIED:20190624T172247Z
UID:29476-1567758600-1567773000@coparmexnl.org.mx
SUMMARY:LA NEGOCIACIÓN
DESCRIPTION:
URL:https://coparmexnl.org.mx/news/la-negociacion
CATEGORIES:Capacitación
END:VEVENT
BEGIN:VEVENT
DTSTART;TZID=America/Chicago:20190906T083000
DTEND;TZID=America/Chicago:20190906T173000
DTSTAMP:20260421T170223
CREATED:20190122T170610Z
LAST-MODIFIED:20190122T170610Z
UID:30162-1567758600-1567791000@coparmexnl.org.mx
SUMMARY:Taller de Pensamiento Disruptivo
DESCRIPTION:
URL:https://coparmexnl.org.mx/news/taller-de-pensamiento-disruptivo-2/
CATEGORIES:Capacitación
END:VEVENT
BEGIN:VEVENT
DTSTART;TZID=America/Chicago:20190909T160000
DTEND;TZID=America/Chicago:20190909T200000
DTSTAMP:20260421T170223
CREATED:20190726T210345Z
LAST-MODIFIED:20190726T210345Z
UID:31061-1568044800-1568059200@coparmexnl.org.mx
SUMMARY:NUEVAS FORMAS DE TRABAJO Y CONTRATACIÓN
DESCRIPTION:
URL:https://coparmexnl.org.mx/news/nuevas-formas-de-trabajo-y-contratacion
CATEGORIES:Capacitación
END:VEVENT
BEGIN:VEVENT
DTSTART;TZID=America/Chicago:20190910T090000
DTEND;TZID=America/Chicago:20190910T130000
DTSTAMP:20260421T170223
CREATED:20190726T211048Z
LAST-MODIFIED:20190726T211048Z
UID:31064-1568106000-1568120400@coparmexnl.org.mx
SUMMARY:LA ADMINISTRACIÓN LABORAL VIRTUAL // ¿CÓMO IMPACTA EL FUTURO DEL TRABAJO A RECURSOS HUMANOS?
DESCRIPTION:
URL:https://coparmexnl.org.mx/news/la-administracion-laboral-virtual-como-impacta-el-futuro-del-trabajo-a-recursos-humanos
CATEGORIES:Capacitación
END:VEVENT
BEGIN:VEVENT
DTSTART;TZID=UTC:20190910T090000
DTEND;TZID=UTC:20190911T150000
DTSTAMP:20260421T170223
CREATED:20190621T152903Z
LAST-MODIFIED:20190621T154235Z
UID:30811-1568106000-1568214000@coparmexnl.org.mx
SUMMARY:TÉCNICAS EFECTIVAS DE ENTREVISTA LABORAL
DESCRIPTION:I.-      Introducción \nII.-    Tipos de entrevista laboral \nIII.-  Clasificación \nIV.-  Técnicas de entrevista \nV.-    Claves de una entrevista efectiva \nVI.-   Conclusiones
URL:https://coparmexnl.org.mx/news/tecnicas-efectivas-de-entrevista-laboral-1
CATEGORIES:Capacitación
END:VEVENT
BEGIN:VEVENT
DTSTART;TZID=UTC:20190913T090000
DTEND;TZID=UTC:20190913T130000
DTSTAMP:20260421T170223
CREATED:20180116T005743Z
LAST-MODIFIED:20190621T160504Z
UID:26812-1568365200-1568379600@coparmexnl.org.mx
SUMMARY:LOS SIETE PASOS DEL ÉXITO EN EL SERVICIO AL CLIENTE
DESCRIPTION:Todas las personas constituyen la diferencia.
URL:https://coparmexnl.org.mx/news/los-7-pasos-del-exito-2
CATEGORIES:Capacitación
END:VEVENT
BEGIN:VEVENT
DTSTART;TZID=UTC:20190920T083000
DTEND;TZID=UTC:20190920T100000
DTSTAMP:20260421T170223
CREATED:20190115T165019Z
LAST-MODIFIED:20190115T165019Z
UID:30056-1568968200-1568973600@coparmexnl.org.mx
SUMMARY:EVENTO DE INDUCCIÓN A SOCIOS
DESCRIPTION:Confirma tu asistencia al Evento de Inducción\nConfirma tu asistencia al Evento de Inducción\n\n\n\n\n\n\n\n    Nombre\n        *\n    \n    \n    \n    \n\n\n    Email\n        *\n    \n    \n    \n    \n\n\n    reCAPTCHA\n        \n    \n    \n    \n    \n\n	\n	\n\nEnviar
URL:https://coparmexnl.org.mx/event/evento-de-induccion-a-socios-9/
LOCATION:Oficinas COPARMEX\, Cuauhtémoc 757\, Centro\, Monterrey\, Nuevo León\, 64000
CATEGORIES:Inducción a Socios
ORGANIZER;CN="Afiliaci%C3%B3n":MAILTO:socios@coparmexnl.org.mx
END:VEVENT
BEGIN:VEVENT
DTSTART;TZID=America/Chicago:20190920T083000
DTEND;TZID=America/Chicago:20190920T173000
DTSTAMP:20260421T170224
CREATED:20180720T172417Z
LAST-MODIFIED:20190624T172915Z
UID:29460-1568968200-1569000600@coparmexnl.org.mx
SUMMARY:GESTIÓN DE CARRERA Y SUCESIÓN
DESCRIPTION:
URL:https://coparmexnl.org.mx/news/gestion-de-carrera-y-sucesion
CATEGORIES:Capacitación
END:VEVENT
BEGIN:VEVENT
DTSTART;TZID=America/Chicago:20190920T083000
DTEND;TZID=America/Chicago:20190920T173000
DTSTAMP:20260421T170224
CREATED:20190621T162127Z
LAST-MODIFIED:20190909T161648Z
UID:30820-1568968200-1569000600@coparmexnl.org.mx
SUMMARY:EL LÍDER COMO FACILITADOR DEL DESARROLLO HUMANO
DESCRIPTION:
URL:https://coparmexnl.org.mx/news/el-lider-como-facilitador-del-desarrollo-humano-1/
CATEGORIES:Capacitación
END:VEVENT
BEGIN:VEVENT
DTSTART;TZID=America/Chicago:20190923T160000
DTEND;TZID=America/Chicago:20190924T130000
DTSTAMP:20260421T170224
CREATED:20190726T212110Z
LAST-MODIFIED:20190726T212110Z
UID:31067-1569254400-1569330000@coparmexnl.org.mx
SUMMARY:LA NEGOCIACIÓN DEL CONTRATO COLECTIVO DE TRABAJO
DESCRIPTION:
URL:https://coparmexnl.org.mx/news/la-negociacion-del-contrato-colectivo-de-trabajo
CATEGORIES:Capacitación
END:VEVENT
BEGIN:VEVENT
DTSTART;TZID=America/Chicago:20190924T090000
DTEND;TZID=America/Chicago:20190924T130000
DTSTAMP:20260421T170224
CREATED:20190821T184411Z
LAST-MODIFIED:20190910T213108Z
UID:31300-1569315600-1569330000@coparmexnl.org.mx
SUMMARY:Integración de la Comisión de Seguridad e Higiene (NOM 019)
DESCRIPTION:
URL:https://coparmexnl.org.mx/news/integracion-de-la-comision-de-seguridad-e-higiene
CATEGORIES:Capacitación
END:VEVENT
BEGIN:VEVENT
DTSTART;TZID=UTC:20190924T090000
DTEND;TZID=UTC:20190924T150000
DTSTAMP:20260421T170224
CREATED:20190621T163111Z
LAST-MODIFIED:20190621T163516Z
UID:30824-1569315600-1569337200@coparmexnl.org.mx
SUMMARY:CRITERIOS DE LA STPS EN MATERIA DE CAPACITACIÓN
DESCRIPTION:Introducción\nNormatividad\nCriterios generales y formatos correspondientes\nPlanes y Programas de Capacitación y Adiestramiento\nDetección de necesidades de capacitación (DNC)
URL:https://coparmexnl.org.mx/event/criterios-de-la-stps-en-materia-de-capacitacion-3/
CATEGORIES:Capacitación
END:VEVENT
BEGIN:VEVENT
DTSTART;TZID=UTC:20190925T090000
DTEND;TZID=UTC:20190925T150000
DTSTAMP:20260421T170224
CREATED:20190621T163616Z
LAST-MODIFIED:20190621T163949Z
UID:30828-1569402000-1569423600@coparmexnl.org.mx
SUMMARY:CRITERIOS DE LA STPS EN MATERIA DE CAPACITACIÓN
DESCRIPTION:Introducción\nNormatividad\nCriterios generales y formatos correspondientes\nPlanes y Programas de Capacitación y Adiestramiento\nDetección de necesidades de capacitación (DNC)
URL:https://coparmexnl.org.mx/event/criterios-de-la-stps-en-materia-de-capacitacion-4/
CATEGORIES:Capacitación
END:VEVENT
BEGIN:VEVENT
DTSTART;TZID=UTC:20190927T083000
DTEND;TZID=UTC:20190927T173000
DTSTAMP:20260421T170224
CREATED:20190621T165121Z
LAST-MODIFIED:20190912T162716Z
UID:30831-1569573000-1569605400@coparmexnl.org.mx
SUMMARY:PLANEACIÓN DE VIDA PARA EL PERSONAL PRÓXIMO A JUBILARSE
DESCRIPTION:Lograr que el personal que está próximo a su jubilación\, pueda tener una visión clara de sí mismos y de su futuro al momento de llegar su jubilación.
URL:https://coparmexnl.org.mx/news/planeacion-de-vida-para-el-personal-proximo-a-jubilarse-3
CATEGORIES:Capacitación
END:VEVENT
BEGIN:VEVENT
DTSTART;TZID=America/Chicago:20190930T160000
DTEND;TZID=America/Chicago:20191001T130000
DTSTAMP:20260421T170224
CREATED:20190726T212431Z
LAST-MODIFIED:20190726T212431Z
UID:31070-1569859200-1569934800@coparmexnl.org.mx
SUMMARY:SEGURIDAD SOCIAL
DESCRIPTION:
URL:https://coparmexnl.org.mx/news/seguridad-social
CATEGORIES:Capacitación
END:VEVENT
END:VCALENDAR