BEGIN:VCALENDAR
VERSION:2.0
PRODID:-//Coparmex - ECPv5.16.3//NONSGML v1.0//EN
CALSCALE:GREGORIAN
METHOD:PUBLISH
X-ORIGINAL-URL:https://coparmexnl.org.mx
X-WR-CALDESC:Eventos para Coparmex
REFRESH-INTERVAL;VALUE=DURATION:PT1H
X-Robots-Tag:noindex
X-PUBLISHED-TTL:PT1H
BEGIN:VTIMEZONE
TZID:UTC
BEGIN:STANDARD
TZOFFSETFROM:+0000
TZOFFSETTO:+0000
TZNAME:UTC
DTSTART:20190101T000000
END:STANDARD
TZID:America/Chicago
BEGIN:DAYLIGHT
TZOFFSETFROM:-0600
TZOFFSETTO:-0500
TZNAME:CDT
DTSTART:20190310T080000
END:DAYLIGHT
BEGIN:STANDARD
TZOFFSETFROM:-0500
TZOFFSETTO:-0600
TZNAME:CST
DTSTART:20191103T070000
END:STANDARD
END:VTIMEZONE
BEGIN:VEVENT
DTSTART;TZID=UTC:20190703T090000
DTEND;TZID=UTC:20190703T130000
DTSTAMP:20260421T200709
CREATED:20180917T155244Z
LAST-MODIFIED:20190531T173404Z
UID:29790-1562144400-1562158800@coparmexnl.org.mx
SUMMARY:VENTAS INTELIGENTES
DESCRIPTION:Mercadotecnia Generacional\, Programación Neurolingüística\, Técnincas de Comunicación.
URL:https://coparmexnl.org.mx/news/ventas-inteligentes-4
CATEGORIES:Capacitación
END:VEVENT
BEGIN:VEVENT
DTSTART;TZID=America/Chicago:20190704T083000
DTEND;TZID=America/Chicago:20190704T180000
DTSTAMP:20260421T200709
CREATED:20190122T173803Z
LAST-MODIFIED:20190604T184547Z
UID:30165-1562229000-1562263200@coparmexnl.org.mx
SUMMARY:SEMINARIO DE SEGURIDAD Y SALUD EN EL TRABAJO MÓDULO I
DESCRIPTION:
URL:https://coparmexnl.org.mx/news/seminario-de-seguridad-y-salud-en-el-trabajo-modulo-i/
CATEGORIES:Capacitación
END:VEVENT
BEGIN:VEVENT
DTSTART;TZID=America/Chicago:20190705T083000
DTEND;TZID=America/Chicago:20190705T173000
DTSTAMP:20260421T200709
CREATED:20180807T152704Z
LAST-MODIFIED:20190531T201500Z
UID:29555-1562315400-1562347800@coparmexnl.org.mx
SUMMARY:INTELIGENCIA EMOCIONAL
DESCRIPTION:
URL:https://coparmexnl.org.mx/news/conferencia-la-ciencia-descubre-las-emociones
CATEGORIES:Capacitación
END:VEVENT
BEGIN:VEVENT
DTSTART;TZID=UTC:20190709T083000
DTEND;TZID=UTC:20190710T173000
DTSTAMP:20260421T200709
CREATED:20180111T213952Z
LAST-MODIFIED:20190613T145627Z
UID:26605-1562661000-1562779800@coparmexnl.org.mx
SUMMARY:EL OTORGAMIENTO DE CRÉDITO Y LA COBRANZA EFECTIVA
DESCRIPTION:Crédito\nFactores a considerar para una política de crédito.\nAnálisis de rentabilidad de la política de crédito.\nLa Negociación del Crédito.\nLa integración de expedientes.\nEl Análisis de Crédito.\nEl proceso de autorización según facultades.\nSeguimiento del Crédito.\nCausas más comunes de Problemas en el Proceso del Crédito.\nAlternativas de fondeo para el otorgamiento del crédito.\n\n  \n\nCobranza\nFormulación de las políticas de cobranza.\nLa importancia de la cobranza y sus principios generales.\nFormas tipos y responsabilidad de la cobranza.\nProcedimientos de cobranza.\nLabor efectiva de cobranza.\nSupervisión ejecutiva de la cobranza.\nControl de la gestión de cobranza.\nCostos de la cobranza.
URL:https://coparmexnl.org.mx/news/otorgamiento-credito-la-cobranza-efectiva
CATEGORIES:Capacitación
END:VEVENT
BEGIN:VEVENT
DTSTART;TZID=America/Chicago:20190709T090000
DTEND;TZID=America/Chicago:20190710T130000
DTSTAMP:20260421T200709
CREATED:20180709T141549Z
LAST-MODIFIED:20190604T203535Z
UID:29345-1562662800-1562763600@coparmexnl.org.mx
SUMMARY:ENTRENAMIENTO PROFESIONAL PARA GERENTES DE VENTAS
DESCRIPTION:Desarrolla habilidades de liderazgo para una mejor gestión del área comercial.
URL:https://coparmexnl.org.mx/news/entrenamiento-profesional-para-gerentes-de-ventas/
CATEGORIES:Capacitación
END:VEVENT
BEGIN:VEVENT
DTSTART;TZID=America/Chicago:20190711T083000
DTEND;TZID=America/Chicago:20190711T173000
DTSTAMP:20260421T200709
CREATED:20190122T174602Z
LAST-MODIFIED:20190604T184845Z
UID:30167-1562833800-1562866200@coparmexnl.org.mx
SUMMARY:SEMINARIO DE SEGURIDAD Y SALUD EN EL TRABAJO MODULO II
DESCRIPTION:
URL:https://coparmexnl.org.mx/news/seminario-de-seguridad-y-salud-en-el-trabajo/
CATEGORIES:Capacitación
END:VEVENT
BEGIN:VEVENT
DTSTART;TZID=UTC:20190712T083000
DTEND;TZID=UTC:20190712T173000
DTSTAMP:20260421T200709
CREATED:20180917T160515Z
LAST-MODIFIED:20190617T171141Z
UID:29793-1562920200-1562952600@coparmexnl.org.mx
SUMMARY:RESILIENCIA Y ADAPTACIÓN AL CAMBIO
DESCRIPTION:
URL:https://coparmexnl.org.mx/news/ventas-pegajosas-2
CATEGORIES:Capacitación
END:VEVENT
BEGIN:VEVENT
DTSTART;TZID=America/Chicago:20190712T083000
DTEND;TZID=America/Chicago:20190712T173000
DTSTAMP:20260421T200709
CREATED:20190624T204208Z
LAST-MODIFIED:20190624T204249Z
UID:30863-1562920200-1562952600@coparmexnl.org.mx
SUMMARY:ATRACCIÓN - SELECCIÓN - INCORPORACIÓN DE TALENTO
DESCRIPTION:
URL:https://coparmexnl.org.mx/news/atraccion-seleccion-incorporacion-de-talento
CATEGORIES:Capacitación
END:VEVENT
BEGIN:VEVENT
DTSTART;TZID=America/Chicago:20190718T080000
DTEND;TZID=America/Chicago:20190718T120000
DTSTAMP:20260421T200709
CREATED:20190703T171439Z
LAST-MODIFIED:20190703T203433Z
UID:30968-1563436800-1563451200@coparmexnl.org.mx
SUMMARY:DESAYUNO - WORKSHOP
DESCRIPTION:
URL:https://coparmexnl.org.mx/news/desayuno-empresarial-tendencias-ti-2020-fast-forward-with-aws-2/
CATEGORIES:Desayunos Empresariales
END:VEVENT
BEGIN:VEVENT
DTSTART;TZID=America/Chicago:20190718T083000
DTEND;TZID=America/Chicago:20190718T173000
DTSTAMP:20260421T200709
CREATED:20190122T175007Z
LAST-MODIFIED:20190604T185229Z
UID:30170-1563438600-1563471000@coparmexnl.org.mx
SUMMARY:SEMINARIO DE SEGURIDAD Y SALUD EN EL TRABAJO MODULO III
DESCRIPTION:
URL:https://coparmexnl.org.mx/news/seminario-de-seguridad-y-salud-en-el-trabajo-modulo-iii/
CATEGORIES:Capacitación
END:VEVENT
BEGIN:VEVENT
DTSTART;TZID=UTC:20190718T090000
DTEND;TZID=UTC:20190718T150000
DTSTAMP:20260421T200709
CREATED:20180115T211815Z
LAST-MODIFIED:20190617T172751Z
UID:26734-1563440400-1563462000@coparmexnl.org.mx
SUMMARY:CAPACITACIÓN PROFESIONAL PARA EL PERSONAL DE SEGURIDAD
DESCRIPTION:    Funciones y Profesionalismo\n    Servicio al Cliente y Relaciones Públicas\n    Habilidades de Comunicación y Elaboración del Informe Escrito\n    Derecho Penal\n    Prevención del Delito y Seguridad Física\n    Pérdidas Internas\n    Defensa Personal y Armas
URL:https://coparmexnl.org.mx/news/capacitacion-profesional-personal-seguridad
CATEGORIES:Capacitación
END:VEVENT
BEGIN:VEVENT
DTSTART;TZID=UTC:20190719T083000
DTEND;TZID=UTC:20190719T100000
DTSTAMP:20260421T200709
CREATED:20190115T164718Z
LAST-MODIFIED:20190115T164718Z
UID:30052-1563525000-1563530400@coparmexnl.org.mx
SUMMARY:EVENTO DE INDUCCIÓN A SOCIOS
DESCRIPTION:Confirma tu asistencia al Evento de Inducción\nConfirma tu asistencia al Evento de Inducción\n\n\n\n\n\n\n\n    Nombre\n        *\n    \n    \n    \n    \n\n\n    Email\n        *\n    \n    \n    \n    \n\n\n    reCAPTCHA\n        \n    \n    \n    \n    \n\n	\n	\n\nEnviar
URL:https://coparmexnl.org.mx/event/evento-de-induccion-a-socios-7/
LOCATION:Oficinas COPARMEX\, Cuauhtémoc 757\, Centro\, Monterrey\, Nuevo León\, 64000
CATEGORIES:Inducción a Socios
ORGANIZER;CN="Afiliaci%C3%B3n":MAILTO:socios@coparmexnl.org.mx
END:VEVENT
BEGIN:VEVENT
DTSTART;TZID=America/Chicago:20190724T090000
DTEND;TZID=America/Chicago:20190725T180000
DTSTAMP:20260421T200709
CREATED:20190121T213108Z
LAST-MODIFIED:20190121T213108Z
UID:30152-1563958800-1564077600@coparmexnl.org.mx
SUMMARY:Taller de Negociación 1: Teoría y Herramientas del Proyecto de Negociación de Harvard
DESCRIPTION:
URL:https://coparmexnl.org.mx/news/taller-de-negociacion-i-teoria-y-herramientas-del-proyecto-de-negociacion-de-harvard-3/
CATEGORIES:Capacitación
END:VEVENT
BEGIN:VEVENT
DTSTART;TZID=America/Chicago:20190726T083000
DTEND;TZID=America/Chicago:20190726T173000
DTSTAMP:20260421T200709
CREATED:20180720T163250Z
LAST-MODIFIED:20190624T163525Z
UID:29435-1564129800-1564162200@coparmexnl.org.mx
SUMMARY:WORKFORCE PLANNING
DESCRIPTION:
URL:https://coparmexnl.org.mx/news/workforce-planning
CATEGORIES:Capacitación
END:VEVENT
END:VCALENDAR