BEGIN:VCALENDAR
VERSION:2.0
PRODID:-//Coparmex - ECPv5.16.3//NONSGML v1.0//EN
CALSCALE:GREGORIAN
METHOD:PUBLISH
X-WR-CALNAME:Coparmex
X-ORIGINAL-URL:https://coparmexnl.org.mx
X-WR-CALDESC:Eventos para Coparmex
REFRESH-INTERVAL;VALUE=DURATION:PT1H
X-Robots-Tag:noindex
X-PUBLISHED-TTL:PT1H
BEGIN:VTIMEZONE
TZID:UTC
BEGIN:STANDARD
TZOFFSETFROM:+0000
TZOFFSETTO:+0000
TZNAME:UTC
DTSTART:20190101T000000
END:STANDARD
TZID:America/Chicago
BEGIN:DAYLIGHT
TZOFFSETFROM:-0600
TZOFFSETTO:-0500
TZNAME:CDT
DTSTART:20190310T080000
END:DAYLIGHT
BEGIN:STANDARD
TZOFFSETFROM:-0500
TZOFFSETTO:-0600
TZNAME:CST
DTSTART:20191103T070000
END:STANDARD
END:VTIMEZONE
BEGIN:VEVENT
DTSTART;TZID=UTC:20190607T090000
DTEND;TZID=UTC:20190607T130000
DTSTAMP:20260421T215534
CREATED:20171021T000911Z
LAST-MODIFIED:20190523T204551Z
UID:25969-1559898000-1559912400@coparmexnl.org.mx
SUMMARY:Lideres de Excelencia
DESCRIPTION:
URL:https://coparmexnl.org.mx//news/lideres-de-excelencia/
CATEGORIES:Capacitación
END:VEVENT
BEGIN:VEVENT
DTSTART;TZID=America/Chicago:20190612T090000
DTEND;TZID=America/Chicago:20190612T130000
DTSTAMP:20260421T215534
CREATED:20180919T162357Z
LAST-MODIFIED:20190425T204939Z
UID:29821-1560330000-1560344400@coparmexnl.org.mx
SUMMARY:ESTRATEGIAS EN VENTAS CORPORATIVAS
DESCRIPTION:
URL:https://coparmexnl.org.mx/news/estrategias-en-ventas-corporativas-2/
CATEGORIES:Capacitación
END:VEVENT
BEGIN:VEVENT
DTSTART;TZID=UTC:20190612T090000
DTEND;TZID=UTC:20190612T180000
DTSTAMP:20260421T215534
CREATED:20190506T202656Z
LAST-MODIFIED:20190507T205053Z
UID:30537-1560330000-1560362400@coparmexnl.org.mx
SUMMARY:TOMANDO CONTROL DEL FUTURO DE SU EMPRESA - FORESIGHT MATURITY MODEL
DESCRIPTION:
URL:https://coparmexnl.org.mx/news/tomando-control-del-futuro-de-su-empresa-foresight-maturity-model
CATEGORIES:Capacitación
END:VEVENT
BEGIN:VEVENT
DTSTART;TZID=America/Chicago:20190613T090000
DTEND;TZID=America/Chicago:20190613T130000
DTSTAMP:20260421T215534
CREATED:20180815T145552Z
LAST-MODIFIED:20190425T210940Z
UID:29587-1560416400-1560430800@coparmexnl.org.mx
SUMMARY:ESTRATEGIAS EN VENTAS CORPORATIVAS
DESCRIPTION:
URL:https://coparmexnl.org.mx/news/estrategias-ventas-corporativas/
CATEGORIES:Capacitación
END:VEVENT
BEGIN:VEVENT
DTSTART;TZID=America/Chicago:20190613T090000
DTEND;TZID=America/Chicago:20190613T130000
DTSTAMP:20260421T215534
CREATED:20190228T182522Z
LAST-MODIFIED:20190401T172754Z
UID:30429-1560416400-1560430800@coparmexnl.org.mx
SUMMARY:CÓMO ADMINISTRAR MI PROPIO NEGOCIO
DESCRIPTION:
URL:https://coparmexnl.org.mx/news/como-administrar-mi-propio-negocio/
CATEGORIES:Capacitación
END:VEVENT
BEGIN:VEVENT
DTSTART;TZID=UTC:20190618T083000
DTEND;TZID=UTC:20190618T173000
DTSTAMP:20260421T215534
CREATED:20180115T233046Z
LAST-MODIFIED:20190426T205909Z
UID:26765-1560846600-1560879000@coparmexnl.org.mx
SUMMARY:LIDERAZGO BASADO EN PRINCIPIOS
DESCRIPTION:Liderazgo a través de los 7 hábitos de Covey.
URL:https://coparmexnl.org.mx/news/liderazgo-basado-principios-2
CATEGORIES:Capacitación
END:VEVENT
BEGIN:VEVENT
DTSTART;TZID=UTC:20190621T083000
DTEND;TZID=UTC:20190621T100000
DTSTAMP:20260421T215534
CREATED:20190115T164607Z
LAST-MODIFIED:20190115T164607Z
UID:30050-1561105800-1561111200@coparmexnl.org.mx
SUMMARY:EVENTO DE INDUCCIÓN A SOCIOS
DESCRIPTION:Confirma tu asistencia al Evento de Inducción\nConfirma tu asistencia al Evento de Inducción\n\n\n\n\n\n\n\n    Nombre\n        *\n    \n    \n    \n    \n\n\n    Email\n        *\n    \n    \n    \n    \n\n\n    reCAPTCHA\n        \n    \n    \n    \n    \n\n	\n	\n\nEnviar
URL:https://coparmexnl.org.mx/event/evento-de-induccion-a-socios-6/
LOCATION:Oficinas COPARMEX\, Cuauhtémoc 757\, Centro\, Monterrey\, Nuevo León\, 64000
CATEGORIES:Inducción a Socios
ORGANIZER;CN="Afiliaci%C3%B3n":MAILTO:socios@coparmexnl.org.mx
END:VEVENT
BEGIN:VEVENT
DTSTART;TZID=America/Chicago:20190628T083000
DTEND;TZID=America/Chicago:20190628T123000
DTSTAMP:20260421T215534
CREATED:20180720T162455Z
LAST-MODIFIED:20190624T160928Z
UID:29429-1561710600-1561725000@coparmexnl.org.mx
SUMMARY:LA FUNCIÓN DE CAPITAL HUMANO\, EVOLUCIÓN Y CONTEXTO
DESCRIPTION:
URL:https://coparmexnl.org.mx/news/la-funcion-de-capital-humano-evolucion-y-contexto
CATEGORIES:Capacitación
END:VEVENT
BEGIN:VEVENT
DTSTART;TZID=America/Chicago:20190628T083000
DTEND;TZID=America/Chicago:20190628T173000
DTSTAMP:20260421T215534
CREATED:20181003T160008Z
LAST-MODIFIED:20190611T211835Z
UID:29861-1561710600-1561743000@coparmexnl.org.mx
SUMMARY:EVITE FRAUDES EN INTERNET Y SERVICIOS BANCARIOS
DESCRIPTION:Ofrecer un marco conceptual de las razones\, éticas y del comportamiento humano por los cuales las personas comenten o son víctimas de un fraude.
URL:https://coparmexnl.org.mx/news/evite-fraudes-en-internet-y-servicios-bancarios-2
CATEGORIES:Capacitación
END:VEVENT
BEGIN:VEVENT
DTSTART;TZID=America/Chicago:20190628T133000
DTEND;TZID=America/Chicago:20190628T173000
DTSTAMP:20260421T215534
CREATED:20180720T162210Z
LAST-MODIFIED:20190624T161812Z
UID:29425-1561728600-1561743000@coparmexnl.org.mx
SUMMARY:PERFIL Y COMPETENCIAS DEL PROFESIONISTA DE CAPITAL HUMANO
DESCRIPTION:
URL:https://coparmexnl.org.mx/news/perfil-y-competencias-del-profesionista-de-capital-humano
CATEGORIES:Capacitación
END:VEVENT
END:VCALENDAR