BEGIN:VCALENDAR
VERSION:2.0
PRODID:-//Coparmex - ECPv5.16.3//NONSGML v1.0//EN
CALSCALE:GREGORIAN
METHOD:PUBLISH
X-WR-CALNAME:Coparmex
X-ORIGINAL-URL:https://coparmexnl.org.mx
X-WR-CALDESC:Eventos para Coparmex
REFRESH-INTERVAL;VALUE=DURATION:PT1H
X-Robots-Tag:noindex
X-PUBLISHED-TTL:PT1H
BEGIN:VTIMEZONE
TZID:America/Chicago
BEGIN:DAYLIGHT
TZOFFSETFROM:-0600
TZOFFSETTO:-0500
TZNAME:CDT
DTSTART:20190310T080000
END:DAYLIGHT
BEGIN:STANDARD
TZOFFSETFROM:-0500
TZOFFSETTO:-0600
TZNAME:CST
DTSTART:20191103T070000
END:STANDARD
TZID:UTC
BEGIN:STANDARD
TZOFFSETFROM:+0000
TZOFFSETTO:+0000
TZNAME:UTC
DTSTART:20190101T000000
END:STANDARD
END:VTIMEZONE
BEGIN:VEVENT
DTSTART;TZID=America/Chicago:20190506T170000
DTEND;TZID=America/Chicago:20190506T210000
DTSTAMP:20260421T215532
CREATED:20190228T214224Z
LAST-MODIFIED:20190228T223352Z
UID:30433-1557162000-1557176400@coparmexnl.org.mx
SUMMARY:TRANSFORMACIÓN DIGITAL EN LA EMPRESA
DESCRIPTION:
URL:https://coparmexnl.org.mx/news/transformacion-digital-en-la-empresa/
CATEGORIES:Capacitación
END:VEVENT
BEGIN:VEVENT
DTSTART;TZID=America/Chicago:20190506T170000
DTEND;TZID=America/Chicago:20190506T210000
DTSTAMP:20260421T215532
CREATED:20190228T220748Z
LAST-MODIFIED:20190228T220748Z
UID:30436-1557162000-1557176400@coparmexnl.org.mx
SUMMARY:INTRODUCCIÓN A LA TRANSFORMACIÓN DIGITAL EN LOS NEGOCIOS
DESCRIPTION:
URL:https://coparmexnl.org.mx/news/introduccion-a-la-transformacion-digital-en-los-negocios/
CATEGORIES:Capacitación
END:VEVENT
BEGIN:VEVENT
DTSTART;TZID=America/Chicago:20190507T083000
DTEND;TZID=America/Chicago:20190507T173000
DTSTAMP:20260421T215532
CREATED:20190122T165337Z
LAST-MODIFIED:20190403T193809Z
UID:30159-1557217800-1557250200@coparmexnl.org.mx
SUMMARY:Taller de Pensamiento Disruptivo
DESCRIPTION:
URL:https://coparmexnl.org.mx/news/taller-de-pensamiento-disruptivo/
CATEGORIES:Capacitación
END:VEVENT
BEGIN:VEVENT
DTSTART;TZID=UTC:20190507T090000
DTEND;TZID=UTC:20190507T150000
DTSTAMP:20260421T215532
CREATED:20180116T001513Z
LAST-MODIFIED:20190408T195117Z
UID:26784-1557219600-1557241200@coparmexnl.org.mx
SUMMARY:CRITERIOS DE LA STPS EN MATERIA DE CAPACITACIÓN
DESCRIPTION:Introducción\nNormatividad\nCriterios generales y formatos correspondientes\nPlanes y Programas de Capacitación y Adiestramiento\nDetección de necesidades de capacitación (DNC)
URL:https://coparmexnl.org.mx/news/criterios-la-stps-materia-capacitacion
CATEGORIES:Capacitación
END:VEVENT
BEGIN:VEVENT
DTSTART;TZID=America/Chicago:20190508T160000
DTEND;TZID=America/Chicago:20190508T200000
DTSTAMP:20260421T215532
CREATED:20190226T225139Z
LAST-MODIFIED:20190226T225139Z
UID:30408-1557331200-1557345600@coparmexnl.org.mx
SUMMARY:CULTURA DE LA LEGALIDAD
DESCRIPTION:
URL:https://coparmexnl.org.mx/news/cultura-de-la-legalidad/
CATEGORIES:Capacitación
END:VEVENT
BEGIN:VEVENT
DTSTART;TZID=UTC:20190509T090000
DTEND;TZID=UTC:20190509T120000
DTSTAMP:20260421T215532
CREATED:20180116T003031Z
LAST-MODIFIED:20190423T154622Z
UID:26794-1557392400-1557403200@coparmexnl.org.mx
SUMMARY:HABLAR EN PÚBLICO CON PODER\, SEGURIDAD Y CONVICCIÓN
DESCRIPTION:Conocerás las técnicas efectivas para poder dirigirte con éxito al público. \n 
URL:https://coparmexnl.org.mx/news/hablar-publico-poder-seguridad-conviccion-2/
CATEGORIES:Capacitación
END:VEVENT
BEGIN:VEVENT
DTSTART;TZID=America/Chicago:20190513T170000
DTEND;TZID=America/Chicago:20190513T210000
DTSTAMP:20260421T215532
CREATED:20190228T222736Z
LAST-MODIFIED:20190228T222925Z
UID:30439-1557766800-1557781200@coparmexnl.org.mx
SUMMARY:G SUITE: GMAIL\, CALENDAR\, CONTACTS
DESCRIPTION:
URL:https://coparmexnl.org.mx/news/g-suite-gmail-calendar-contacts/
CATEGORIES:Capacitación
END:VEVENT
BEGIN:VEVENT
DTSTART;TZID=UTC:20190514T083000
DTEND;TZID=UTC:20190514T173000
DTSTAMP:20260421T215532
CREATED:20180116T214007Z
LAST-MODIFIED:20190408T203317Z
UID:26841-1557822600-1557855000@coparmexnl.org.mx
SUMMARY:EL LENGUAJE CARISMÁTICO EN LAS VENTAS
DESCRIPTION:La importancia del buen uso de los diferentes lenguajes utilizados en las ventas para lograr excelentes negociaciones.
URL:https://coparmexnl.org.mx/news/lenguaje-carismatico-las-ventas
CATEGORIES:Capacitación
END:VEVENT
BEGIN:VEVENT
DTSTART;TZID=UTC:20190515T090000
DTEND;TZID=UTC:20190515T150000
DTSTAMP:20260421T215532
CREATED:20180111T203018Z
LAST-MODIFIED:20190506T140545Z
UID:26586-1557910800-1557932400@coparmexnl.org.mx
SUMMARY:ESTRATEGIAS PARA DISMINUIR LA ROTACIÓN DE PERSONAL
DESCRIPTION:I.- Introducción \n\nPlanteamiento del problema\n¿Qué entendemos por rotación de personal\nDefinición del concepto\nImpacto en la organización / Inestabilidad laboral\n\n  \nII.- Análisis de la rotación de personal \n\nDesventajas y ¿ventajas?\nCausas que inciden en la rotación de personal\nMedición de índice de rotación\nCostos que representa:\n\n\nprimarios y secundarios\nreclutamiento y selección\nde entrenamiento e integración\ncurva de aprendizaje\nproductividad\, eficiencia y calidad\n\n  \nIII.- Estrategias de combate \n\nAcciones fallidas; aprendiendo de ellas\nDesarrollo preciso de perfiles\nEntrevista y métodos de selección; ¿estamos contratando a la gente correcta?\nEjercicio práctico de entrevista laboral\nOrientación – entrenamiento\nDinámica: elaborar diagrama de flujo del proceso de admisión\nIntegración adecuada\nMotivación en el trabajo; factores que involucra\nEntrevista de ajuste (seguimiento)\n\nIV.- Plan de acción \n\nEjercicio: elaboración de un plan de acción en su empresa\nPresentación del plan\n\n  \nV.- Conclusiones
URL:https://coparmexnl.org.mx/news/estrategias-disminuir-la-rotacion-personal
CATEGORIES:Capacitación
END:VEVENT
BEGIN:VEVENT
DTSTART;TZID=America/Chicago:20190520T170000
DTEND;TZID=America/Chicago:20190520T210000
DTSTAMP:20260421T215532
CREATED:20190301T173516Z
LAST-MODIFIED:20190301T173516Z
UID:30442-1558371600-1558386000@coparmexnl.org.mx
SUMMARY:G SUITE: DRIVE\, DOCS\, SHEETS\, PRESENTATIONS
DESCRIPTION:
URL:https://coparmexnl.org.mx/news/g-suite-drive-docs-sheets-presentations/
CATEGORIES:Capacitación
END:VEVENT
BEGIN:VEVENT
DTSTART;TZID=America/Chicago:20190522T090000
DTEND;TZID=America/Chicago:20190523T180000
DTSTAMP:20260421T215532
CREATED:20190121T212427Z
LAST-MODIFIED:20190121T212427Z
UID:30149-1558515600-1558634400@coparmexnl.org.mx
SUMMARY:Taller de Negociación 1: Teoría y Herramientas del Proyecto de Negociación de Harvard
DESCRIPTION:
URL:https://coparmexnl.org.mx/news/taller-de-negociacion-i-teoria-y-herramientas-del-proyecto-de-negociacion-de-harvard-2/
CATEGORIES:Capacitación
END:VEVENT
BEGIN:VEVENT
DTSTART;TZID=UTC:20190524T083000
DTEND;TZID=UTC:20190524T100000
DTSTAMP:20260421T215532
CREATED:20190115T164513Z
LAST-MODIFIED:20190115T164513Z
UID:30048-1558686600-1558692000@coparmexnl.org.mx
SUMMARY:EVENTO DE INDUCCIÓN A SOCIOS
DESCRIPTION:Confirma tu asistencia al Evento de Inducción\nConfirma tu asistencia al Evento de Inducción\n\n\n\n\n\n\n\n    Nombre\n        *\n    \n    \n    \n    \n\n\n    Email\n        *\n    \n    \n    \n    \n\n\n    reCAPTCHA\n        \n    \n    \n    \n    \n\n	\n	\n\nEnviar
URL:https://coparmexnl.org.mx/event/evento-de-induccion-a-socios-5/
LOCATION:Oficinas COPARMEX\, Cuauhtémoc 757\, Centro\, Monterrey\, Nuevo León\, 64000
CATEGORIES:Inducción a Socios
ORGANIZER;CN="Afiliaci%C3%B3n":MAILTO:socios@coparmexnl.org.mx
END:VEVENT
BEGIN:VEVENT
DTSTART;TZID=America/Chicago:20190529T090000
DTEND;TZID=America/Chicago:20190529T130000
DTSTAMP:20260421T215533
CREATED:20190201T173504Z
LAST-MODIFIED:20190409T204657Z
UID:30214-1559120400-1559134800@coparmexnl.org.mx
SUMMARY:COMUNICACIÓN ASERTIVA E INTELIGENCIA EMOCIONAL PARA VENDEDORES
DESCRIPTION:
URL:https://coparmexnl.org.mx/news/comunicacion-asertiva-e-inteligencia-emocional-vendedores-2/
CATEGORIES:Capacitación
END:VEVENT
END:VCALENDAR