BEGIN:VCALENDAR
VERSION:2.0
PRODID:-//Coparmex - ECPv5.16.3//NONSGML v1.0//EN
CALSCALE:GREGORIAN
METHOD:PUBLISH
X-ORIGINAL-URL:https://coparmexnl.org.mx
X-WR-CALDESC:Eventos para Coparmex
REFRESH-INTERVAL;VALUE=DURATION:PT1H
X-Robots-Tag:noindex
X-PUBLISHED-TTL:PT1H
BEGIN:VTIMEZONE
TZID:America/Chicago
BEGIN:DAYLIGHT
TZOFFSETFROM:-0600
TZOFFSETTO:-0500
TZNAME:CDT
DTSTART:20190310T080000
END:DAYLIGHT
BEGIN:STANDARD
TZOFFSETFROM:-0500
TZOFFSETTO:-0600
TZNAME:CST
DTSTART:20191103T070000
END:STANDARD
TZID:UTC
BEGIN:STANDARD
TZOFFSETFROM:+0000
TZOFFSETTO:+0000
TZNAME:UTC
DTSTART:20190101T000000
END:STANDARD
END:VTIMEZONE
BEGIN:VEVENT
DTSTART;TZID=America/Chicago:20190208T133000
DTEND;TZID=America/Chicago:20190208T173000
DTSTAMP:20260421T170258
CREATED:20180720T191310Z
LAST-MODIFIED:20180827T174242Z
UID:29477-1549632600-1549647000@coparmexnl.org.mx
SUMMARY:CHANGE MANAGEMENT
DESCRIPTION:
URL:https://coparmexnl.org.mx/news/change-management
CATEGORIES:Capacitación
END:VEVENT
BEGIN:VEVENT
DTSTART;TZID=UTC:20190215T083000
DTEND;TZID=UTC:20190215T173000
DTSTAMP:20260421T170258
CREATED:20180215T230310Z
LAST-MODIFIED:20190131T162909Z
UID:27538-1550219400-1550251800@coparmexnl.org.mx
SUMMARY:EL PODER DE LA NEGOCIACIÓN
DESCRIPTION:Los participantes contarán con principios básicos para negociar con respeto y espíritu ganador bajo el enfoque de ganar – ganar y alcanzar los objetivos fijados.
URL:https://coparmexnl.org.mx/news/poder-la-negociacion/
CATEGORIES:Capacitación
END:VEVENT
BEGIN:VEVENT
DTSTART;TZID=America/Chicago:20190219T083000
DTEND;TZID=America/Chicago:20190219T103000
DTSTAMP:20260421T170258
CREATED:20190131T164257Z
LAST-MODIFIED:20190131T164257Z
UID:30202-1550565000-1550572200@coparmexnl.org.mx
SUMMARY:ACTUALIZACIÓN DE LA REFORMA LABORAL
DESCRIPTION:
URL:https://coparmexnl.org.mx/news/actualizacion-de-la-reforma-laboral/
CATEGORIES:Capacitación
END:VEVENT
BEGIN:VEVENT
DTSTART;TZID=UTC:20190220T090000
DTEND;TZID=UTC:20190221T150000
DTSTAMP:20260421T170258
CREATED:20180111T000936Z
LAST-MODIFIED:20190131T165409Z
UID:26559-1550653200-1550761200@coparmexnl.org.mx
SUMMARY:ADMINISTRACIÓN DE ALMACENES\, INVENTARIOS Y LOS SISTEMAS DE CONTROL
DESCRIPTION:Mejora la eficiencia en la gestión de los inventarios.
URL:https://coparmexnl.org.mx/news/administracion-almacenes-inventarios-los-sistemas-control-3/
CATEGORIES:Capacitación
END:VEVENT
BEGIN:VEVENT
DTSTART;TZID=UTC:20190221T083000
DTEND;TZID=UTC:20190221T173000
DTSTAMP:20260421T170258
CREATED:20180116T223201Z
LAST-MODIFIED:20190131T174441Z
UID:26854-1550737800-1550770200@coparmexnl.org.mx
SUMMARY:EL DNC EFICAZ
DESCRIPTION:Planificación y Realización de la DNC.
URL:https://coparmexnl.org.mx/news/el-dnc-eficaz-2/
CATEGORIES:Capacitación
END:VEVENT
BEGIN:VEVENT
DTSTART;TZID=UTC:20190222T083000
DTEND;TZID=UTC:20190222T100000
DTSTAMP:20260421T170258
CREATED:20190115T163917Z
LAST-MODIFIED:20190115T163917Z
UID:30041-1550824200-1550829600@coparmexnl.org.mx
SUMMARY:EVENTO DE INDUCCIÓN A SOCIOS
DESCRIPTION:Confirma tu asistencia al Evento de Inducción\nConfirma tu asistencia al Evento de Inducción\n\n\n\n\n\n\n\n    Nombre\n        *\n    \n    \n    \n    \n\n\n    Email\n        *\n    \n    \n    \n    \n\n\n    reCAPTCHA\n        \n    \n    \n    \n    \n\n	\n	\n\nEnviar
URL:https://coparmexnl.org.mx/event/evento-de-induccion-a-socios-2/
LOCATION:Oficinas COPARMEX\, Cuauhtémoc 757\, Centro\, Monterrey\, Nuevo León\, 64000
CATEGORIES:Inducción a Socios
ORGANIZER;CN="Afiliaci%C3%B3n":MAILTO:socios@coparmexnl.org.mx
END:VEVENT
BEGIN:VEVENT
DTSTART;TZID=UTC:20190222T083000
DTEND;TZID=UTC:20190222T103000
DTSTAMP:20260421T170259
CREATED:20190114T214412Z
LAST-MODIFIED:20190211T153439Z
UID:30029-1550824200-1550831400@coparmexnl.org.mx
SUMMARY:Protección de Datos Personales en Posesión de Particulares
DESCRIPTION:Recomendaciones y asesoría para no incurrir en contingencias.
URL:https://coparmexnl.org.mx/news/proteccion-de-datos-personales-en-posesion-de-particulares
CATEGORIES:Capacitación
END:VEVENT
BEGIN:VEVENT
DTSTART;TZID=America/Chicago:20190222T090000
DTEND;TZID=America/Chicago:20190222T120000
DTSTAMP:20260421T170259
CREATED:20190121T160551Z
LAST-MODIFIED:20190121T160551Z
UID:30105-1550826000-1550836800@coparmexnl.org.mx
SUMMARY:CERTIFICADO EN FUNDAMENTOS DE PSICOLOGÍA POSITIVA
DESCRIPTION:
URL:https://coparmexnl.org.mx/news/certificado-en-fundamentos-de-psicologia-positiva-2/
CATEGORIES:Capacitación
END:VEVENT
END:VCALENDAR