BEGIN:VCALENDAR
VERSION:2.0
PRODID:-//Coparmex - ECPv5.16.3//NONSGML v1.0//EN
CALSCALE:GREGORIAN
METHOD:PUBLISH
X-ORIGINAL-URL:https://coparmexnl.org.mx
X-WR-CALDESC:Eventos para Coparmex
REFRESH-INTERVAL;VALUE=DURATION:PT1H
X-Robots-Tag:noindex
X-PUBLISHED-TTL:PT1H
BEGIN:VTIMEZONE
TZID:UTC
BEGIN:STANDARD
TZOFFSETFROM:+0000
TZOFFSETTO:+0000
TZNAME:UTC
DTSTART:20180101T000000
END:STANDARD
TZID:America/Chicago
BEGIN:DAYLIGHT
TZOFFSETFROM:-0600
TZOFFSETTO:-0500
TZNAME:CDT
DTSTART:20180311T080000
END:DAYLIGHT
BEGIN:STANDARD
TZOFFSETFROM:-0500
TZOFFSETTO:-0600
TZNAME:CST
DTSTART:20181104T070000
END:STANDARD
END:VTIMEZONE
BEGIN:VEVENT
DTSTART;TZID=UTC:20181101T083000
DTEND;TZID=UTC:20181101T173000
DTSTAMP:20260421T134317
CREATED:20180116T221053Z
LAST-MODIFIED:20180116T221053Z
UID:26848-1541061000-1541093400@coparmexnl.org.mx
SUMMARY:ADMINISTRACIÓN DE PROYECTOS Y PROCESOS
DESCRIPTION:El Administrador de proyectos\nModelo de administración de proyectos\nIniciación del Proyecto\nPlanificación del Proyecto\nEjecución y Control del Proyecto\nCierre del Proyecto
URL:https://coparmexnl.org.mx/news/administracion-proyectos-procesos-3
CATEGORIES:Capacitación
END:VEVENT
BEGIN:VEVENT
DTSTART;TZID=UTC:20181106T090000
DTEND;TZID=UTC:20181106T130000
DTSTAMP:20260421T134317
CREATED:20180116T222202Z
LAST-MODIFIED:20180116T222202Z
UID:26851-1541494800-1541509200@coparmexnl.org.mx
SUMMARY:GESTIÓN ESTRATÉGICA DE LA CAPACITACIÓN
DESCRIPTION:Conocer y aplicar  las estrategias\, técnicas y herramientas para administrar\,  planear y ejecutar la capacitación de tal forma de lograr la satisfacción de las necesidades del capital humano dentro de la organización.
URL:https://coparmexnl.org.mx/news/gestion-estrategica-la-capacitacion-2
CATEGORIES:Capacitación
END:VEVENT
BEGIN:VEVENT
DTSTART;VALUE=DATE:20181107
DTEND;VALUE=DATE:20181110
DTSTAMP:20260421T134317
CREATED:20180109T050509Z
LAST-MODIFIED:20180117T235028Z
UID:26406-1541548800-1541807999@coparmexnl.org.mx
SUMMARY:ENCUENTRO EMPRESARIAL
DESCRIPTION:Encuentro Empresarial de la Confederación de la República Mexicana
URL:https://coparmexnl.org.mx/event/encuentro-empresarial/
LOCATION:Ciudad de México
CATEGORIES:Institucionales
END:VEVENT
BEGIN:VEVENT
DTSTART;TZID=America/Chicago:20181108T083000
DTEND;TZID=America/Chicago:20181108T173000
DTSTAMP:20260421T134317
CREATED:20180911T211543Z
LAST-MODIFIED:20180911T211708Z
UID:29749-1541665800-1541698200@coparmexnl.org.mx
SUMMARY:Seminario de Seguridad y Salud en el Trabajo Módulo I
DESCRIPTION:
URL:https://coparmexnl.org.mx/news/seminario-de-seguridad-y-salud-en-el-trabajo-modulo-i
CATEGORIES:Capacitación
END:VEVENT
BEGIN:VEVENT
DTSTART;TZID=UTC:20181109T083000
DTEND;TZID=UTC:20181109T100000
DTSTAMP:20260421T134317
CREATED:20180117T233256Z
LAST-MODIFIED:20180117T233256Z
UID:27024-1541752200-1541757600@coparmexnl.org.mx
SUMMARY:EVENTO DE INDUCCIÓN A SOCIOS
DESCRIPTION:Confirma tu asistencia al Evento de Inducción\nConfirma tu asistencia al Evento de Inducción\n\n\n\n\n\n\n\n    Nombre\n        *\n    \n    \n    \n    \n\n\n    Email\n        *\n    \n    \n    \n    \n\n\n    reCAPTCHA\n        \n    \n    \n    \n    \n\n	\n	\n\nEnviar
URL:https://coparmexnl.org.mx/event/evento-induccion-socios-10/
LOCATION:Oficinas COPARMEX\, Cuauhtémoc 757\, Centro\, Monterrey\, Nuevo León\, 64000
CATEGORIES:Inducción a Socios
ORGANIZER;CN="Afiliaci%C3%B3n":MAILTO:socios@coparmexnl.org.mx
END:VEVENT
BEGIN:VEVENT
DTSTART;TZID=America/Chicago:20181115T083000
DTEND;TZID=America/Chicago:20181115T173000
DTSTAMP:20260421T134317
CREATED:20180911T212337Z
LAST-MODIFIED:20180911T212555Z
UID:29751-1542270600-1542303000@coparmexnl.org.mx
SUMMARY:Seminario de Seguridad y Salud en el Trabajo Módulo II
DESCRIPTION:
URL:https://coparmexnl.org.mx/news/seminario-de-seguridad-y-salud-en-el-trabajo
CATEGORIES:Capacitación
END:VEVENT
BEGIN:VEVENT
DTSTART;TZID=America/Chicago:20181122T083000
DTEND;TZID=America/Chicago:20181122T173000
DTSTAMP:20260421T134317
CREATED:20180913T204152Z
LAST-MODIFIED:20180913T204152Z
UID:29778-1542875400-1542907800@coparmexnl.org.mx
SUMMARY:Seminario de Seguridad  y Salud en el Trabajo Modulo III
DESCRIPTION:
URL:https://coparmexnl.org.mx/news/seminario-de-seguridad-y-salud-en-el-trabajo-modulo-iii/
CATEGORIES:Capacitación
END:VEVENT
BEGIN:VEVENT
DTSTART;TZID=UTC:20181123T083000
DTEND;TZID=UTC:20181123T100000
DTSTAMP:20260421T134317
CREATED:20180110T011956Z
LAST-MODIFIED:20180117T234900Z
UID:26523-1542961800-1542967200@coparmexnl.org.mx
SUMMARY:COMISIÓN DE SEGURIDAD Y SALUD EN EL TRABAJO
DESCRIPTION:Sesión mensual de la Comisión de Seguridad y Salud en el Trabajo de Coparmex Nuevo León
URL:https://coparmexnl.org.mx/event/comision-seguridad-salud-trabajo-9/
CATEGORIES:Institucionales
ORGANIZER;CN="Direcci%C3%B3n%20de%20Servicios%20Jur%C3%ADdicos":MAILTO:fantuna@coparmexnl.org.mx
END:VEVENT
BEGIN:VEVENT
DTSTART;TZID=UTC:20181127T083000
DTEND;TZID=UTC:20181127T100000
DTSTAMP:20260421T134317
CREATED:20180109T055457Z
LAST-MODIFIED:20180117T234821Z
UID:26425-1543307400-1543312800@coparmexnl.org.mx
SUMMARY:COMISIÓN DE RELACIONES LABORALES
DESCRIPTION:Sesión mensual de la Comisión de Relaciones Laborales de Coparmex Nuevo León
URL:https://coparmexnl.org.mx/event/comision-relaciones-laborales-8/
LOCATION:Club Industrial\, Av. Parteaguas 698\, Los Arcángeles\, San Pedro Garza García\, Nuevo León\, 66266
CATEGORIES:Institucionales
ORGANIZER;CN="Direcci%C3%B3n%20de%20Servicios%20Jur%C3%ADdicos":MAILTO:fantuna@coparmexnl.org.mx
END:VEVENT
BEGIN:VEVENT
DTSTART;TZID=America/Chicago:20181127T090000
DTEND;TZID=America/Chicago:20181128T180000
DTSTAMP:20260421T134317
CREATED:20180906T173259Z
LAST-MODIFIED:20180911T184224Z
UID:29729-1543309200-1543428000@coparmexnl.org.mx
SUMMARY:Taller de Negociación I.- Teoria y Herramientas del Proyecto de Negociación Harvard
DESCRIPTION:
URL:https://coparmexnl.org.mx/news/taller-de-negociacion-i-teoria-y-herramientas-del-proyecto-de-negociacion-de-harvard/
CATEGORIES:Capacitación
END:VEVENT
BEGIN:VEVENT
DTSTART;TZID=UTC:20181128T080000
DTEND;TZID=UTC:20181128T093000
DTSTAMP:20260421T134317
CREATED:20180109T041914Z
LAST-MODIFIED:20180117T234804Z
UID:26390-1543392000-1543397400@coparmexnl.org.mx
SUMMARY:JUNTA DE CONSEJO DE COPARMEX NUEVO LEÓN
DESCRIPTION:Sesión mensual del Consejo Directivo y Consultivo de Coparmex Nuevo León
URL:https://coparmexnl.org.mx/event/junta-consejo-coparmex-nuevo-leon-8/
LOCATION:Club Industrial – Salón Nuevo León\, Av. Parteaguas 698\, Los Arcángeles\, San Pedro Garza García\, Nuevo León\, 66266
CATEGORIES:Institucionales
ORGANIZER;CN="Coparmex%20Nuevo%20Le%C3%B3n":MAILTO:capaci@coparmexnl.org.mx
END:VEVENT
BEGIN:VEVENT
DTSTART;TZID=UTC:20181129T083000
DTEND;TZID=UTC:20181129T100000
DTSTAMP:20260421T134317
CREATED:20180109T203503Z
LAST-MODIFIED:20180117T234720Z
UID:26449-1543480200-1543485600@coparmexnl.org.mx
SUMMARY:COMISIÓN DE CAPACITACIÓN Y DESARROLLO DE TALENTO
DESCRIPTION:Sesión mensual de la Comisión de Capacitación y Desarrollo de Talento de Coparmex Nuevo León
URL:https://coparmexnl.org.mx/event/comision-capacitacion-desarrollo-talento-8/
CATEGORIES:Institucionales
ORGANIZER;CN="Direcci%C3%B3n%20de%20Desarrollo%20de%20Talento":MAILTO:jleza@coparmexnl.org.mx
END:VEVENT
BEGIN:VEVENT
DTSTART;TZID=America/Chicago:20181129T083000
DTEND;TZID=America/Chicago:20181129T173000
DTSTAMP:20260421T134317
CREATED:20180913T203836Z
LAST-MODIFIED:20180913T203941Z
UID:29776-1543480200-1543512600@coparmexnl.org.mx
SUMMARY:Seminario de Seguridad  y Salud en el Trabajo Modulo IV
DESCRIPTION:
URL:https://coparmexnl.org.mx/news/seminario-de-seguridad-y-salud-en-el-trabajo-modulo-iv
CATEGORIES:Capacitación
END:VEVENT
BEGIN:VEVENT
DTSTART;TZID=UTC:20181130T083000
DTEND;TZID=UTC:20181130T173000
DTSTAMP:20260421T134317
CREATED:20181017T210543Z
LAST-MODIFIED:20181017T210543Z
UID:29906-1543566600-1543599000@coparmexnl.org.mx
SUMMARY:TALLER DE PENSAMIENTO DISRUPTIVO
DESCRIPTION:Genera ideas novedosas.
URL:https://coparmexnl.org.mx/news/taller-de-pensamiento-disruptivo
CATEGORIES:Capacitación
END:VEVENT
END:VCALENDAR