BEGIN:VCALENDAR
VERSION:2.0
PRODID:-//Coparmex - ECPv5.16.3//NONSGML v1.0//EN
CALSCALE:GREGORIAN
METHOD:PUBLISH
X-ORIGINAL-URL:https://coparmexnl.org.mx
X-WR-CALDESC:Eventos para Coparmex
REFRESH-INTERVAL;VALUE=DURATION:PT1H
X-Robots-Tag:noindex
X-PUBLISHED-TTL:PT1H
BEGIN:VTIMEZONE
TZID:America/Chicago
BEGIN:DAYLIGHT
TZOFFSETFROM:-0600
TZOFFSETTO:-0500
TZNAME:CDT
DTSTART:20180311T080000
END:DAYLIGHT
BEGIN:STANDARD
TZOFFSETFROM:-0500
TZOFFSETTO:-0600
TZNAME:CST
DTSTART:20181104T070000
END:STANDARD
TZID:UTC
BEGIN:STANDARD
TZOFFSETFROM:+0000
TZOFFSETTO:+0000
TZNAME:UTC
DTSTART:20180101T000000
END:STANDARD
END:VTIMEZONE
BEGIN:VEVENT
DTSTART;TZID=America/Chicago:20180806T090000
DTEND;TZID=America/Chicago:20180807T180000
DTSTAMP:20260421T071353
CREATED:20180718T204842Z
LAST-MODIFIED:20180718T204922Z
UID:29396-1533546000-1533664800@coparmexnl.org.mx
SUMMARY:TALLER DE NEGOCIACION II.- LA CARA HUMANA DE LA NEGOCIACIÓN
DESCRIPTION:
URL:https://coparmexnl.org.mx/news/taller-negociacion-ii-la-cara-humana-la-negociacion-grupo-2
CATEGORIES:Capacitación
END:VEVENT
BEGIN:VEVENT
DTSTART;TZID=UTC:20180810T083000
DTEND;TZID=UTC:20180810T100000
DTSTAMP:20260421T071353
CREATED:20180117T233001Z
LAST-MODIFIED:20180117T233001Z
UID:27019-1533889800-1533895200@coparmexnl.org.mx
SUMMARY:EVENTO DE INDUCCIÓN A SOCIOS
DESCRIPTION:Confirma tu asistencia al Evento de Inducción\nConfirma tu asistencia al Evento de Inducción\n\n\n\n\n\n\n\n    Nombre\n        *\n    \n    \n    \n    \n\n\n    Email\n        *\n    \n    \n    \n    \n\n\n    reCAPTCHA\n        \n    \n    \n    \n    \n\n	\n	\n\nEnviar
URL:https://coparmexnl.org.mx/event/evento-induccion-socios-7/
LOCATION:Oficinas COPARMEX\, Cuauhtémoc 757\, Centro\, Monterrey\, Nuevo León\, 64000
CATEGORIES:Inducción a Socios
ORGANIZER;CN="Afiliaci%C3%B3n":MAILTO:socios@coparmexnl.org.mx
END:VEVENT
BEGIN:VEVENT
DTSTART;TZID=America/Chicago:20180810T140000
DTEND;TZID=America/Chicago:20180810T180000
DTSTAMP:20260421T071353
CREATED:20180806T164542Z
LAST-MODIFIED:20180806T164542Z
UID:29548-1533909600-1533924000@coparmexnl.org.mx
SUMMARY:GENERA UNA COMUNIDAD PARA VENDER
DESCRIPTION:
URL:https://coparmexnl.org.mx/news/genera-una-comunidad-para-vender/
CATEGORIES:Capacitación
END:VEVENT
BEGIN:VEVENT
DTSTART;TZID=America/Chicago:20180814T090000
DTEND;TZID=America/Chicago:20180814T150000
DTSTAMP:20260421T071353
CREATED:20180703T143240Z
LAST-MODIFIED:20180703T143240Z
UID:29323-1534237200-1534258800@coparmexnl.org.mx
SUMMARY:TALLER DE REENFOQUE ESTRATÉGICO PARA PYMES
DESCRIPTION:
URL:https://coparmexnl.org.mx/news/taller-de-reenfoque-estrategico-para-pymes-2/
CATEGORIES:Capacitación
END:VEVENT
BEGIN:VEVENT
DTSTART;TZID=America/Chicago:20180817T083000
DTEND;TZID=America/Chicago:20180817T173000
DTSTAMP:20260421T071353
CREATED:20180718T171614Z
LAST-MODIFIED:20180718T171614Z
UID:29394-1534494600-1534527000@coparmexnl.org.mx
SUMMARY:PROGRAMA DE ESPECIALIZACIÓN EN LA GESTIÓN DEL CAPITAL HUMANO
DESCRIPTION:
URL:https://coparmexnl.org.mx/news/programa-especializacion-la-gestion-del-capital-humano
CATEGORIES:Capacitación
END:VEVENT
BEGIN:VEVENT
DTSTART;VALUE=DATE:20180822
DTEND;VALUE=DATE:20180825
DTSTAMP:20260421T071353
CREATED:20180109T045946Z
LAST-MODIFIED:20180117T235626Z
UID:26400-1534896000-1535155199@coparmexnl.org.mx
SUMMARY:JUNTAS NACIONALES DE COPARMEX
DESCRIPTION:Juntas Nacionales de la Confederación de la República Mexicana
URL:https://coparmexnl.org.mx/event/juntas-nacionales-coparmex-5/
LOCATION:Ciudad de México
CATEGORIES:Institucionales
END:VEVENT
BEGIN:VEVENT
DTSTART;TZID=UTC:20180824T083000
DTEND;TZID=UTC:20180824T100000
DTSTAMP:20260421T071353
CREATED:20180110T011322Z
LAST-MODIFIED:20180117T235610Z
UID:26517-1535099400-1535104800@coparmexnl.org.mx
SUMMARY:COMISIÓN DE SEGURIDAD Y SALUD EN EL TRABAJO
DESCRIPTION:Sesión mensual de la Comisión de Seguridad y Salud en el Trabajo de Coparmex Nuevo León
URL:https://coparmexnl.org.mx/event/comision-seguridad-salud-trabajo-6/
CATEGORIES:Institucionales
ORGANIZER;CN="Direcci%C3%B3n%20de%20Servicios%20Jur%C3%ADdicos":MAILTO:fantuna@coparmexnl.org.mx
END:VEVENT
BEGIN:VEVENT
DTSTART;TZID=UTC:20180824T083000
DTEND;TZID=UTC:20180824T173000
DTSTAMP:20260421T071353
CREATED:20180115T233901Z
LAST-MODIFIED:20180115T233901Z
UID:26768-1535099400-1535131800@coparmexnl.org.mx
SUMMARY:ADMINISTRACIÓN DE PROYECTOS Y PROCESOS
DESCRIPTION:El Administrador de proyectos\nModelo de administración de proyectos\nIniciación del Proyecto\nPlanificación del Proyecto\nEjecución y Control del Proyecto\nCierre del Proyecto
URL:https://coparmexnl.org.mx/news/administracion-proyectos-procesos-2
CATEGORIES:Capacitación
END:VEVENT
BEGIN:VEVENT
DTSTART;TZID=UTC:20180828T083000
DTEND;TZID=UTC:20180828T100000
DTSTAMP:20260421T071353
CREATED:20180109T054800Z
LAST-MODIFIED:20180117T235548Z
UID:26419-1535445000-1535450400@coparmexnl.org.mx
SUMMARY:COMISIÓN DE RELACIONES LABORALES
DESCRIPTION:Sesión mensual de la Comisión de Relaciones Laborales de Coparmex Nuevo León
URL:https://coparmexnl.org.mx/event/comision-relaciones-laborales-5/
LOCATION:Club Industrial\, Av. Parteaguas 698\, Los Arcángeles\, San Pedro Garza García\, Nuevo León\, 66266
CATEGORIES:Institucionales
ORGANIZER;CN="Direcci%C3%B3n%20de%20Servicios%20Jur%C3%ADdicos":MAILTO:fantuna@coparmexnl.org.mx
END:VEVENT
BEGIN:VEVENT
DTSTART;TZID=UTC:20180829T080000
DTEND;TZID=UTC:20180829T093000
DTSTAMP:20260421T071353
CREATED:20180109T041253Z
LAST-MODIFIED:20180117T235514Z
UID:26384-1535529600-1535535000@coparmexnl.org.mx
SUMMARY:JUNTA DE CONSEJO DE COPARMEX NUEVO LEÓN
DESCRIPTION:Sesión mensual del Consejo Directivo y Consultivo de Coparmex Nuevo León
URL:https://coparmexnl.org.mx/event/junta-consejo-coparmex-nuevo-leon-5/
LOCATION:Club Industrial – Salón Nuevo León\, Av. Parteaguas 698\, Los Arcángeles\, San Pedro Garza García\, Nuevo León\, 66266
CATEGORIES:Institucionales
ORGANIZER;CN="Coparmex%20Nuevo%20Le%C3%B3n":MAILTO:capaci@coparmexnl.org.mx
END:VEVENT
BEGIN:VEVENT
DTSTART;TZID=UTC:20180830T083000
DTEND;TZID=UTC:20180830T100000
DTSTAMP:20260421T071353
CREATED:20180109T202953Z
LAST-MODIFIED:20180117T235435Z
UID:26443-1535617800-1535623200@coparmexnl.org.mx
SUMMARY:COMISIÓN DE CAPACITACIÓN Y DESARROLLO DE TALENTO
DESCRIPTION:Sesión mensual de la Comisión de Capacitación y Desarrollo de Talento de Coparmex Nuevo León
URL:https://coparmexnl.org.mx/event/comision-capacitacion-desarrollo-talento-5/
CATEGORIES:Institucionales
ORGANIZER;CN="Direcci%C3%B3n%20de%20Desarrollo%20de%20Talento":MAILTO:jleza@coparmexnl.org.mx
END:VEVENT
BEGIN:VEVENT
DTSTART;TZID=America/Chicago:20180831T083000
DTEND;TZID=America/Chicago:20180831T123000
DTSTAMP:20260421T071353
CREATED:20180720T145948Z
LAST-MODIFIED:20180720T151835Z
UID:29410-1535704200-1535718600@coparmexnl.org.mx
SUMMARY:GESTIÓN DEL DESEMPEÑO
DESCRIPTION:
URL:https://coparmexnl.org.mx/news/gestion-del-desempeno
CATEGORIES:Capacitación
END:VEVENT
END:VCALENDAR