BEGIN:VCALENDAR
VERSION:2.0
PRODID:-//Coparmex - ECPv5.16.3//NONSGML v1.0//EN
CALSCALE:GREGORIAN
METHOD:PUBLISH
X-ORIGINAL-URL:https://coparmexnl.org.mx
X-WR-CALDESC:Eventos para Coparmex
REFRESH-INTERVAL;VALUE=DURATION:PT1H
X-Robots-Tag:noindex
X-PUBLISHED-TTL:PT1H
BEGIN:VTIMEZONE
TZID:UTC
BEGIN:STANDARD
TZOFFSETFROM:+0000
TZOFFSETTO:+0000
TZNAME:UTC
DTSTART:20180101T000000
END:STANDARD
END:VTIMEZONE
BEGIN:VEVENT
DTSTART;TZID=UTC:20180705T090000
DTEND;TZID=UTC:20180705T150000
DTSTAMP:20260421T053540
CREATED:20180116T000549Z
LAST-MODIFIED:20180627T133153Z
UID:26777-1530781200-1530802800@coparmexnl.org.mx
SUMMARY:ADMINISTRACIÓN DE ALMACENES\, INVENTARIOS Y LOS SISTEMAS DE CONTROL
DESCRIPTION:Establecer los principios y herramientas para optimizar la gestión de los inventarios\, almacenes y Cadena de suministro (SCM)  para mejorar  la  Productividad y Competitividad del negocio así como de su impacto en los costos del producto o servicio.
URL:https://coparmexnl.org.mx/news/administracion-almacenes-inventarios-los-sistemas-control-3
CATEGORIES:Capacitación
END:VEVENT
BEGIN:VEVENT
DTSTART;TZID=UTC:20180713T083000
DTEND;TZID=UTC:20180713T100000
DTSTAMP:20260421T053540
CREATED:20180117T232850Z
LAST-MODIFIED:20180117T232850Z
UID:27009-1531470600-1531476000@coparmexnl.org.mx
SUMMARY:EVENTO DE INDUCCIÓN A SOCIOS
DESCRIPTION:Confirma tu asistencia al Evento de Inducción\nConfirma tu asistencia al Evento de Inducción\n\n\n\n\n\n\n\n    Nombre\n        *\n    \n    \n    \n    \n\n\n    Email\n        *\n    \n    \n    \n    \n\n\n    reCAPTCHA\n        \n    \n    \n    \n    \n\n	\n	\n\nEnviar
URL:https://coparmexnl.org.mx/event/evento-induccion-socios-6/
LOCATION:Oficinas COPARMEX\, Cuauhtémoc 757\, Centro\, Monterrey\, Nuevo León\, 64000
CATEGORIES:Inducción a Socios
ORGANIZER;CN="Afiliaci%C3%B3n":MAILTO:socios@coparmexnl.org.mx
END:VEVENT
END:VCALENDAR