BEGIN:VCALENDAR
VERSION:2.0
PRODID:-//Coparmex - ECPv5.16.3//NONSGML v1.0//EN
CALSCALE:GREGORIAN
METHOD:PUBLISH
X-ORIGINAL-URL:https://coparmexnl.org.mx
X-WR-CALDESC:Eventos para Coparmex
REFRESH-INTERVAL;VALUE=DURATION:PT1H
X-Robots-Tag:noindex
X-PUBLISHED-TTL:PT1H
BEGIN:VTIMEZONE
TZID:America/Chicago
BEGIN:DAYLIGHT
TZOFFSETFROM:-0600
TZOFFSETTO:-0500
TZNAME:CDT
DTSTART:20180311T080000
END:DAYLIGHT
BEGIN:STANDARD
TZOFFSETFROM:-0500
TZOFFSETTO:-0600
TZNAME:CST
DTSTART:20181104T070000
END:STANDARD
END:VTIMEZONE
BEGIN:VEVENT
DTSTART;TZID=America/Chicago:20180626T080000
DTEND;TZID=America/Chicago:20180626T170000
DTSTAMP:20260421T040518
CREATED:20180522T140858Z
LAST-MODIFIED:20180522T140956Z
UID:29056-1530000000-1530032400@coparmexnl.org.mx
SUMMARY:HABLAR EN PÚBLICO CON PODER\, SEGURIDAD Y CONVICCIÓN
DESCRIPTION:
URL:https://coparmexnl.org.mx/news/hablar-publico-poder-seguridad-conviccion/
CATEGORIES:Capacitación
END:VEVENT
END:VCALENDAR