BEGIN:VCALENDAR
VERSION:2.0
PRODID:-//Coparmex - ECPv5.16.3//NONSGML v1.0//EN
CALSCALE:GREGORIAN
METHOD:PUBLISH
X-WR-CALNAME:Coparmex
X-ORIGINAL-URL:https://coparmexnl.org.mx
X-WR-CALDESC:Eventos para Coparmex
REFRESH-INTERVAL;VALUE=DURATION:PT1H
X-Robots-Tag:noindex
X-PUBLISHED-TTL:PT1H
BEGIN:VTIMEZONE
TZID:America/Chicago
BEGIN:DAYLIGHT
TZOFFSETFROM:-0600
TZOFFSETTO:-0500
TZNAME:CDT
DTSTART:20260308T080000
END:DAYLIGHT
BEGIN:STANDARD
TZOFFSETFROM:-0500
TZOFFSETTO:-0600
TZNAME:CST
DTSTART:20261101T070000
END:STANDARD
TZID:UTC
BEGIN:STANDARD
TZOFFSETFROM:+0000
TZOFFSETTO:+0000
TZNAME:UTC
DTSTART:20260101T000000
END:STANDARD
END:VTIMEZONE
BEGIN:VEVENT
DTSTART;TZID=America/Chicago:20261201T163000
DTEND;TZID=America/Chicago:20261201T193000
DTSTAMP:20260423T184450
CREATED:20260113T160817Z
LAST-MODIFIED:20260113T160817Z
UID:53605-1796142600-1796153400@coparmexnl.org.mx
SUMMARY:Curso/Taller: Integral de Nóminas\, IMSS e INFONAVIT
DESCRIPTION:
URL:https://coparmexnl.org.mx/news/curso-taller-integral-de-nominas-imss-e-infonavit-10/
CATEGORIES:Capacitación
END:VEVENT
BEGIN:VEVENT
DTSTART;TZID=UTC:20261203T090000
DTEND;TZID=UTC:20261203T130000
DTSTAMP:20260423T184450
CREATED:20260113T161724Z
LAST-MODIFIED:20260113T161724Z
UID:53607-1796288400-1796302800@coparmexnl.org.mx
SUMMARY:¿Cómo será mi pensión\, la puedo mejorar?
DESCRIPTION:
URL:https://coparmexnl.org.mx/news/como-sera-mi-pension-la-puedo-mejorar-2/
LOCATION:On -Line
CATEGORIES:Capacitación
END:VEVENT
BEGIN:VEVENT
DTSTART;TZID=UTC:20261207T090000
DTEND;TZID=UTC:20261207T130000
DTSTAMP:20260423T184450
CREATED:20260113T161926Z
LAST-MODIFIED:20260113T161926Z
UID:53611-1796634000-1796648400@coparmexnl.org.mx
SUMMARY:Recursos Humanos para PYMES
DESCRIPTION:
URL:https://coparmexnl.org.mx/news/recursos-humanos-para-pymes-6/
CATEGORIES:Capacitación
END:VEVENT
BEGIN:VEVENT
DTSTART;TZID=UTC:20261207T090000
DTEND;TZID=UTC:20261207T130000
DTSTAMP:20260423T184450
CREATED:20260113T162104Z
LAST-MODIFIED:20260113T162104Z
UID:53613-1796634000-1796648400@coparmexnl.org.mx
SUMMARY:Power BI
DESCRIPTION:
URL:https://coparmexnl.org.mx/news/power-bi-8/
LOCATION:On -Line
CATEGORIES:Capacitación
END:VEVENT
END:VCALENDAR