BEGIN:VCALENDAR
VERSION:2.0
PRODID:-//Coparmex - ECPv5.16.3//NONSGML v1.0//EN
CALSCALE:GREGORIAN
METHOD:PUBLISH
X-ORIGINAL-URL:https://coparmexnl.org.mx
X-WR-CALDESC:Eventos para Coparmex
REFRESH-INTERVAL;VALUE=DURATION:PT1H
X-Robots-Tag:noindex
X-PUBLISHED-TTL:PT1H
BEGIN:VTIMEZONE
TZID:UTC
BEGIN:STANDARD
TZOFFSETFROM:+0000
TZOFFSETTO:+0000
TZNAME:UTC
DTSTART:20260101T000000
END:STANDARD
TZID:America/Chicago
BEGIN:DAYLIGHT
TZOFFSETFROM:-0600
TZOFFSETTO:-0500
TZNAME:CDT
DTSTART:20260308T080000
END:DAYLIGHT
BEGIN:STANDARD
TZOFFSETFROM:-0500
TZOFFSETTO:-0600
TZNAME:CST
DTSTART:20261101T070000
END:STANDARD
END:VTIMEZONE
BEGIN:VEVENT
DTSTART;TZID=UTC:20260901T090000
DTEND;TZID=UTC:20260901T130000
DTSTAMP:20260423T135029
CREATED:20260108T203137Z
LAST-MODIFIED:20260108T203137Z
UID:53458-1788253200-1788267600@coparmexnl.org.mx
SUMMARY:Ventas Estratégicas y Atención al Cliente para PYMES
DESCRIPTION:
URL:https://coparmexnl.org.mx/news/ventas-estrategicas-y-atencion-al-cliente-para-pymes-2/
LOCATION:On -Line
CATEGORIES:Capacitación
END:VEVENT
BEGIN:VEVENT
DTSTART;TZID=America/Chicago:20260901T163000
DTEND;TZID=America/Chicago:20260901T193000
DTSTAMP:20260423T135029
CREATED:20260108T203403Z
LAST-MODIFIED:20260108T203403Z
UID:53462-1788280200-1788291000@coparmexnl.org.mx
SUMMARY:Curso/Taller: Integral de Nóminas\, IMSS e INFONAVIT
DESCRIPTION:
URL:https://coparmexnl.org.mx/news/curso-taller-integral-de-nominas-imss-e-infonavit-8/
CATEGORIES:Capacitación
END:VEVENT
BEGIN:VEVENT
DTSTART;TZID=UTC:20260902T090000
DTEND;TZID=UTC:20260902T130000
DTSTAMP:20260423T135029
CREATED:20260108T204134Z
LAST-MODIFIED:20260108T204134Z
UID:53465-1788339600-1788354000@coparmexnl.org.mx
SUMMARY:Gestión del Talento Humano en PYMES
DESCRIPTION:
URL:https://coparmexnl.org.mx/news/gestion-del-talento-humano-en-pymes-2/
CATEGORIES:Capacitación
END:VEVENT
BEGIN:VEVENT
DTSTART;TZID=America/Chicago:20260902T090000
DTEND;TZID=America/Chicago:20260902T130000
DTSTAMP:20260423T135029
CREATED:20260108T204459Z
LAST-MODIFIED:20260108T204459Z
UID:53467-1788339600-1788354000@coparmexnl.org.mx
SUMMARY:PLANEACIÓN Y DESARROLLO DE TALENTO
DESCRIPTION:
URL:https://coparmexnl.org.mx/news/planeacion-y-desarrollo-del-talento-2/
CATEGORIES:Capacitación
END:VEVENT
BEGIN:VEVENT
DTSTART;TZID=UTC:20260903T090000
DTEND;TZID=UTC:20260903T130000
DTSTAMP:20260423T135029
CREATED:20260108T204810Z
LAST-MODIFIED:20260108T204810Z
UID:53469-1788426000-1788440400@coparmexnl.org.mx
SUMMARY:Cultura de la Legalidad
DESCRIPTION:
URL:https://coparmexnl.org.mx/news/cultura-de-la-legalidad/
CATEGORIES:Capacitación
END:VEVENT
BEGIN:VEVENT
DTSTART;TZID=America/Chicago:20260908T090000
DTEND;TZID=America/Chicago:20260908T130000
DTSTAMP:20260423T135029
CREATED:20260108T205108Z
LAST-MODIFIED:20260108T205108Z
UID:53472-1788858000-1788872400@coparmexnl.org.mx
SUMMARY:Innovación y Transformación Digital para PYMES
DESCRIPTION:
URL:https://coparmexnl.org.mx/news/innovacion-y-transformacion-digital-para-pymes-2/
CATEGORIES:Capacitación
END:VEVENT
BEGIN:VEVENT
DTSTART;TZID=UTC:20260909T090000
DTEND;TZID=UTC:20260909T130000
DTSTAMP:20260423T135029
CREATED:20260108T205258Z
LAST-MODIFIED:20260108T205258Z
UID:53475-1788944400-1788958800@coparmexnl.org.mx
SUMMARY:Curso/Taller: Excel Basico e Intermedio
DESCRIPTION:
URL:https://coparmexnl.org.mx/news/curso-taller-excel-basico-e-intermedio-5/
CATEGORIES:Capacitación
END:VEVENT
BEGIN:VEVENT
DTSTART;TZID=America/Chicago:20260909T090000
DTEND;TZID=America/Chicago:20260909T130000
DTSTAMP:20260423T135029
CREATED:20260108T205551Z
LAST-MODIFIED:20260108T205551Z
UID:53478-1788944400-1788958800@coparmexnl.org.mx
SUMMARY:Operaciones Eficientes y Gestión de Calidad para PYMES
DESCRIPTION:
URL:https://coparmexnl.org.mx/news/operaciones-eficientes-y-gestion-de-calidad-para-pymes-2/
CATEGORIES:Capacitación
END:VEVENT
BEGIN:VEVENT
DTSTART;TZID=UTC:20260912T090000
DTEND;TZID=UTC:20260912T130000
DTSTAMP:20260423T135029
CREATED:20250305T185848Z
LAST-MODIFIED:20260112T150956Z
UID:50789-1789203600-1789218000@coparmexnl.org.mx
SUMMARY:Entrevista por Competencias
DESCRIPTION:
URL:https://coparmexnl.org.mx/news/entrevista-por-competencias-4/
CATEGORIES:Capacitación
END:VEVENT
BEGIN:VEVENT
DTSTART;TZID=UTC:20260914T090000
DTEND;TZID=UTC:20260914T130000
DTSTAMP:20260423T135029
CREATED:20260112T155016Z
LAST-MODIFIED:20260112T155016Z
UID:53528-1789376400-1789390800@coparmexnl.org.mx
SUMMARY:Power BI
DESCRIPTION:
URL:https://coparmexnl.org.mx/news/power-bi-6/
LOCATION:On -Line
CATEGORIES:Capacitación
END:VEVENT
BEGIN:VEVENT
DTSTART;TZID=UTC:20260921T090000
DTEND;TZID=UTC:20260921T130000
DTSTAMP:20260423T135029
CREATED:20260112T151325Z
LAST-MODIFIED:20260112T151325Z
UID:53498-1789981200-1789995600@coparmexnl.org.mx
SUMMARY:Recursos Humanos para PYMES
DESCRIPTION:
URL:https://coparmexnl.org.mx/news/recursos-humanos-para-pymes-5/
CATEGORIES:Capacitación
END:VEVENT
BEGIN:VEVENT
DTSTART;TZID=America/Chicago:20260922T090000
DTEND;TZID=America/Chicago:20260922T130000
DTSTAMP:20260423T135029
CREATED:20260112T151619Z
LAST-MODIFIED:20260112T151619Z
UID:53502-1790067600-1790082000@coparmexnl.org.mx
SUMMARY:Programa de Desarrollo de Habilidades Gerenciales y Directivas
DESCRIPTION:
URL:https://coparmexnl.org.mx/news/programa-de-desarrollo-de-habilidades-gerenciales-y-directivas-3/
CATEGORIES:Capacitación
END:VEVENT
BEGIN:VEVENT
DTSTART;TZID=America/Chicago:20260922T090000
DTEND;TZID=America/Chicago:20260922T130000
DTSTAMP:20260423T135029
CREATED:20260112T151914Z
LAST-MODIFIED:20260112T151914Z
UID:53506-1790067600-1790082000@coparmexnl.org.mx
SUMMARY:Cumplimiento Legal para PYMES
DESCRIPTION:
URL:https://coparmexnl.org.mx/news/cumplimiento-legal-para-pymes-2/
CATEGORIES:Capacitación
END:VEVENT
BEGIN:VEVENT
DTSTART;TZID=UTC:20260922T090000
DTEND;TZID=UTC:20260922T130000
DTSTAMP:20260423T135029
CREATED:20260112T152429Z
LAST-MODIFIED:20260112T152429Z
UID:53510-1790067600-1790082000@coparmexnl.org.mx
SUMMARY:Hablar en Público con Poder\, Seguridad y Convicción
DESCRIPTION:Conocerás las técnicas efectivas para poder dirigirte con éxito al público. \n 
URL:https://coparmexnl.org.mx/news/hablar-en-publico-con-poder-seguridad-y-conviccion-2/
CATEGORIES:Capacitación
END:VEVENT
BEGIN:VEVENT
DTSTART;TZID=America/Chicago:20260923T090000
DTEND;TZID=America/Chicago:20260923T130000
DTSTAMP:20260423T135029
CREATED:20260112T152748Z
LAST-MODIFIED:20260112T152748Z
UID:53512-1790154000-1790168400@coparmexnl.org.mx
SUMMARY:Responsabilidad Social Empresarial para PYMES
DESCRIPTION:
URL:https://coparmexnl.org.mx/news/responsabilidad-social-empresarial-para-pymes-2/
CATEGORIES:Capacitación
END:VEVENT
BEGIN:VEVENT
DTSTART;TZID=UTC:20260923T090000
DTEND;TZID=UTC:20260923T130000
DTSTAMP:20260423T135029
CREATED:20260112T154006Z
LAST-MODIFIED:20260112T154006Z
UID:53516-1790154000-1790168400@coparmexnl.org.mx
SUMMARY:Desarrollo de Competencias Emocionales
DESCRIPTION:
URL:https://coparmexnl.org.mx/news/desarrollo-de-competencias-emocionales-4/
LOCATION:On -Line
CATEGORIES:Capacitación
END:VEVENT
BEGIN:VEVENT
DTSTART;TZID=UTC:20260929T090000
DTEND;TZID=UTC:20260929T130000
DTSTAMP:20260423T135029
CREATED:20260112T154231Z
LAST-MODIFIED:20260112T154231Z
UID:53518-1790672400-1790686800@coparmexnl.org.mx
SUMMARY:FINANZAS PARA NO FINANCIEROS
DESCRIPTION:
URL:https://coparmexnl.org.mx/news/finanzas-para-no-financieros-3/
LOCATION:On -Line
CATEGORIES:Capacitación
END:VEVENT
BEGIN:VEVENT
DTSTART;TZID=UTC:20260929T090000
DTEND;TZID=UTC:20260929T130000
DTSTAMP:20260423T135029
CREATED:20260112T154452Z
LAST-MODIFIED:20260112T154452Z
UID:53521-1790672400-1790686800@coparmexnl.org.mx
SUMMARY:Autoestima y Seguridad Personal
DESCRIPTION:
URL:https://coparmexnl.org.mx/news/autoestima-y-seguridad-personal-7/
CATEGORIES:Capacitación
END:VEVENT
BEGIN:VEVENT
DTSTART;TZID=UTC:20260930T090000
DTEND;TZID=UTC:20260930T130000
DTSTAMP:20260423T135029
CREATED:20260112T154747Z
LAST-MODIFIED:20260112T154747Z
UID:53525-1790758800-1790773200@coparmexnl.org.mx
SUMMARY:Retroalimentación 360°
DESCRIPTION:
URL:https://coparmexnl.org.mx/news/retroalimentacion-360-4/
CATEGORIES:Capacitación
END:VEVENT
END:VCALENDAR