BEGIN:VCALENDAR
VERSION:2.0
PRODID:-//Coparmex - ECPv5.16.3//NONSGML v1.0//EN
CALSCALE:GREGORIAN
METHOD:PUBLISH
X-ORIGINAL-URL:https://coparmexnl.org.mx
X-WR-CALDESC:Eventos para Coparmex
REFRESH-INTERVAL;VALUE=DURATION:PT1H
X-Robots-Tag:noindex
X-PUBLISHED-TTL:PT1H
BEGIN:VTIMEZONE
TZID:America/Chicago
BEGIN:DAYLIGHT
TZOFFSETFROM:-0600
TZOFFSETTO:-0500
TZNAME:CDT
DTSTART:20260308T080000
END:DAYLIGHT
BEGIN:STANDARD
TZOFFSETFROM:-0500
TZOFFSETTO:-0600
TZNAME:CST
DTSTART:20261101T070000
END:STANDARD
TZID:UTC
BEGIN:STANDARD
TZOFFSETFROM:+0000
TZOFFSETTO:+0000
TZNAME:UTC
DTSTART:20260101T000000
END:STANDARD
END:VTIMEZONE
BEGIN:VEVENT
DTSTART;TZID=America/Chicago:20260805T090000
DTEND;TZID=America/Chicago:20260805T130000
DTSTAMP:20260423T135008
CREATED:20260108T165833Z
LAST-MODIFIED:20260108T170221Z
UID:53415-1785920400-1785934800@coparmexnl.org.mx
SUMMARY:LIDERAZGO SITUACIONAL
DESCRIPTION:
URL:https://coparmexnl.org.mx/news/liderazgo-situacional-2/
CATEGORIES:Capacitación
END:VEVENT
BEGIN:VEVENT
DTSTART;TZID=UTC:20260806T090000
DTEND;TZID=UTC:20260806T130000
DTSTAMP:20260423T135008
CREATED:20260108T170500Z
LAST-MODIFIED:20260108T170500Z
UID:53417-1786006800-1786021200@coparmexnl.org.mx
SUMMARY:Integración de Equipos de Trabajo
DESCRIPTION:
URL:https://coparmexnl.org.mx/news/integracion-de-equipos-de-trabajo-2/
LOCATION:On -Line
CATEGORIES:Capacitación
END:VEVENT
BEGIN:VEVENT
DTSTART;TZID=America/Chicago:20260806T090000
DTEND;TZID=America/Chicago:20260806T130000
DTSTAMP:20260423T135008
CREATED:20260108T171054Z
LAST-MODIFIED:20260108T171144Z
UID:53419-1786006800-1786021200@coparmexnl.org.mx
SUMMARY:Lenguaje Verbal y No Verbal para Líderes
DESCRIPTION:
URL:https://coparmexnl.org.mx/news/lenguaje-verbal-y-no-verbal-para-lideres-2/
CATEGORIES:Capacitación
ORGANIZER;CN="Coparmex%20Nuevo%20Le%C3%B3n":MAILTO:capaci@coparmexnl.org.mx
END:VEVENT
BEGIN:VEVENT
DTSTART;TZID=UTC:20260812T090000
DTEND;TZID=UTC:20260812T130000
DTSTAMP:20260423T135008
CREATED:20260108T171446Z
LAST-MODIFIED:20260108T171446Z
UID:53422-1786525200-1786539600@coparmexnl.org.mx
SUMMARY:Competencias Administrativas para Supervisores
DESCRIPTION:
URL:https://coparmexnl.org.mx/news/competencias-administrativas-para-supervisores/
LOCATION:On -Line
CATEGORIES:Capacitación
END:VEVENT
BEGIN:VEVENT
DTSTART;TZID=UTC:20260813T090000
DTEND;TZID=UTC:20260813T130000
DTSTAMP:20260423T135008
CREATED:20260108T171544Z
LAST-MODIFIED:20260108T171544Z
UID:53424-1786611600-1786626000@coparmexnl.org.mx
SUMMARY:Confianza y Delegación Efectiva
DESCRIPTION:
URL:https://coparmexnl.org.mx/news/confianza-y-delegacion-efectiva/
LOCATION:On -Line
CATEGORIES:Capacitación
END:VEVENT
BEGIN:VEVENT
DTSTART;TZID=UTC:20260818T090000
DTEND;TZID=UTC:20260818T130000
DTSTAMP:20260423T135008
CREATED:20260108T173909Z
LAST-MODIFIED:20260108T173934Z
UID:53427-1787043600-1787058000@coparmexnl.org.mx
SUMMARY:Programa PYMES Exitosas
DESCRIPTION:
URL:https://coparmexnl.org.mx/news/programa-pymes-exitosas/
CATEGORIES:Capacitación
END:VEVENT
BEGIN:VEVENT
DTSTART;TZID=America/Chicago:20260818T090000
DTEND;TZID=America/Chicago:20260818T130000
DTSTAMP:20260423T135008
CREATED:20260108T175102Z
LAST-MODIFIED:20260108T175102Z
UID:53430-1787043600-1787058000@coparmexnl.org.mx
SUMMARY:Fundamentos del Liderazgo Empresarial en PYMES
DESCRIPTION:
URL:https://coparmexnl.org.mx/news/fundamentos-del-liderazgo-empresarial-en-pymes/
CATEGORIES:Capacitación
ORGANIZER;CN="Coparmex%20Nuevo%20Le%C3%B3n":MAILTO:capaci@coparmexnl.org.mx
END:VEVENT
BEGIN:VEVENT
DTSTART;TZID=America/Chicago:20260819T090000
DTEND;TZID=America/Chicago:20260819T130000
DTSTAMP:20260423T135008
CREATED:20260108T175307Z
LAST-MODIFIED:20260108T175307Z
UID:53433-1787130000-1787144400@coparmexnl.org.mx
SUMMARY:Planificación Estratégica y Modelo de Negocios para PYMES
DESCRIPTION:
URL:https://coparmexnl.org.mx/news/planificacion-estrategica-y-modelo-de-negocios-para-pymes-2/
CATEGORIES:Capacitación
END:VEVENT
BEGIN:VEVENT
DTSTART;TZID=America/Chicago:20260819T090000
DTEND;TZID=America/Chicago:20260819T130000
DTSTAMP:20260423T135008
CREATED:20260108T175644Z
LAST-MODIFIED:20260108T175644Z
UID:53438-1787130000-1787144400@coparmexnl.org.mx
SUMMARY:EVALUACIÓN DEL DESEMPEÑO DEL EQUIPO DE TRABAJO
DESCRIPTION:
URL:https://coparmexnl.org.mx/news/evaluacion-del-desempeno-del-equipo-de-trabajo-4/
CATEGORIES:Capacitación
END:VEVENT
BEGIN:VEVENT
DTSTART;TZID=UTC:20260820T090000
DTEND;TZID=UTC:20260820T130000
DTSTAMP:20260423T135008
CREATED:20260108T175831Z
LAST-MODIFIED:20260108T180028Z
UID:53442-1787216400-1787230800@coparmexnl.org.mx
SUMMARY:Procesos\, Eficiencia\, Productividad y Calidad
DESCRIPTION:
URL:https://coparmexnl.org.mx/news/procesos-eficiencia-productividad-y-calidad/
LOCATION:On -Line
CATEGORIES:Capacitación
END:VEVENT
BEGIN:VEVENT
DTSTART;TZID=UTC:20260820T090000
DTEND;TZID=UTC:20260820T130000
DTSTAMP:20260423T135008
CREATED:20260108T180150Z
LAST-MODIFIED:20260108T180455Z
UID:53445-1787216400-1787230800@coparmexnl.org.mx
SUMMARY:Ventas que Rompen Metas
DESCRIPTION:
URL:https://coparmexnl.org.mx/news/ventas-que-rompen-metas/
LOCATION:On -Line
CATEGORIES:Capacitación
END:VEVENT
BEGIN:VEVENT
DTSTART;TZID=America/Chicago:20260820T090000
DTEND;TZID=America/Chicago:20260820T130000
DTSTAMP:20260423T135008
CREATED:20260114T181855Z
LAST-MODIFIED:20260114T181945Z
UID:53652-1787216400-1787230800@coparmexnl.org.mx
SUMMARY:Gestión de la Innovación
DESCRIPTION:
URL:https://coparmexnl.org.mx/news/gestion-de-la-innovacion-2/
CATEGORIES:Capacitación
END:VEVENT
BEGIN:VEVENT
DTSTART;TZID=UTC:20260825T090000
DTEND;TZID=UTC:20260825T130000
DTSTAMP:20260423T135008
CREATED:20260108T180728Z
LAST-MODIFIED:20260108T180728Z
UID:53448-1787648400-1787662800@coparmexnl.org.mx
SUMMARY:Gestión Financiera Inteligente para PYMES
DESCRIPTION:
URL:https://coparmexnl.org.mx/news/gestion-financiera-inteligente-para-pymes-2/
LOCATION:On -Line
CATEGORIES:Capacitación
END:VEVENT
BEGIN:VEVENT
DTSTART;TZID=UTC:20260826T090000
DTEND;TZID=UTC:20260826T130000
DTSTAMP:20260423T135008
CREATED:20260108T180940Z
LAST-MODIFIED:20260108T180940Z
UID:53451-1787734800-1787749200@coparmexnl.org.mx
SUMMARY:Motivación y Reconocimiento en el Trabajo
DESCRIPTION:
URL:https://coparmexnl.org.mx/news/motivacion-y-reconocimiento-en-el-trabajo/
LOCATION:On -Line
CATEGORIES:Capacitación
END:VEVENT
BEGIN:VEVENT
DTSTART;TZID=UTC:20260826T090000
DTEND;TZID=UTC:20260826T130000
DTSTAMP:20260423T135008
CREATED:20260108T181217Z
LAST-MODIFIED:20260108T181217Z
UID:53454-1787734800-1787749200@coparmexnl.org.mx
SUMMARY:Marketing Digital y Posicionamiento de Marca para PYMES
DESCRIPTION:
URL:https://coparmexnl.org.mx/news/marketing-digital-y-posicionamiento-de-marca-para-pymes-2/
LOCATION:On -Line
CATEGORIES:Capacitación
END:VEVENT
BEGIN:VEVENT
DTSTART;TZID=UTC:20260827T090000
DTEND;TZID=UTC:20260827T130000
DTSTAMP:20260423T135008
CREATED:20260108T181346Z
LAST-MODIFIED:20260108T181346Z
UID:53456-1787821200-1787835600@coparmexnl.org.mx
SUMMARY:Planeación y Organización del Supervisor
DESCRIPTION:
URL:https://coparmexnl.org.mx/news/planeacion-y-organizacion-del-supervisor/
CATEGORIES:Capacitación
END:VEVENT
END:VCALENDAR