BEGIN:VCALENDAR
VERSION:2.0
PRODID:-//Coparmex - ECPv5.16.3//NONSGML v1.0//EN
CALSCALE:GREGORIAN
METHOD:PUBLISH
X-ORIGINAL-URL:https://coparmexnl.org.mx
X-WR-CALDESC:Eventos para Coparmex
REFRESH-INTERVAL;VALUE=DURATION:PT1H
X-Robots-Tag:noindex
X-PUBLISHED-TTL:PT1H
BEGIN:VTIMEZONE
TZID:UTC
BEGIN:STANDARD
TZOFFSETFROM:+0000
TZOFFSETTO:+0000
TZNAME:UTC
DTSTART:20260101T000000
END:STANDARD
TZID:America/Chicago
BEGIN:DAYLIGHT
TZOFFSETFROM:-0600
TZOFFSETTO:-0500
TZNAME:CDT
DTSTART:20260308T080000
END:DAYLIGHT
BEGIN:STANDARD
TZOFFSETFROM:-0500
TZOFFSETTO:-0600
TZNAME:CST
DTSTART:20261101T070000
END:STANDARD
END:VTIMEZONE
BEGIN:VEVENT
DTSTART;TZID=UTC:20260702T090000
DTEND;TZID=UTC:20260702T130000
DTSTAMP:20260423T115507
CREATED:20260108T153706Z
LAST-MODIFIED:20260108T153706Z
UID:53386-1782982800-1782997200@coparmexnl.org.mx
SUMMARY:¿Cómo será mi pensión\, la puedo mejorar?
DESCRIPTION:
URL:https://coparmexnl.org.mx/news/como-sera-mi-pension-la-puedo-mejorar-2/
LOCATION:On -Line
CATEGORIES:Capacitación
END:VEVENT
BEGIN:VEVENT
DTSTART;TZID=UTC:20260708T090000
DTEND;TZID=UTC:20260708T130000
DTSTAMP:20260423T115507
CREATED:20260108T155210Z
LAST-MODIFIED:20260108T155228Z
UID:53388-1783501200-1783515600@coparmexnl.org.mx
SUMMARY:Excel Avanzado y Macros
DESCRIPTION:
URL:https://coparmexnl.org.mx/news/curso-taller-excel-avanzado-y-macros/
LOCATION:On -Line
CATEGORIES:Capacitación
END:VEVENT
BEGIN:VEVENT
DTSTART;TZID=UTC:20260709T100000
DTEND;TZID=UTC:20260709T120000
DTSTAMP:20260423T115507
CREATED:20260413T232222Z
LAST-MODIFIED:20260413T233931Z
UID:54298-1783591200-1783598400@coparmexnl.org.mx
SUMMARY:Taller: Inteligencia Emocional en las Relaciones Laborales
DESCRIPTION:
URL:https://coparmexnl.org.mx/event/taller-inteligencia-emocional-en-las-relaciones-laborales-2/
LOCATION:On -Line
CATEGORIES:Capacitación
ATTACH;FMTTYPE=image/png:https://coparmexnl.org.mx/wp-content/uploads/2026/04/Taller-Inteligencia-Emocional-en-las-Relaciones-Laborales.png
END:VEVENT
BEGIN:VEVENT
DTSTART;TZID=America/Chicago:20260715T090000
DTEND;TZID=America/Chicago:20260715T130000
DTSTAMP:20260423T115507
CREATED:20260108T151706Z
LAST-MODIFIED:20260108T152658Z
UID:53381-1784106000-1784120400@coparmexnl.org.mx
SUMMARY:PROGRAMA DE DESARROLLO DE HABILIDADES PARA SUPERVISORES Y MANDOS MEDIOS
DESCRIPTION:
URL:https://coparmexnl.org.mx/event/programa-de-desarrollo-de-habilidades-para-supervisores-y-mandos-medios-4/
CATEGORIES:Capacitación
END:VEVENT
BEGIN:VEVENT
DTSTART;TZID=UTC:20260716T090000
DTEND;TZID=UTC:20260716T130000
DTSTAMP:20260423T115507
CREATED:20260108T160558Z
LAST-MODIFIED:20260108T160704Z
UID:52881-1784192400-1784206800@coparmexnl.org.mx
SUMMARY:Autoestima y Seguridad Personal
DESCRIPTION:
URL:https://coparmexnl.org.mx/news/autoestima-y-seguridad-personal-6/
CATEGORIES:Capacitación
END:VEVENT
BEGIN:VEVENT
DTSTART;TZID=UTC:20260720T090000
DTEND;TZID=UTC:20260720T130000
DTSTAMP:20260423T115507
CREATED:20260108T161349Z
LAST-MODIFIED:20260108T161349Z
UID:53394-1784538000-1784552400@coparmexnl.org.mx
SUMMARY:Power BI
DESCRIPTION:
URL:https://coparmexnl.org.mx/news/power-bi-3/
LOCATION:On -Line
CATEGORIES:Capacitación
END:VEVENT
BEGIN:VEVENT
DTSTART;TZID=America/Chicago:20260721T080000
DTEND;TZID=America/Chicago:20260721T170000
DTSTAMP:20260423T115507
CREATED:20260108T162507Z
LAST-MODIFIED:20260108T162507Z
UID:53396-1784620800-1784653200@coparmexnl.org.mx
SUMMARY:Curso/Taller: Integral de Nóminas\, IMSS e INFONAVIT
DESCRIPTION:
URL:https://coparmexnl.org.mx/news/curso-taller-integral-de-nominas-imss-e-infonavit-7/
CATEGORIES:Capacitación
END:VEVENT
BEGIN:VEVENT
DTSTART;TZID=America/Chicago:20260722T090000
DTEND;TZID=America/Chicago:20260722T130000
DTSTAMP:20260423T115507
CREATED:20260108T163103Z
LAST-MODIFIED:20260108T163149Z
UID:53400-1784710800-1784725200@coparmexnl.org.mx
SUMMARY:Conversaciones de Calidad
DESCRIPTION:
URL:https://coparmexnl.org.mx/news/conversaciones-de-calidad-5/
CATEGORIES:Capacitación
END:VEVENT
BEGIN:VEVENT
DTSTART;TZID=UTC:20260723T090000
DTEND;TZID=UTC:20260723T130000
DTSTAMP:20260423T115507
CREATED:20260108T163537Z
LAST-MODIFIED:20260108T163537Z
UID:53404-1784797200-1784811600@coparmexnl.org.mx
SUMMARY:Retroalimentación Efectiva
DESCRIPTION:
URL:https://coparmexnl.org.mx/news/retroalimentacion-efectiva-3/
LOCATION:On -Line
CATEGORIES:Capacitación
END:VEVENT
BEGIN:VEVENT
DTSTART;TZID=UTC:20260729T090000
DTEND;TZID=UTC:20260729T130000
DTSTAMP:20260423T115507
CREATED:20260108T163733Z
LAST-MODIFIED:20260108T163733Z
UID:53407-1785315600-1785330000@coparmexnl.org.mx
SUMMARY:Manejo del Conflicto
DESCRIPTION:
URL:https://coparmexnl.org.mx/news/manejo-del-conflicto-5/
LOCATION:On -Line
CATEGORIES:Capacitación
END:VEVENT
BEGIN:VEVENT
DTSTART;TZID=UTC:20260730T090000
DTEND;TZID=UTC:20260730T130000
DTSTAMP:20260423T115507
CREATED:20260108T163938Z
LAST-MODIFIED:20260108T164009Z
UID:53410-1785402000-1785416400@coparmexnl.org.mx
SUMMARY:Negociación Eficaz
DESCRIPTION:
URL:https://coparmexnl.org.mx/news/negociacion-eficaz-3/
LOCATION:On -Line
CATEGORIES:Capacitación
END:VEVENT
END:VCALENDAR