BEGIN:VCALENDAR
VERSION:2.0
PRODID:-//Coparmex - ECPv5.16.3//NONSGML v1.0//EN
CALSCALE:GREGORIAN
METHOD:PUBLISH
X-WR-CALNAME:Coparmex
X-ORIGINAL-URL:https://coparmexnl.org.mx
X-WR-CALDESC:Eventos para Coparmex
REFRESH-INTERVAL;VALUE=DURATION:PT1H
X-Robots-Tag:noindex
X-PUBLISHED-TTL:PT1H
BEGIN:VTIMEZONE
TZID:UTC
BEGIN:STANDARD
TZOFFSETFROM:+0000
TZOFFSETTO:+0000
TZNAME:UTC
DTSTART:20260101T000000
END:STANDARD
TZID:America/Chicago
BEGIN:DAYLIGHT
TZOFFSETFROM:-0600
TZOFFSETTO:-0500
TZNAME:CDT
DTSTART:20260308T080000
END:DAYLIGHT
BEGIN:STANDARD
TZOFFSETFROM:-0500
TZOFFSETTO:-0600
TZNAME:CST
DTSTART:20261101T070000
END:STANDARD
END:VTIMEZONE
BEGIN:VEVENT
DTSTART;TZID=UTC:20260120T090000
DTEND;TZID=UTC:20260120T130000
DTSTAMP:20260421T034551
CREATED:20251211T163322Z
LAST-MODIFIED:20260105T175045Z
UID:53090-1768899600-1768914000@coparmexnl.org.mx
SUMMARY:Programa PYMES Exitosas
DESCRIPTION:
URL:https://coparmexnl.org.mx/news/programa-pymes-exitosas-4/
CATEGORIES:Capacitación
ATTACH;FMTTYPE=image/jpeg:https://coparmexnl.org.mx/wp-content/uploads/2025/12/Programa-PYMES-exitosas.jpg
END:VEVENT
BEGIN:VEVENT
DTSTART;TZID=America/Chicago:20260120T090000
DTEND;TZID=America/Chicago:20260120T130000
DTSTAMP:20260421T034551
CREATED:20251212T154025Z
LAST-MODIFIED:20260105T175633Z
UID:53099-1768899600-1768914000@coparmexnl.org.mx
SUMMARY:Fundamentos del Liderazgo Empresarial en PYMES
DESCRIPTION:
URL:https://coparmexnl.org.mx/news/fundamentos-del-liderazgo-de-liderazgo-empresarial-en-pymes/
CATEGORIES:Capacitación
ATTACH;FMTTYPE=image/jpeg:https://coparmexnl.org.mx/wp-content/uploads/2025/12/Fundamentos-del-Liderazgo-Empresarial-en-PYMES.jpg
ORGANIZER;CN="Coparmex%20Nuevo%20Le%C3%B3n":MAILTO:capaci@coparmexnl.org.mx
END:VEVENT
BEGIN:VEVENT
DTSTART;TZID=America/Chicago:20260121T090000
DTEND;TZID=America/Chicago:20260121T130000
DTSTAMP:20260421T034551
CREATED:20251212T163307Z
LAST-MODIFIED:20260105T175938Z
UID:53104-1768986000-1769000400@coparmexnl.org.mx
SUMMARY:Planificación Estratégica y Modelo de Negocios para PYMES
DESCRIPTION:
URL:https://coparmexnl.org.mx/news/planificacion-estrategica-y-modelo-de-negocios-para-pymes/
CATEGORIES:Capacitación
ATTACH;FMTTYPE=image/jpeg:https://coparmexnl.org.mx/wp-content/uploads/2025/12/Planificación-Estratégica-y-Modelo-de-Negocios-para-PYMES.jpg
END:VEVENT
BEGIN:VEVENT
DTSTART;TZID=UTC:20260127T090000
DTEND;TZID=UTC:20260127T130000
DTSTAMP:20260421T034551
CREATED:20251212T165658Z
LAST-MODIFIED:20260105T180040Z
UID:53106-1769504400-1769518800@coparmexnl.org.mx
SUMMARY:Gestión Financiera Inteligente para PYMES
DESCRIPTION:
URL:https://coparmexnl.org.mx/news/gestion-financiera-inteligente-para-pymes/
LOCATION:On -Line
CATEGORIES:Capacitación
ATTACH;FMTTYPE=image/jpeg:https://coparmexnl.org.mx/wp-content/uploads/2025/12/Gestión-Financiera-Inteligente-para-PYMES.jpg
END:VEVENT
BEGIN:VEVENT
DTSTART;TZID=UTC:20260128T090000
DTEND;TZID=UTC:20260128T130000
DTSTAMP:20260421T034551
CREATED:20251212T171236Z
LAST-MODIFIED:20260105T180159Z
UID:53108-1769590800-1769605200@coparmexnl.org.mx
SUMMARY:Marketing Digital y Posicionamiento de Marca para PYMES
DESCRIPTION:
URL:https://coparmexnl.org.mx/news/marketing-digital-y-posicionamiento-de-marca-para-pymes/
LOCATION:On -Line
CATEGORIES:Capacitación
ATTACH;FMTTYPE=image/jpeg:https://coparmexnl.org.mx/wp-content/uploads/2025/12/Marketing-Digital-y-Posicionamiento-de-Marca-para-PYMES.jpg
END:VEVENT
END:VCALENDAR