BEGIN:VCALENDAR
VERSION:2.0
PRODID:-//Coparmex - ECPv5.16.3//NONSGML v1.0//EN
CALSCALE:GREGORIAN
METHOD:PUBLISH
X-ORIGINAL-URL:https://coparmexnl.org.mx
X-WR-CALDESC:Eventos para Coparmex
REFRESH-INTERVAL;VALUE=DURATION:PT1H
X-Robots-Tag:noindex
X-PUBLISHED-TTL:PT1H
BEGIN:VTIMEZONE
TZID:UTC
BEGIN:STANDARD
TZOFFSETFROM:+0000
TZOFFSETTO:+0000
TZNAME:UTC
DTSTART:20250101T000000
END:STANDARD
TZID:America/Chicago
BEGIN:DAYLIGHT
TZOFFSETFROM:-0600
TZOFFSETTO:-0500
TZNAME:CDT
DTSTART:20250309T080000
END:DAYLIGHT
BEGIN:STANDARD
TZOFFSETFROM:-0500
TZOFFSETTO:-0600
TZNAME:CST
DTSTART:20251102T070000
END:STANDARD
END:VTIMEZONE
BEGIN:VEVENT
DTSTART;TZID=UTC:20251001T090000
DTEND;TZID=UTC:20251001T130000
DTSTAMP:20260421T104221
CREATED:20250307T173416Z
LAST-MODIFIED:20250307T173416Z
UID:50812-1759309200-1759323600@coparmexnl.org.mx
SUMMARY:Retroalimentación 360°
DESCRIPTION:
URL:https://coparmexnl.org.mx/news/retroalimentacion-360-3/
CATEGORIES:Capacitación
END:VEVENT
BEGIN:VEVENT
DTSTART;TZID=UTC:20251006T163000
DTEND;TZID=UTC:20251006T193000
DTSTAMP:20260421T104221
CREATED:20250815T163124Z
LAST-MODIFIED:20250902T141528Z
UID:52210-1759768200-1759779000@coparmexnl.org.mx
SUMMARY:Curso/Taller: Integral de Nóminas\, IMSS e INFONAVIT
DESCRIPTION:
URL:https://coparmexnl.org.mx/news/curso-taller-integral-de-nominas-imss-e-infonavit-3/
LOCATION:On -Line
CATEGORIES:Capacitación
END:VEVENT
BEGIN:VEVENT
DTSTART;TZID=America/Chicago:20251007T090000
DTEND;TZID=America/Chicago:20251007T130000
DTSTAMP:20260421T104221
CREATED:20250307T181535Z
LAST-MODIFIED:20250307T181917Z
UID:50824-1759827600-1759842000@coparmexnl.org.mx
SUMMARY:Conversaciones de Calidad
DESCRIPTION:
URL:https://coparmexnl.org.mx/news/conversaciones-de-calidad-4/
CATEGORIES:Capacitación
END:VEVENT
BEGIN:VEVENT
DTSTART;TZID=UTC:20251008T090000
DTEND;TZID=UTC:20251008T130000
DTSTAMP:20260421T104221
CREATED:20250307T182758Z
LAST-MODIFIED:20250307T182758Z
UID:50830-1759914000-1759928400@coparmexnl.org.mx
SUMMARY:Negociación
DESCRIPTION:
URL:https://coparmexnl.org.mx/news/negociacion-3/
CATEGORIES:Capacitación
END:VEVENT
BEGIN:VEVENT
DTSTART;TZID=UTC:20251009T090000
DTEND;TZID=UTC:20251009T120000
DTSTAMP:20260421T104221
CREATED:20250826T161426Z
LAST-MODIFIED:20250826T170345Z
UID:52269-1760000400-1760011200@coparmexnl.org.mx
SUMMARY:Inteligencia Artificial aplicada a la Gerencia y Colaboradores
DESCRIPTION:
URL:https://coparmexnl.org.mx/news/inteligencia-artificial-aplicada-a-la-gerencia-y-colaboradores/
LOCATION:On -Line
CATEGORIES:Capacitación
END:VEVENT
BEGIN:VEVENT
DTSTART;TZID=UTC:20251014T090000
DTEND;TZID=UTC:20251014T130000
DTSTAMP:20260421T104221
CREATED:20250307T185638Z
LAST-MODIFIED:20250307T185638Z
UID:50836-1760432400-1760446800@coparmexnl.org.mx
SUMMARY:Administración de Crisis
DESCRIPTION:
URL:https://coparmexnl.org.mx/news/administracion-de-crisis-2/
LOCATION:On -Line
CATEGORIES:Capacitación
END:VEVENT
BEGIN:VEVENT
DTSTART;TZID=UTC:20251015T090000
DTEND;TZID=UTC:20251015T130000
DTSTAMP:20260421T104221
CREATED:20250307T190220Z
LAST-MODIFIED:20250307T190220Z
UID:50849-1760518800-1760533200@coparmexnl.org.mx
SUMMARY:Manejo del Conflicto
DESCRIPTION:
URL:https://coparmexnl.org.mx/news/manejo-del-conflicto-3/
LOCATION:On -Line
CATEGORIES:Capacitación
END:VEVENT
BEGIN:VEVENT
DTSTART;TZID=UTC:20251021T090000
DTEND;TZID=UTC:20251021T130000
DTSTAMP:20260421T104221
CREATED:20250307T205026Z
LAST-MODIFIED:20251014T171759Z
UID:50862-1761037200-1761051600@coparmexnl.org.mx
SUMMARY:Administración del Cambio
DESCRIPTION:
URL:https://coparmexnl.org.mx/news/administracion-del-cambio-3/
CATEGORIES:Capacitación
END:VEVENT
BEGIN:VEVENT
DTSTART;TZID=UTC:20251022T090000
DTEND;TZID=UTC:20251022T120000
DTSTAMP:20260421T104221
CREATED:20250225T165201Z
LAST-MODIFIED:20250908T174417Z
UID:50676-1761123600-1761134400@coparmexnl.org.mx
SUMMARY:Curso/Taller: Excel Basico e Intermedio
DESCRIPTION:
URL:https://coparmexnl.org.mx/news/curso-taller-excel-basico-e-intermedio-4/
CATEGORIES:Capacitación
END:VEVENT
BEGIN:VEVENT
DTSTART;TZID=UTC:20251022T090000
DTEND;TZID=UTC:20251022T130000
DTSTAMP:20260421T104221
CREATED:20250307T204123Z
LAST-MODIFIED:20251014T175251Z
UID:50856-1761123600-1761138000@coparmexnl.org.mx
SUMMARY:Coaching para Líderes
DESCRIPTION:
URL:https://coparmexnl.org.mx/news/coaching-para-lideres-3/
LOCATION:On -Line
CATEGORIES:Capacitación
END:VEVENT
BEGIN:VEVENT
DTSTART;TZID=America/Chicago:20251028T090000
DTEND;TZID=America/Chicago:20251028T130000
DTSTAMP:20260421T104221
CREATED:20250307T205618Z
LAST-MODIFIED:20250307T205618Z
UID:50868-1761642000-1761656400@coparmexnl.org.mx
SUMMARY:Plan Estratégico de Negocios
DESCRIPTION:
URL:https://coparmexnl.org.mx/news/plan-estrategico-de-negocios-4/
CATEGORIES:Capacitación
END:VEVENT
BEGIN:VEVENT
DTSTART;TZID=UTC:20251029T090000
DTEND;TZID=UTC:20251029T130000
DTSTAMP:20260421T104221
CREATED:20250127T204408Z
LAST-MODIFIED:20250911T164702Z
UID:50293-1761728400-1761742800@coparmexnl.org.mx
SUMMARY:Definición de Objetivos\, Estrategias y Tácticas
DESCRIPTION:
URL:https://coparmexnl.org.mx/news/definicion-de-objetivos-estrategias-y-tacticas/
CATEGORIES:Capacitación
END:VEVENT
BEGIN:VEVENT
DTSTART;TZID=UTC:20251029T090000
DTEND;TZID=UTC:20251029T130000
DTSTAMP:20260421T104221
CREATED:20250415T195730Z
LAST-MODIFIED:20251013T161140Z
UID:51176-1761728400-1761742800@coparmexnl.org.mx
SUMMARY:Detección de Necesidades de Capacitación
DESCRIPTION:
URL:https://coparmexnl.org.mx/news/taller-de-deteccion-de-necesidades-de-capacitacion-2/
LOCATION:On -Line
CATEGORIES:Capacitación
END:VEVENT
END:VCALENDAR