BEGIN:VCALENDAR
VERSION:2.0
PRODID:-//Coparmex - ECPv5.16.3//NONSGML v1.0//EN
CALSCALE:GREGORIAN
METHOD:PUBLISH
X-WR-CALNAME:Coparmex
X-ORIGINAL-URL:https://coparmexnl.org.mx
X-WR-CALDESC:Eventos para Coparmex
REFRESH-INTERVAL;VALUE=DURATION:PT1H
X-Robots-Tag:noindex
X-PUBLISHED-TTL:PT1H
BEGIN:VTIMEZONE
TZID:UTC
BEGIN:STANDARD
TZOFFSETFROM:+0000
TZOFFSETTO:+0000
TZNAME:UTC
DTSTART:20250101T000000
END:STANDARD
TZID:America/Chicago
BEGIN:DAYLIGHT
TZOFFSETFROM:-0600
TZOFFSETTO:-0500
TZNAME:CDT
DTSTART:20250309T080000
END:DAYLIGHT
BEGIN:STANDARD
TZOFFSETFROM:-0500
TZOFFSETTO:-0600
TZNAME:CST
DTSTART:20251102T070000
END:STANDARD
END:VTIMEZONE
BEGIN:VEVENT
DTSTART;TZID=UTC:20250807T090000
DTEND;TZID=UTC:20250807T130000
DTSTAMP:20260421T185638
CREATED:20250211T175801Z
LAST-MODIFIED:20250529T163122Z
UID:50496-1754557200-1754571600@coparmexnl.org.mx
SUMMARY:Integración de Equipos de Trabajo
DESCRIPTION:
URL:https://coparmexnl.org.mx/news/integracion-de-equipos-de-trabajo-2/
LOCATION:On -Line
CATEGORIES:Capacitación
END:VEVENT
BEGIN:VEVENT
DTSTART;TZID=UTC:20250808T090000
DTEND;TZID=UTC:20250808T130000
DTSTAMP:20260421T185638
CREATED:20250221T185834Z
LAST-MODIFIED:20250529T191933Z
UID:50603-1754643600-1754658000@coparmexnl.org.mx
SUMMARY:Procesos\, Eficiencia\, Productividad y Calidad
DESCRIPTION:
URL:https://coparmexnl.org.mx/news/procesos-eficiencia-productividad-y-calidad/
LOCATION:On -Line
CATEGORIES:Capacitación
END:VEVENT
BEGIN:VEVENT
DTSTART;TZID=UTC:20250813T090000
DTEND;TZID=UTC:20250813T130000
DTSTAMP:20260421T185638
CREATED:20250211T183646Z
LAST-MODIFIED:20250529T164552Z
UID:50503-1755075600-1755090000@coparmexnl.org.mx
SUMMARY:Competencias Administrativas para Supervisores
DESCRIPTION:
URL:https://coparmexnl.org.mx/news/competencias-administrativas-para-supervisores/
LOCATION:On -Line
CATEGORIES:Capacitación
END:VEVENT
BEGIN:VEVENT
DTSTART;TZID=America/Chicago:20250814T090000
DTEND;TZID=America/Chicago:20250814T130000
DTSTAMP:20260421T185638
CREATED:20250221T183849Z
LAST-MODIFIED:20250529T192309Z
UID:50597-1755162000-1755176400@coparmexnl.org.mx
SUMMARY:EVALUACIÓN DEL DESEMPEÑO DEL EQUIPO DE TRABAJO
DESCRIPTION:
URL:https://coparmexnl.org.mx/news/evaluacion-del-desempeno-del-equipo-de-trabajo/
CATEGORIES:Capacitación
END:VEVENT
BEGIN:VEVENT
DTSTART;TZID=UTC:20250816T090000
DTEND;TZID=UTC:20250816T120000
DTSTAMP:20260421T185638
CREATED:20250129T202508Z
LAST-MODIFIED:20250623T185013Z
UID:50330-1755334800-1755345600@coparmexnl.org.mx
SUMMARY:Entrevista por Competencias
DESCRIPTION:
URL:https://coparmexnl.org.mx/news/entrevista-por-competencias-3/
CATEGORIES:Capacitación
END:VEVENT
BEGIN:VEVENT
DTSTART;TZID=UTC:20250820T090000
DTEND;TZID=UTC:20250820T130000
DTSTAMP:20260421T185638
CREATED:20250211T191428Z
LAST-MODIFIED:20250529T181514Z
UID:50509-1755680400-1755694800@coparmexnl.org.mx
SUMMARY:Confianza y Delegación Efectiva
DESCRIPTION:
URL:https://coparmexnl.org.mx/news/confianza-y-delegacion-efectiva/
LOCATION:On -Line
CATEGORIES:Capacitación
END:VEVENT
BEGIN:VEVENT
DTSTART;TZID=America/Chicago:20250821T090000
DTEND;TZID=America/Chicago:20250821T130000
DTSTAMP:20260421T185638
CREATED:20250211T163347Z
LAST-MODIFIED:20250529T164403Z
UID:50490-1755766800-1755781200@coparmexnl.org.mx
SUMMARY:LIDERAZGO SITUACIONAL
DESCRIPTION:
URL:https://coparmexnl.org.mx/news/liderazgo-situacional-2/
CATEGORIES:Capacitación
END:VEVENT
BEGIN:VEVENT
DTSTART;TZID=America/Chicago:20250826T090000
DTEND;TZID=America/Chicago:20250826T130000
DTSTAMP:20260421T185638
CREATED:20250225T154410Z
LAST-MODIFIED:20250804T182839Z
UID:50670-1756198800-1756213200@coparmexnl.org.mx
SUMMARY:Otorgamiento al Crédito y Cobranza Efectiva
DESCRIPTION:
URL:https://coparmexnl.org.mx/news/curso-otorgamiento-al-credito-y-cobranza-efectiva-2/
CATEGORIES:Capacitación
END:VEVENT
BEGIN:VEVENT
DTSTART;TZID=UTC:20250827T090000
DTEND;TZID=UTC:20250827T130000
DTSTAMP:20260421T185638
CREATED:20250221T191106Z
LAST-MODIFIED:20250529T204044Z
UID:50609-1756285200-1756299600@coparmexnl.org.mx
SUMMARY:Motivación y Reconocimiento en el Trabajo
DESCRIPTION:
URL:https://coparmexnl.org.mx/news/motivacion-y-reconocimiento-en-el-trabajo/
LOCATION:On -Line
CATEGORIES:Capacitación
END:VEVENT
BEGIN:VEVENT
DTSTART;TZID=UTC:20250828T090000
DTEND;TZID=UTC:20250828T130000
DTSTAMP:20260421T185638
CREATED:20250221T170005Z
LAST-MODIFIED:20250529T204309Z
UID:50591-1756371600-1756386000@coparmexnl.org.mx
SUMMARY:Planeación y Organización del Supervisor
DESCRIPTION:
URL:https://coparmexnl.org.mx/news/planeacion-y-organizacion-del-supervisor/
CATEGORIES:Capacitación
END:VEVENT
BEGIN:VEVENT
DTSTART;TZID=UTC:20250828T090000
DTEND;TZID=UTC:20250828T130000
DTSTAMP:20260421T185638
CREATED:20250729T183149Z
LAST-MODIFIED:20250807T174613Z
UID:51980-1756371600-1756386000@coparmexnl.org.mx
SUMMARY:Taller: El Dominio de la Ansiedad
DESCRIPTION:
URL:https://coparmexnl.org.mx/news/taller-el-dominio-de-la-ansiedad/
CATEGORIES:Capacitación
ATTACH;FMTTYPE=image/png:https://coparmexnl.org.mx/wp-content/uploads/2025/07/TALLER-EL-DOMINIO-DE-LA-ANSIEDAD.png
END:VEVENT
END:VCALENDAR