BEGIN:VCALENDAR
VERSION:2.0
PRODID:-//Coparmex - ECPv5.16.3//NONSGML v1.0//EN
CALSCALE:GREGORIAN
METHOD:PUBLISH
X-WR-CALNAME:Coparmex
X-ORIGINAL-URL:https://coparmexnl.org.mx
X-WR-CALDESC:Eventos para Coparmex
REFRESH-INTERVAL;VALUE=DURATION:PT1H
X-Robots-Tag:noindex
X-PUBLISHED-TTL:PT1H
BEGIN:VTIMEZONE
TZID:UTC
BEGIN:STANDARD
TZOFFSETFROM:+0000
TZOFFSETTO:+0000
TZNAME:UTC
DTSTART:20250101T000000
END:STANDARD
TZID:America/Chicago
BEGIN:DAYLIGHT
TZOFFSETFROM:-0600
TZOFFSETTO:-0500
TZNAME:CDT
DTSTART:20250309T080000
END:DAYLIGHT
BEGIN:STANDARD
TZOFFSETFROM:-0500
TZOFFSETTO:-0600
TZNAME:CST
DTSTART:20251102T070000
END:STANDARD
END:VTIMEZONE
BEGIN:VEVENT
DTSTART;TZID=UTC:20250707T090000
DTEND;TZID=UTC:20250707T110000
DTSTAMP:20260421T185635
CREATED:20250221T204011Z
LAST-MODIFIED:20250221T204011Z
UID:50627-1751878800-1751886000@coparmexnl.org.mx
SUMMARY:Curso/Taller: OnBoarding Power
DESCRIPTION:
URL:https://coparmexnl.org.mx/news/curso-taller-onboarding-power-2/
CATEGORIES:Capacitación
END:VEVENT
BEGIN:VEVENT
DTSTART;TZID=UTC:20250711T100000
DTEND;TZID=UTC:20250711T130000
DTSTAMP:20260421T185635
CREATED:20250711T215318Z
LAST-MODIFIED:20250711T215715Z
UID:51858-1752228000-1752238800@coparmexnl.org.mx
SUMMARY:manejo del conflicto para principiantes
DESCRIPTION:
URL:https://coparmexnl.org.mx/news/manejo-del-conflicto-para-principiantes
LOCATION:On -Line
CATEGORIES:Capacitación
ATTACH;FMTTYPE=image/webp:https://coparmexnl.org.mx/wp-content/uploads/2025/07/ImageTransformer.webp
END:VEVENT
BEGIN:VEVENT
DTSTART;VALUE=DATE:20250715
DTEND;VALUE=DATE:20250716
DTSTAMP:20260421T185635
CREATED:20250516T174735Z
LAST-MODIFIED:20250610T230329Z
UID:51399-1752537600-1752623999@coparmexnl.org.mx
SUMMARY:PROGRAMA SMART SKILLS
DESCRIPTION:
URL:https://coparmexnl.org.mx/news/programa-smart-skills/
LOCATION:On -Line
CATEGORIES:Capacitación
END:VEVENT
BEGIN:VEVENT
DTSTART;TZID=America/Chicago:20250716T090000
DTEND;TZID=America/Chicago:20250716T130000
DTSTAMP:20260421T185635
CREATED:20250131T151628Z
LAST-MODIFIED:20250529T181355Z
UID:50356-1752656400-1752670800@coparmexnl.org.mx
SUMMARY:PROGRAMA DE DESARROLLO DE HABILIDADES PARA SUPERVISORES Y MANDOS MEDIOS
DESCRIPTION:
URL:https://coparmexnl.org.mx/event/programa-de-desarrollo-de-habilidades-para-supervisores-y-mandos-medios-3/
CATEGORIES:Capacitación
END:VEVENT
BEGIN:VEVENT
DTSTART;TZID=UTC:20250716T090000
DTEND;TZID=UTC:20250716T130000
DTSTAMP:20260421T185635
CREATED:20250131T182959Z
LAST-MODIFIED:20250529T183146Z
UID:50369-1752656400-1752670800@coparmexnl.org.mx
SUMMARY:Autoestima y Seguridad Personal
DESCRIPTION:
URL:https://coparmexnl.org.mx/news/autoestima-y-seguridad-personal-4/
CATEGORIES:Capacitación
END:VEVENT
BEGIN:VEVENT
DTSTART;TZID=UTC:20250717T090000
DTEND;TZID=UTC:20250717T130000
DTSTAMP:20260421T185635
CREATED:20250211T154713Z
LAST-MODIFIED:20250529T183446Z
UID:50484-1752742800-1752757200@coparmexnl.org.mx
SUMMARY:Manejo del Conflicto
DESCRIPTION:
URL:https://coparmexnl.org.mx/news/manejo-del-conflicto-2/
LOCATION:On -Line
CATEGORIES:Capacitación
END:VEVENT
BEGIN:VEVENT
DTSTART;TZID=America/Chicago:20250723T090000
DTEND;TZID=America/Chicago:20250723T130000
DTSTAMP:20260421T185635
CREATED:20250207T204712Z
LAST-MODIFIED:20250527T201005Z
UID:50466-1753261200-1753275600@coparmexnl.org.mx
SUMMARY:Conversaciones de Calidad
DESCRIPTION:
URL:https://coparmexnl.org.mx/news/conversaciones-de-calidad-3/
CATEGORIES:Capacitación
END:VEVENT
BEGIN:VEVENT
DTSTART;TZID=UTC:20250724T090000
DTEND;TZID=UTC:20250724T130000
DTSTAMP:20260421T185635
CREATED:20250211T152604Z
LAST-MODIFIED:20250527T201417Z
UID:50478-1753347600-1753362000@coparmexnl.org.mx
SUMMARY:Retroalimentación Efectiva
DESCRIPTION:
URL:https://coparmexnl.org.mx/news/retroalimentacion-efectiva-2/
LOCATION:On -Line
CATEGORIES:Capacitación
END:VEVENT
BEGIN:VEVENT
DTSTART;TZID=UTC:20250730T090000
DTEND;TZID=UTC:20250730T130000
DTSTAMP:20260421T185635
CREATED:20250529T185048Z
LAST-MODIFIED:20250529T185048Z
UID:51433-1753866000-1753880400@coparmexnl.org.mx
SUMMARY:Inteligencia Emocional
DESCRIPTION:
URL:https://coparmexnl.org.mx/news/inteligencia-emocional-3/
CATEGORIES:Capacitación
END:VEVENT
BEGIN:VEVENT
DTSTART;TZID=UTC:20250731T090000
DTEND;TZID=UTC:20250731T130000
DTSTAMP:20260421T185635
CREATED:20250321T192953Z
LAST-MODIFIED:20250528T170958Z
UID:51005-1753952400-1753966800@coparmexnl.org.mx
SUMMARY:Negociación Eficaz
DESCRIPTION:
URL:https://coparmexnl.org.mx/news/negociacion-eficaz/
LOCATION:On -Line
CATEGORIES:Capacitación
END:VEVENT
END:VCALENDAR