BEGIN:VCALENDAR
VERSION:2.0
PRODID:-//Coparmex - ECPv5.16.3//NONSGML v1.0//EN
CALSCALE:GREGORIAN
METHOD:PUBLISH
X-WR-CALNAME:Coparmex
X-ORIGINAL-URL:https://coparmexnl.org.mx
X-WR-CALDESC:Eventos para Coparmex
REFRESH-INTERVAL;VALUE=DURATION:PT1H
X-Robots-Tag:noindex
X-PUBLISHED-TTL:PT1H
BEGIN:VTIMEZONE
TZID:UTC
BEGIN:STANDARD
TZOFFSETFROM:+0000
TZOFFSETTO:+0000
TZNAME:UTC
DTSTART:20250101T000000
END:STANDARD
TZID:America/Chicago
BEGIN:DAYLIGHT
TZOFFSETFROM:-0600
TZOFFSETTO:-0500
TZNAME:CDT
DTSTART:20250309T080000
END:DAYLIGHT
BEGIN:STANDARD
TZOFFSETFROM:-0500
TZOFFSETTO:-0600
TZNAME:CST
DTSTART:20251102T070000
END:STANDARD
END:VTIMEZONE
BEGIN:VEVENT
DTSTART;TZID=UTC:20250401T090000
DTEND;TZID=UTC:20250401T130000
DTSTAMP:20260421T202630
CREATED:20250127T162509Z
LAST-MODIFIED:20250127T162509Z
UID:50240-1743498000-1743512400@coparmexnl.org.mx
SUMMARY:Autoestima y Seguridad Personal
DESCRIPTION:
URL:https://coparmexnl.org.mx/news/autoestima-y-seguridad-personal-3/
CATEGORIES:Capacitación
END:VEVENT
BEGIN:VEVENT
DTSTART;TZID=UTC:20250402T090000
DTEND;TZID=UTC:20250402T130000
DTSTAMP:20260421T202630
CREATED:20250127T164508Z
LAST-MODIFIED:20250127T164508Z
UID:50246-1743584400-1743598800@coparmexnl.org.mx
SUMMARY:Retroalimentación 360°
DESCRIPTION:
URL:https://coparmexnl.org.mx/news/retroalimentacion-360-2/
CATEGORIES:Capacitación
END:VEVENT
BEGIN:VEVENT
DTSTART;TZID=America/Chicago:20250403T090000
DTEND;TZID=America/Chicago:20250403T130000
DTSTAMP:20260421T202630
CREATED:20250121T201452Z
LAST-MODIFIED:20250401T200853Z
UID:50145-1743670800-1743685200@coparmexnl.org.mx
SUMMARY:Otorgamiento al Crédito y Cobranza Efectiva
DESCRIPTION:
URL:https://coparmexnl.org.mx/news/curso-otorgamiento-al-credito-y-cobranza-efectiva/
CATEGORIES:Capacitación
END:VEVENT
BEGIN:VEVENT
DTSTART;TZID=UTC:20250407T163000
DTEND;TZID=UTC:20250407T193000
DTSTAMP:20260421T202630
CREATED:20250124T193155Z
LAST-MODIFIED:20250304T192127Z
UID:50218-1744043400-1744054200@coparmexnl.org.mx
SUMMARY:Curso/Taller: Integral de Nóminas\, IMSS e INFONAVIT
DESCRIPTION:
URL:https://coparmexnl.org.mx/news/curso-taller-integral-de-nominas-imss-e-infonavit/
LOCATION:On -Line
CATEGORIES:Capacitación
END:VEVENT
BEGIN:VEVENT
DTSTART;TZID=UTC:20250410T090000
DTEND;TZID=UTC:20250410T130000
DTSTAMP:20260421T202630
CREATED:20250127T172454Z
LAST-MODIFIED:20250326T212928Z
UID:50257-1744275600-1744290000@coparmexnl.org.mx
SUMMARY:Negociación
DESCRIPTION:
URL:https://coparmexnl.org.mx/news/negociacion/
CATEGORIES:Capacitación
END:VEVENT
BEGIN:VEVENT
DTSTART;TZID=UTC:20250422T090000
DTEND;TZID=UTC:20250422T130000
DTSTAMP:20260421T202630
CREATED:20250127T174033Z
LAST-MODIFIED:20250206T164908Z
UID:50263-1745312400-1745326800@coparmexnl.org.mx
SUMMARY:Administración de Crisis
DESCRIPTION:
URL:https://coparmexnl.org.mx/news/administracion-de-crisis/
LOCATION:On -Line
CATEGORIES:Capacitación
END:VEVENT
BEGIN:VEVENT
DTSTART;TZID=UTC:20250423T090000
DTEND;TZID=UTC:20250423T120000
DTSTAMP:20260421T202630
CREATED:20250121T194423Z
LAST-MODIFIED:20250321T160144Z
UID:50136-1745398800-1745409600@coparmexnl.org.mx
SUMMARY:Curso/Taller: Excel Basico e Intermedio
DESCRIPTION:
URL:https://coparmexnl.org.mx/news/curso-taller-excel-basico-e-intermedio/
CATEGORIES:Capacitación
END:VEVENT
BEGIN:VEVENT
DTSTART;TZID=UTC:20250423T090000
DTEND;TZID=UTC:20250423T130000
DTSTAMP:20260421T202630
CREATED:20250127T185706Z
LAST-MODIFIED:20250206T170624Z
UID:50269-1745398800-1745413200@coparmexnl.org.mx
SUMMARY:Manejo del Conflicto
DESCRIPTION:
URL:https://coparmexnl.org.mx/news/manejo-del-conflicto/
LOCATION:On -Line
CATEGORIES:Capacitación
END:VEVENT
BEGIN:VEVENT
DTSTART;TZID=UTC:20250428T090000
DTEND;TZID=UTC:20250428T130000
DTSTAMP:20260421T202630
CREATED:20250124T204608Z
LAST-MODIFIED:20250124T204608Z
UID:50233-1745830800-1745845200@coparmexnl.org.mx
SUMMARY:TALLER DE ORTOGRAFÍA Y REDACCIÓN EMPRESARIAL
DESCRIPTION:
URL:https://coparmexnl.org.mx/news/taller-de-ortografia-y-redaccion-empresarial-3/
CATEGORIES:Capacitación
END:VEVENT
BEGIN:VEVENT
DTSTART;TZID=America/Chicago:20250428T090000
DTEND;TZID=America/Chicago:20250428T130000
DTSTAMP:20260421T202630
CREATED:20250127T171044Z
LAST-MODIFIED:20250314T174743Z
UID:50251-1745830800-1745845200@coparmexnl.org.mx
SUMMARY:Conversaciones de Calidad
DESCRIPTION:
URL:https://coparmexnl.org.mx/news/conversaciones-de-calidad/
CATEGORIES:Capacitación
END:VEVENT
BEGIN:VEVENT
DTSTART;TZID=UTC:20250429T090000
DTEND;TZID=UTC:20250429T130000
DTSTAMP:20260421T202630
CREATED:20250127T191126Z
LAST-MODIFIED:20250206T171247Z
UID:42854-1745917200-1745931600@coparmexnl.org.mx
SUMMARY:Coaching para Líderes
DESCRIPTION:
URL:https://coparmexnl.org.mx/news/coaching-para-lideres-2/
LOCATION:On -Line
CATEGORIES:Capacitación
END:VEVENT
END:VCALENDAR